Workbook

Sheet plan studiów I st. stacjon.
B6: Informacje ogólne o programie studiów
B8: KIERUNEK: | D8: INŻYNIERIA ŚRODOWISKA
B9: PROFIL: | D9: PROFIL OGÓLNOAKADEMICKI
B10: POZIOM STUDIÓW: | D10: STUDIA PIERWSZEGO STOPNIA (3,5-letnie, inżynierskie)
B11: FORMA STUDIÓW: | D11: STUDIA STACJONARNE
B14: łączna liczba godzin zajęć dydaktycznych | G14: =(G233) -> 2295 | H14: godz.
B15: łączna liczba pkt. ECTS jaką student musi uzyskać w ramach zajęć prowadzonych z bezpośrednim udziałem NA lub innych osób prowadzących zajęcia (w przypadku studiów stacjonarnych ponad 50% z ogólnej liczby pkt. ECTS) | G15: 107 | H15: pkt. ECTS
B16: liczba pkt. ECTS jaką student musi uzyskać w ramach zajęć z dziedziny nauk humanistycznych lub nauk społecznych (nie mniej niż 5 pkt. ECTS, nie dotyczy kierunków przyporządkowanych do dziedziny nauk humanistycznych lub nauk społecznych) | G16: 8 | H16: pkt. ECTS
B17: liczba pkt. ECTS za zajęcia do wyboru (nie mniej niż 30% z ogólnej liczby pkt. ECTS) | G17: 63 | H17: pkt. ECTS
B18: zajęcia związane z prowadzoną w uczelni działalnością naukową w dyscyplinie / dyscyplinach, do których przyporządkowano kierunek studiów wskazać wyłącznie dla kierunku o profilu ogólnoakademickim (ponad 50% z ogólnej liczby pkt. ECTS) | G18: 119 | H18: pkt. ECTS
B19: zajęcia kształtujące umiejętności praktyczne wskazać wyłacznie dla kierunku o profilu praktycznym (ponad 50% z ogólnej liczby pkt. ECTS) | G19: 0 | H19: pkt. ECTS
D45: PLAN STUDIÓW NR IX
A46: WYDZIAŁ BUDOWNICTWA, ARCHITEKTURY
A47: I INŻYNIERII ŚRODOWISKA | D47: PROFIL: | I47: =(D9) -> PROFIL OGÓLNOAKADEMICKI
D48: POZIOM STUDIÓW: | I48: =(D10) -> STUDIA PIERWSZEGO STOPNIA (3,5-letnie, inżynierskie)
A49: UNIWERSYTET TECHNOLOGICZNO-PRZYRODNICZY | D49: FORMA STUDIÓW: | I49: =(D11) -> STUDIA STACJONARNE | AB49: ……………………….
A50: IM. J. i J. ŚNIADECKICH | D50: KIERUNEK: | I50: =(D8) -> INŻYNIERIA ŚRODOWISKA | AB50: pieczątka uczelni
A51: w BYDGOSZCZY
A54: Pozycja planu | B54: NAZWA PRZEDMIOTU / ZAJĘĆ | D54: Liczba | G54: GODZINY | L54: ROZKŁAD ZAJĘĆ w SEMESTRZE
G55: Razem | H55: w tym | L55: sem. I | P55: sem. II | T55: sem. III | X55: sem. IV | AB55: sem. V | AF55: sem. VI | AJ55: sem. VII
D56: egza-mi-nów | E56: zali-czeń | F56: pkt. ECTS | H56: W | I56: Ć | J56: L | K56: P / S | L56: Liczba godzin w semestrze
L57: W | M57: Ć | N57: L | O57: P/S | P57: W | Q57: Ć | R57: L | S57: P/S | T57: W | U57: Ć | V57: L | W57: P/S | X57: W | Y57: Ć | Z57: L | AA57: P/S | AB57: W | AC57: Ć | AD57: L | AE57: P/S | AF57: W | AG57: Ć | AH57: L | AI57: P/S | AJ57: W | AK57: Ć | AL57: L | AM57: P/S
A59: A. | B59: PRZEDMIOTY OGÓLNE
A60: 01. | B60: Język obcy2 | E60: 4 | F60: 8 | G60: =SUM(H60:K60) -> 120 | J60: =N60+V60+Z60+AD60+AH60+AL60 -> 120 | V60: 30 | Z60: 30 | AD60: 30 | AH60: 30
A61: 02. | B61: Wychowanie fizyczne | E61: 2 | G61: =SUM(H61:K61) -> 60 | I61: =M61+Q61+U61+Y61+AC61+AG61+AK61 -> 60 | U61: 30 | Y61: 30
A62: 03. | B62: Podstawy przedsiębiorczości | E62: 1 | F62: 2 | G62: =SUM(H62:K62) -> 15 | H62: =L62+P62+T62+X62+AB62+AF62+AJ62 -> 15 | AJ62: 15
A63: 04. | B63: Przedmioty humanistyczne3 | E63: 2 | F63: 4 | G63: =SUM(H63:K63) -> 30 | H63: =L63+P63+T63+X63+AB63+AF63+AJ63 -> 30 | L63: 15 | AJ63: 15
A64: 05. | B64: Ochrona własności intelektualnej oraz BHP | E64: 1 | F64: 2 | G64: =SUM(H64:K64) -> 15 | H64: =L64+P64+T64+X64+AB64+AF64+AJ64 -> 15 | L64: 15
A65: 06. | B65: Prawo w inżynierii środowiska | E65: 1 | F65: 2 | G65: =SUM(H65:K65) -> 15 | H65: =L65+P65+T65+X65+AB65+AF65+AJ65 -> 15 | AF65: 15
B67: RAZEM | D67: =SUM(D60:D66) -> 0 | E67: =SUM(E60:E66) -> 11 | F67: =SUM(F60:F66) -> 18 | G67: =SUM(G60:G66) -> 255 | H67: =SUM(H60:H66) -> 75 | I67: =SUM(I60:I66) -> 60 | J67: =SUM(J60:J66) -> 120 | K67: =SUM(K60:K66) -> 0 | ... AM67: =SUM(AM60:AM66) -> 0
L68: =SUM(L67:O67) -> 30 | P68: =SUM(P67:S67) -> 0 | T68: =SUM(T67:W67) -> 60 | Y68: =SUM(X67:AA67) -> 60 | AB68: =SUM(AB67:AE67) -> 30 | AF68: =SUM(AF67:AI67) -> 45 | AJ68: =SUM(AJ67:AM67) -> 30
A69: PODSUMOWANIE ARKUSZA 1 | D69: egza-mi-nów | E69: zali-czeń | F69: pkt. ECTS | G69: Razem | H69: W | I69: Ć | J69: L | K69: P / S | L69: sem. I | P69: sem. II | T69: sem. III | X69: sem. IV | AB69: sem. V | AF69: sem. VI | AJ69: sem. VII
L70: W | M70: Ć | N70: L | O70: P/S | P70: W | Q70: Ć | R70: L | S70: P/S | T70: W | U70: Ć | V70: L | W70: P/S | X70: W | Y70: Ć | Z70: L | AA70: P/S | AB70: W | AC70: Ć | AD70: L | AE70: P/S | AF70: W | AG70: Ć | AH70: L | AI70: P/S | AJ70: W | AK70: Ć | AL70: L | AM70: P/S
D72: =SUM(D67) -> 0 | E72: =SUM(E67) -> 11 | F72: =SUM(F67) -> 18 | G72: =SUM(G67) -> 255 | H72: =SUM(H67) -> 75 | I72: =SUM(I67) -> 60 | J72: =SUM(J67) -> 120 | K72: =SUM(K67) -> 0 | ... AM72: =SUM(AM67) -> 0 | AO72: SUMA
L73: =SUM(L72:O72) -> 30 | P73: =SUM(P72:S72) -> 0 | T73: =SUM(T72:W72) -> 60 | X73: =SUM(X72:AA72) -> 60 | AB73: =SUM(AB72:AE72) -> 30 | AF73: =SUM(AF72:AI72) -> 45 | AJ73: =SUM(AJ72:AM72) -> 30 | AO73: =SUM(L73:AM73) -> 255
D74: Liczba: | G74: egzaminów | L74: 0 | P74: 0 | T74: 0 | X74: 0 | AB74: 0 | AF74: 0 | AJ74: 0 | AO74: =SUM(L74:AM74) -> 0
G75: zaliczeń | L75: 2 | P75: 0 | T75: 2 | X75: 2 | AB75: 1 | AF75: 2 | AJ75: 2 | AO75: =SUM(L75:AM75) -> 11
G76: pkt. ECTS | L76: 4 | P76: 0 | T76: 2 | X76: 2 | AB76: 2 | AF76: 4 | AJ76: 4 | AO76: =SUM(L76:AM76) -> 18
AC77: Obowiązuje od roku akademickiego: 2021/2022
A78: UWAGI:
...

Sheet plan studiów I st. niestacjon.
C5: Informacje ogólne o programie studiów
C7: KIERUNEK: | D7: INŻYNIERIA ŚRODOWISKA
C8: PROFIL: | D8: PROFIL OGÓLNOAKADEMICKI
C9: POZIOM STUDIÓW: | D9: STUDIA PIERWSZEGO STOPNIA (4-letnie inżynierskie)
C10: FORMA STUDIÓW: | D10: STUDIA NIESTACJONARNE
C13: łączna liczba godzin zajęć dydaktycznych | H13: =(G232) -> 1448 | I13: godz.
C14: łączna liczba pkt. ECTS jaką student musi uzyskać w ramach zajęć prowadzonych z bezpośrednim udziałem NA lub innych osób prowadzących zajęcia (w przypadku studiów stacjonarnych ponad 50% z ogólnej liczby pkt. ECTS) | H14: 53 | I14: pkt. ECTS
C15: liczba pkt. ECTS jaką student musi uzyskać w ramach zajęć z dziedziny nauk humanistycznych lub nauk społecznych (nie mniej niż 5 pkt. ECTS, nie dotyczy kierunków przyporządkowanych do dziedziny nauk humanistycznych lub nauk społecznych) | H15: 8 | I15: pkt. ECTS
C16: liczba pkt. ECTS za zajęcia do wyboru (nie mniej niż 30% z ogólnej liczby pkt. ECTS) | H16: 63 | I16: pkt. ECTS
C17: zajęcia związane z prowadzoną w uczelni działalnością naukową w dyscyplinie / dyscyplinach, do których przyporządkowano kierunek studiów wskazać wyłącznie dla kierunku o profilu ogólnoakademickim (ponad 50% z ogólnej liczby pkt. ECTS) | H17: 119 | I17: pkt. ECTS
C18: zajęcia kształtujące umiejętności praktyczne wskazać wyłacznie dla kierunku o profilu praktycznym (ponad 50% z ogólnej liczby pkt. ECTS) | H18: 0 | I18: pkt. ECTS
D45: PLAN STUDIÓW NR IX
A46: WYDZIAŁ BUDOWNICTWA, ARCHITEKTURY
A47: I INŻYNIERII ŚRODOWISKA | D47: PROFIL: | I47: =(D8) -> PROFIL OGÓLNOAKADEMICKI
D48: POZIOM STUDIÓW: | I48: =(D9) -> STUDIA PIERWSZEGO STOPNIA (4-letnie inżynierskie)
A49: UNIWERSYTET TECHNOLOGICZNO-PRZYRODNICZY | D49: FORMA STUDIÓW: | I49: =(D10) -> STUDIA NIESTACJONARNE | AF49: …………………..
A50: IM. J. i J. ŚNIADECKICH | D50: KIERUNEK: | I50: =(D7) -> INŻYNIERIA ŚRODOWISKA | AF50: pieczątka uczelni
A51: w BYDGOSZCZY
A54: Pozycja planu | B54: NAZWA PRZEDMIOTU / ZAJĘĆ | D54: Liczba | G54: GODZINY | L54: ROZKŁAD ZAJĘĆ w SEMESTRZE
G55: Razem | H55: w tym | L55: sem. I | P55: sem. II | T55: sem. III | X55: sem. IV | AB55: sem. V | AF55: sem. VI | AJ55: sem. VII | AN55: sem. VIII
D56: egza-mi-nów | E56: zali-czeń | F56: pkt. ECTS | H56: W | I56: Ć | J56: L | K56: P / S | L56: Liczba godzin w semestrze
L57: W | M57: Ć | N57: L | O57: P/S | P57: W | Q57: Ć | R57: L | S57: P/S | T57: W | U57: Ć | V57: L | W57: P/S | X57: W | Y57: Ć | Z57: L | AA57: P/S | AB57: W | AC57: Ć | AD57: L | AE57: P/S | AF57: W | AG57: Ć | AH57: L | AI57: P/S | AJ57: W | AK57: Ć | AL57: L | AM57: P/S | AN57: W | AO57: Ć | AP57: L | AQ57: P/S
A59: A. | B59: PRZEDMIOTY OGÓLNE
A60: 01. | B60: Język obcy2 | E60: 3 | F60: 8 | G60: =SUM(H60:K60) -> 72 | H60: =(L60+P60+T60+X60+AB60+AF60+AJ60+AN60) -> 0 | I60: =(M60+Q60+U60+Y60+AC60+AG60+AK60+AO60) -> 0 | J60: =(N60+R60+V60+Z60+AD60+AH60+AL60+AP60) -> 72 | K60: =(O60+S60+W60+AA60+AE60+AI60+AM60+AQ60) -> 0 | V60: 24 | Z60: 24 | AD60: 24
A61: 02. | B61: Podstawy przedsiębiorczości | E61: 1 | F61: 2 | G61: =SUM(H61:K61) -> 8 | H61: =(L61+P61+T61+X61+AB61+AF61+AJ61+AN61) -> 8 | I61: =(M61+Q61+U61+Y61+AC61+AG61+AK61+AO61) -> 0 | J61: =(N61+R61+V61+Z61+AD61+AH61+AL61+AP61) -> 0 | K61: =(O61+S61+W61+AA61+AE61+AI61+AM61+AQ61) -> 0 | AN61: 8
A62: 03. | B62: Przedmioty humanistyczne3 | E62: 2 | F62: 4 | G62: =SUM(H62:K62) -> 24 | H62: =(L62+P62+T62+X62+AB62+AF62+AJ62+AN62) -> 24 | I62: =(M62+Q62+U62+Y62+AC62+AG62+AK62+AO62) -> 0 | J62: =(N62+R62+V62+Z62+AD62+AH62+AL62+AP62) -> 0 | K62: =(O62+S62+W62+AA62+AE62+AI62+AM62+AQ62) -> 0 | L62: 16 | AN62: 8
A63: 04. | B63: Ochrona własności intelektualnej oraz BHP | E63: 1 | F63: 2 | G63: =SUM(H63:K63) -> 16 | H63: =(L63+P63+T63+X63+AB63+AF63+AJ63+AN63) -> 16 | I63: =(M63+Q63+U63+Y63+AC63+AG63+AK63+AO63) -> 0 | J63: =(N63+R63+V63+Z63+AD63+AH63+AL63+AP63) -> 0 | K63: =(O63+S63+W63+AA63+AE63+AI63+AM63+AQ63) -> 0 | L63: 16
A64: 05. | B64: Prawo w inżynierii środowiska | E64: 1 | F64: 2 | G64: =SUM(H64:K64) -> 16 | H64: =(L64+P64+T64+X64+AB64+AF64+AJ64+AN64) -> 16 | I64: =(M64+Q64+U64+Y64+AC64+AG64+AK64+AO64) -> 0 | J64: =(N64+R64+V64+Z64+AD64+AH64+AL64+AP64) -> 0 | K64: =(O64+S64+W64+AA64+AE64+AI64+AM64+AQ64) -> 0 | AF64: 16
B66: RAZEM | D66: =SUM(D60:D65) -> 0 | E66: =SUM(E60:E65) -> 8 | F66: =SUM(F60:F65) -> 18 | G66: =SUM(G60:G65) -> 136 | H66: =SUM(H60:H65) -> 64 | I66: =SUM(I60:I65) -> 0 | J66: =SUM(J60:J65) -> 72 | K66: =SUM(K60:K65) -> 0 | ... AQ66: =SUM(AQ60:AQ65) -> 0
L67: =SUM(L66:O66) -> 32 | P67: =SUM(P66:S66) -> 0 | T67: =SUM(T66:W66) -> 24 | X67: =SUM(X66:AA66) -> 24 | AB67: =SUM(AB66:AE66) -> 24 | AF67: =SUM(AF66:AI66) -> 16 | AJ67: =SUM(AJ66:AM66) -> 0 | AN67: =SUM(AN66:AQ66) -> 16
A68: PODSUMOWANIE ARKUSZA 1 | D68: egza-mi-nów | E68: zali-czeń | F68: pkt. ECTS | G68: Razem | H68: W | I68: Ć | J68: L | K68: P / S | L68: sem. I | P68: sem. II | T68: sem. III | X68: sem. IV | AB68: sem. V | AF68: sem. VI | AJ68: sem. VII | AN68: sem. VIII
L69: W | M69: Ć | N69: L | O69: P/S | P69: W | Q69: Ć | R69: L | S69: P/S | T69: W | U69: Ć | V69: L | W69: P/S | X69: W | Y69: Ć | Z69: L | AA69: P/S | AB69: W | AC69: Ć | AD69: L | AE69: P/S | AF69: W | AG69: Ć | AH69: L | AI69: P/S | AJ69: W | AK69: Ć | AL69: L | AM69: P/S | AN69: W | AO69: Ć | AP69: L | AQ69: P/S
D71: =SUM(D66) -> 0 | E71: =SUM(E66) -> 8 | F71: =SUM(F66) -> 18 | G71: =SUM(G66) -> 136 | H71: =SUM(H66) -> 64 | I71: =SUM(I66) -> 0 | J71: =SUM(J66) -> 72 | K71: =SUM(K66) -> 0 | ... AQ71: =SUM(AQ66) -> 0 | AS71: SUMA
L72: =SUM(L71:O71) -> 32 | P72: =SUM(P71:S71) -> 0 | T72: =SUM(T71:W71) -> 24 | X72: =SUM(X71:AA71) -> 24 | AB72: =SUM(AB71:AE71) -> 24 | AF72: =SUM(AF71:AI71) -> 16 | AJ72: =SUM(AJ71:AM71) -> 0 | AN72: =SUM(AN71:AQ71) -> 16 | AS72: =SUM(L72:AQ72) -> 136
D73: Liczba: | G73: egzaminów | L73: 0 | P73: 0 | T73: 0 | X73: 0 | AB73: 0 | AF73: 0 | AJ73: 0 | AN73: 0 | AS73: =SUM(L73:AQ73) -> 0
G74: zaliczeń | L74: 3 | P74: 0 | T74: 1 | X74: 1 | AB74: 1 | AF74: 1 | AJ74: 0 | AN74: 2 | AS74: =SUM(L74:AQ74) -> 9
G75: pkt. ECTS | L75: 4 | P75: 0 | T75: 3 | X75: 3 | AB75: 2 | AF75: 2 | AJ75: 0 | AN75: 4 | AS75: =SUM(L75:AQ75) -> 18
AG76: Obowiązuje od roku akademickiego: 2021/2022
A77: UWAGI:
B78: ='plan studiów I st. stacjon.'!B79 -> 1. Studenta obowiązuje na I roku udział we wszystkich zajęciach, na latach wyższych udział we wszystkich ćwiczeniach (audytoryjne, laboratoryjne, projektowe i seminaria)
...

Sheet plan studiów II st. stacjon.
B4: Informacje ogólne o programie studiów
B6: KIERUNEK: | C6: INŻYNIERIA ŚRODOWISKA
B7: PROFIL: | C7: PROFIL OGÓLNOAKADEMICKI
B8: POZIOM STUDIÓW: | C8: STUDIA DRUGIEGO STOPNIA (1,5-letnie)
B9: FORMA STUDIÓW: | C9: STUDIA STACJONARNE
B12: łączna liczba godzin zajęć dydaktycznych | G12: =(G160) -> 925 | H12: godz.
B13: łączna liczba pkt. ECTS jaką student musi uzyskać w ramach zajęć prowadzonych z bezpośrednim udziałem NA lub innych osób prowadzących zajęcia (w przypadku studiów stacjonarnych ponad 50% z ogólnej liczby pkt. ECTS) | G13: 48 | H13: pkt. ECTS
B14: liczba pkt. ECTS jaką student musi uzyskać w ramach zajęć z dziedziny nauk humanistycznych lub nauk społecznych (nie mniej niż 5 pkt. ECTS, nie dotyczy kierunków przyporządkowanych do dziedziny nauk humanistycznych lub nauk społecznych) | G14: 5 | H14: pkt. ECTS
B15: liczba pkt. ECTS za zajęcia do wyboru (nie mniej niż 30% z ogólnej liczby pkt. ECTS) | G15: 54 | H15: pkt. ECTS
B16: zajęcia związane z prowadzoną w uczelni działalnością naukową w dyscyplinie / dyscyplinach, do których przyporządkowano kierunek studiów wskazać wyłącznie dla kierunku o profilu ogólnoakademickim (ponad 50% z ogólnej liczby pkt. ECTS) | G16: 60 | H16: pkt. ECTS
B17: zajęcia kształtujące umiejętności praktyczne wskazać wyłacznie dla kierunku o profilu praktycznym (ponad 50% z ogólnej liczby pkt. ECTS) | G17: 0 | H17: pkt. ECTS
D29: PLAN STUDIÓW NR VIII
A30: WYDZIAŁ BUDOWNICTWA, ARCHITEKTURY
A31: I INŻYNIERII ŚRODOWISKA
D32: PROFIL: | H32: =(C7) -> PROFIL OGÓLNOAKADEMICKI
D33: POZIOM STUDIÓW: | H33: =(C8) -> STUDIA DRUGIEGO STOPNIA (1,5-letnie)
A34: UNIWERSYTET TECHNOLOGICZNO - PRZYRODNICZY | D34: FORMA STUDIÓW: | H34: =(C9) -> STUDIA STACJONARNE | T34: ……………………………..
A35: IM. J. i J. ŚNIADECKICH | D35: KIERUNEK: | H35: =(C6) -> INŻYNIERIA ŚRODOWISKA | T35: pieczątka uczelni
A36: w BYDGOSZCZY | D36: SPECJALNOŚĆ: | H36: INSTALACJE SANITARNE I PRZEMYSŁOWE
H37: KONWENCJONALNE I ODNAWIALNE ŹRÓDŁA ENERGII
A39: Pozycja planu | B39: NAZWA PRZEDMIOTU / ZAJĘĆ | D39: Liczba | G39: GODZINY | L39: ROZKŁAD ZAJĘĆ W SEMESTRZE
G40: Razem | H40: w tym | L40: sem. I | P40: sem. II | T40: sem. III | X40: sem. IV
D41: egza-mi-nów | E41: zali-czeń | F41: pkt. ECTS | H41: W | I41: Ć | J41: L | K41: P / S | L41: Liczba godzin w semestrze
L42: W | M42: Ć | N42: L | O42: P | P42: W | Q42: Ć | R42: L | S42: P | T42: W | U42: Ć | V42: L | W42: P | X42: W | Y42: Ć | Z42: L | AA42: P
O43: S | S43: S | W43: S | AA43: S
A44: A. | B44: PRZEDMIOTY PODSTAWOWE
A45: 01. | B45: Statystyka | D45: 1 | E45: 1 | F45: 2 | G45: =SUM(H45:K45) -> 20 | H45: =(L45+P45+T45+X45) -> 10 | I45: =(M45+Q45+U45+Y45) -> 10 | J45: =(N45+R45+V45+Z45) -> 0 | K45: =(O45+S45+W45+AA45) -> 0 | L45: 10 | M45: 10
A46: 02. | B46: Chemia środowiska | D46: 1 | E46: 1 | F46: 2 | G46: =SUM(H46:K46) -> 30 | H46: =(L46+P46+T46+X46) -> 10 | I46: =(M46+Q46+U46+Y46) -> 0 | J46: =(N46+R46+V46+Z46) -> 20 | K46: =(O46+S46+W46+AA46) -> 0 | L46: 10 | N46: 20
A47: 03. | B47: Współczesne wyzwania i zagrożenia zawodowe | E47: 1 | F47: 2 | G47: 10 | H47: 10 | L47: 10
A48: 04. | B48: Prawo (cywilne, administracyjne, gospodarcze) - ang. | E48: 1 | F48: 3 | G48: 30 | H48: 30 | T48: 30
B49: RAZEM | D49: =SUM(D45:D48) -> 2 | E49: =SUM(E45:E48) -> 4 | F49: =SUM(F45:F48) -> 9 | G49: =SUM(G45:G48) -> 90 | H49: =SUM(H45:H48) -> 60 | I49: =SUM(I45:I48) -> 10 | J49: =SUM(J45:J48) -> 20 | K49: =SUM(K45:K48) -> 0 | ... AA49: =SUM(AA45:AA48) -> 0
L50: =SUM(L49:O49) -> 60 | P50: =SUM(P49:S49) -> 0 | T50: =SUM(T49:W49) -> 30 | X50: =SUM(X49:AA49) -> 0
A51: PODSUMOWANIE ARKUSZA 1 | D51: egza-mi-nów | E51: zali-czeń | F51: pkt. ECTS | G51: Razem | H51: W | I51: Ć | J51: L | K51: P / S | L51: sem. I | P51: sem. II | T51: sem. III | X51: sem. IV
L52: W | M52: Ć | N52: L | O52: P | P52: W | Q52: Ć | R52: L | S52: P | T52: W | U52: Ć | V52: L | W52: P | X52: W | Y52: Ć | Z52: L | AA52: P
O53: S | S53: S | W53: S | AA53: S
D54: =D49 -> 2 | E54: =E49 -> 4 | F54: =F49 -> 9 | G54: =G49 -> 90 | H54: =H49 -> 60 | I54: =I49 -> 10 | J54: =J49 -> 20 | K54: =K49 -> 0 | ... AA54: =AA49 -> 0 | AC54: SUMA
L55: =SUM(L54:O54) -> 60 | P55: =SUM(P54:S54) -> 0 | T55: =SUM(T54:W54) -> 30 | X55: =SUM(X54:AA54) -> 0 | AC55: =SUM(L55:AA55) -> 90
D56: Liczba: | G56: egzaminów | L56: 2 | P56: 0 | T56: 0 | X56: 0 | AC56: =SUM(L56:AA56) -> 2
G57: zaliczeń | L57: 2 | P57: 0 | T57: 1 | X57: 0 | AC57: =SUM(L57:AA57) -> 3
G58: pkt. ECTS | L58: 6 | P58: 0 | T58: 3 | X58: =AI59 -> 0 | AC58: =SUM(L58:AA58) -> 9
...

Sheet plan studiów II st. niestacjon.
B4: Informacje ogólne o programie studiów
B6: KIERUNEK: | C6: INŻYNIERIA ŚRODOWISKA
B7: PROFIL: | C7: PROFIL OGÓLNOAKADEMICKI
B8: POZIOM STUDIÓW: | C8: STUDIA DRUGIEGO STOPNIA (1,5-letnie)
B9: FORMA STUDIÓW: | C9: STUDIA NIESTACJONARNE
B12: łączna liczba godzin zajęć dydaktycznych | G12: =(G160) -> 608 | H12: godz.
B13: łączna liczba pkt. ECTS jaką student musi uzyskać w ramach zajęć prowadzonych z bezpośrednim udziałem NA lub innych osób prowadzących zajęcia (w przypadku studiów stacjonarnych ponad 50% z ogólnej liczby pkt. ECTS) | G13: 19 | H13: pkt. ECTS
B14: liczba pkt. ECTS jaką student musi uzyskać w ramach zajęć z dziedziny nauk humanistycznych lub nauk społecznych (nie mniej niż 5 pkt. ECTS, nie dotyczy kierunków przyporządkowanych do dziedziny nauk humanistycznych lub nauk społecznych) | G14: 5 | H14: pkt. ECTS
B15: liczba pkt. ECTS za zajęcia do wyboru (nie mniej niż 30% z ogólnej liczby pkt. ECTS) | G15: 54 | H15: pkt. ECTS
B16: zajęcia związane z prowadzoną w uczelni działalnością naukową w dyscyplinie / dyscyplinach, do których przyporządkowano kierunek studiów wskazać wyłącznie dla kierunku o profilu ogólnoakademickim (ponad 50% z ogólnej liczby pkt. ECTS) | G16: 60 | H16: pkt. ECTS
B17: zajęcia kształtujące umiejętności praktyczne wskazać wyłacznie dla kierunku o profilu praktycznym (ponad 50% z ogólnej liczby pkt. ECTS) | G17: 0 | H17: pkt. ECTS
D29: PLAN STUDIÓW NR VIII
A30: WYDZIAŁ BUDOWNICTWA, ARCHITEKTURY
A31: I INŻYNIERII ŚRODOWISKA
D32: PROFIL: | H32: =(C7) -> PROFIL OGÓLNOAKADEMICKI
D33: POZIOM STUDIÓW: | H33: =(C8) -> STUDIA DRUGIEGO STOPNIA (1,5-letnie)
A34: UNIWERSYTET TECHNOLOGICZNO - PRZYRODNICZY | D34: FORMA STUDIÓW: | H34: =(C9) -> STUDIA NIESTACJONARNE | T34: ……………………………..
A35: IM. J. i J. ŚNIADECKICH | D35: KIERUNEK: | H35: =(C6) -> INŻYNIERIA ŚRODOWISKA | T35: pieczątka uczelni
A36: w BYDGOSZCZY | D36: SPECJALNOŚĆ: | H36: INSTALACJE SANITARNE I PRZEMYSŁOWE
H37: KONWENCJONALNE I ODNAWIALNE ŹRÓDŁA ENERGII
A39: Pozycja planu | B39: NAZWA PRZEDMIOTU / ZAJĘĆ | D39: Liczba | G39: GODZINY | L39: ROZKŁAD ZAJĘĆ W SEMESTRZE
G40: Razem | H40: w tym | L40: sem. I | P40: sem. II | T40: sem. III | X40: sem. IV
D41: egza-mi-nów | E41: zali-czeń | F41: pkt. ECTS | H41: W | I41: Ć | J41: L | K41: P / S | L41: Liczba godzin w semestrze
L42: W | M42: Ć | N42: L | O42: P | P42: W | Q42: Ć | R42: L | S42: P | T42: W | U42: Ć | V42: L | W42: P | X42: W | Y42: Ć | Z42: L | AA42: P
O43: S | S43: S | W43: S | AA43: S
A44: A. | B44: PRZEDMIOTY PODSTAWOWE
A45: 01. | B45: Statystyka | D45: 1 | E45: 1 | F45: 2 | G45: =SUM(H45:K45) -> 16 | H45: =(L45+P45+T45+X45) -> 8 | I45: =(M45+Q45+U45+Y45) -> 8 | J45: =(N45+R45+V45+Z45) -> 0 | K45: =(O45+S45+W45+AA45) -> 0 | L45: 8 | M45: 8
A46: 02. | B46: Chemia środowiska | D46: 1 | E46: 1 | F46: 2 | G46: =SUM(H46:K46) -> 24 | H46: =(L46+P46+T46+X46) -> 8 | I46: =(M46+Q46+U46+Y46) -> 0 | J46: =(N46+R46+V46+Z46) -> 16 | K46: =(O46+S46+W46+AA46) -> 0 | L46: 8 | N46: 16
A47: 03. | B47: Współczesne wyzwania i zagrożenia zawodowe | E47: 1 | F47: 2 | G47: 8 | H47: 8 | L47: 8
A48: 04. | B48: Prawo (cywilne, administracyjne, gospodarcze) - ang. | E48: 1 | F48: 3 | G48: 16 | H48: 16 | T48: 16
B49: RAZEM | D49: =SUM(D45:D48) -> 2 | E49: =SUM(E45:E48) -> 4 | F49: =SUM(F45:F48) -> 9 | G49: =SUM(G45:G48) -> 64 | H49: =SUM(H45:H48) -> 40 | I49: =SUM(I45:I48) -> 8 | J49: =SUM(J45:J48) -> 16 | K49: =SUM(K45:K48) -> 0 | ... AA49: =SUM(AA45:AA48) -> 0
L50: =SUM(L49:O49) -> 48 | P50: =SUM(P49:S49) -> 0 | T50: =SUM(T49:W49) -> 16 | X50: =SUM(X49:AA49) -> 0
A51: PODSUMOWANIE ARKUSZA 1 | D51: egza-mi-nów | E51: zali-czeń | F51: pkt. ECTS | G51: Razem | H51: W | I51: Ć | J51: L | K51: P / S | L51: sem. I | P51: sem. II | T51: sem. III | X51: sem. IV
L52: W | M52: Ć | N52: L | O52: P | P52: W | Q52: Ć | R52: L | S52: P | T52: W | U52: Ć | V52: L | W52: P | X52: W | Y52: Ć | Z52: L | AA52: P
O53: S | S53: S | W53: S | AA53: S
D54: =D49 -> 2 | E54: =E49 -> 4 | F54: =F49 -> 9 | G54: =G49 -> 64 | H54: =H49 -> 40 | I54: =I49 -> 8 | J54: =J49 -> 16 | K54: =K49 -> 0 | ... AA54: =AA49 -> 0 | AC54: SUMA
L55: =SUM(L54:O54) -> 48 | P55: =SUM(P54:S54) -> 0 | T55: =SUM(T54:W54) -> 16 | X55: =SUM(X54:AA54) -> 0 | AC55: =SUM(L55:AA55) -> 64
D56: Liczba: | G56: egzaminów | L56: 2 | P56: 0 | T56: 0 | X56: 0 | AC56: =SUM(L56:AA56) -> 2
G57: zaliczeń | L57: 3 | P57: 0 | T57: 1 | X57: 0 | AC57: =SUM(L57:AA57) -> 4
G58: pkt. ECTS | L58: 7 | P58: 0 | T58: 3 | X58: =AI59 -> 0 | AC58: =SUM(L58:AA58) -> 10
...
