Workbook

Sheet plan studiów I st. stacjon.
B6: Informacje ogólne o programie studiów
B8: KIERUNEK: | D8: INŻYNIERIA ŚRODOWISKA
B9: PROFIL: | D9: PROFIL OGÓLNOAKADEMICKI
B10: POZIOM STUDIÓW: | D10: STUDIA PIERWSZEGO STOPNIA (3,5-letnie, inżynierskie)
B11: FORMA STUDIÓW: | D11: STUDIA STACJONARNE
B14: łączna liczba godzin zajęć dydaktycznych | G14: =(G233) -> 2295 | H14: godz.
B15: łączna liczba pkt. ECTS jaką student musi uzyskać w ramach zajęć prowadzonych z bezpośrednim udziałem NA lub innych osób prowadzących zajęcia (w przypadku studiów stacjonarnych ponad 50% z ogólnej liczby pkt. ECTS) | G15: 107 | H15: pkt. ECTS
B16: liczba pkt. ECTS jaką student musi uzyskać w ramach zajęć z dziedziny nauk humanistycznych lub nauk społecznych (nie mniej niż 5 pkt. ECTS, nie dotyczy kierunków przyporządkowanych do dziedziny nauk humanistycznych lub nauk społecznych) | G16: 8 | H16: pkt. ECTS
B17: liczba pkt. ECTS za zajęcia do wyboru (nie mniej niż 30% z ogólnej liczby pkt. ECTS) | G17: 63 | H17: pkt. ECTS
B18: zajęcia związane z prowadzoną w uczelni działalnością naukową w dyscyplinie / dyscyplinach, do których przyporządkowano kierunek studiów wskazać wyłącznie dla kierunku o profilu ogólnoakademickim (ponad 50% z ogólnej liczby pkt. ECTS) | G18: 119 | H18: pkt. ECTS
B19: zajęcia kształtujące umiejętności praktyczne wskazać wyłacznie dla kierunku o profilu praktycznym (ponad 50% z ogólnej liczby pkt. ECTS) | G19: 0 | H19: pkt. ECTS
D45: PLAN STUDIÓW NR IX
A46: WYDZIAŁ BUDOWNICTWA, ARCHITEKTURY
A47: I INŻYNIERII ŚRODOWISKA | D47: PROFIL: | I47: =(D9) -> PROFIL OGÓLNOAKADEMICKI
D48: POZIOM STUDIÓW: | I48: =(D10) -> STUDIA PIERWSZEGO STOPNIA (3,5-letnie, inżynierskie)
A49: UNIWERSYTET TECHNOLOGICZNO-PRZYRODNICZY | D49: FORMA STUDIÓW: | I49: =(D11) -> STUDIA STACJONARNE | AB49: ……………………….
A50: IM. J. i J. ŚNIADECKICH | D50: KIERUNEK: | I50: =(D8) -> INŻYNIERIA ŚRODOWISKA | AB50: pieczątka uczelni
A51: w BYDGOSZCZY
A54: Pozycja planu | B54: NAZWA PRZEDMIOTU / ZAJĘĆ | D54: Liczba | G54: GODZINY | L54: ROZKŁAD ZAJĘĆ w SEMESTRZE
G55: Razem | H55: w tym | L55: sem. I | P55: sem. II | T55: sem. III | X55: sem. IV | AB55: sem. V | AF55: sem. VI | AJ55: sem. VII
D56: egza-mi-nów | E56: zali-czeń | F56: pkt. ECTS | H56: W | I56: Ć | J56: L | K56: P / S | L56: Liczba godzin w semestrze
L57: W | M57: Ć | N57: L | O57: P/S | P57: W | Q57: Ć | R57: L | S57: P/S | T57: W | U57: Ć | V57: L | W57: P/S | X57: W | Y57: Ć | Z57: L | AA57: P/S | AB57: W | AC57: Ć | AD57: L | AE57: P/S | AF57: W | AG57: Ć | AH57: L | AI57: P/S | AJ57: W | AK57: Ć | AL57: L | AM57: P/S
A59: A. | B59: PRZEDMIOTY OGÓLNE
A60: 01. | B60: Język obcy2 | E60: 4 | F60: 8 | G60: =SUM(H60:K60) -> 120 | J60: =N60+V60+Z60+AD60+AH60+AL60 -> 120 | V60: 30 | Z60: 30 | AD60: 30 | AH60: 30
A61: 02. | B61: Wychowanie fizyczne | E61: 2 | G61: =SUM(H61:K61) -> 60 | I61: =M61+Q61+U61+Y61+AC61+AG61+AK61 -> 60 | U61: 30 | Y61: 30
A62: 03. | B62: Podstawy przedsiębiorczości | E62: 1 | F62: 2 | G62: =SUM(H62:K62) -> 15 | H62: =L62+P62+T62+X62+AB62+AF62+AJ62 -> 15 | AJ62: 15
A63: 04. | B63: Przedmioty humanistyczne3 | E63: 2 | F63: 4 | G63: =SUM(H63:K63) -> 30 | H63: =L63+P63+T63+X63+AB63+AF63+AJ63 -> 30 | L63: 15 | AJ63: 15
A64: 05. | B64: Ochrona własności intelektualnej oraz BHP | E64: 1 | F64: 2 | G64: =SUM(H64:K64) -> 15 | H64: =L64+P64+T64+X64+AB64+AF64+AJ64 -> 15 | L64: 15
A65: 06. | B65: Prawo w inżynierii środowiska | E65: 1 | F65: 2 | G65: =SUM(H65:K65) -> 15 | H65: =L65+P65+T65+X65+AB65+AF65+AJ65 -> 15 | AF65: 15
B67: RAZEM | D67: =SUM(D60:D66) -> 0 | E67: =SUM(E60:E66) -> 11 | F67: =SUM(F60:F66) -> 18 | G67: =SUM(G60:G66) -> 255 | H67: =SUM(H60:H66) -> 75 | I67: =SUM(I60:I66) -> 60 | J67: =SUM(J60:J66) -> 120 | K67: =SUM(K60:K66) -> 0 | ... AM67: =SUM(AM60:AM66) -> 0
L68: =SUM(L67:O67) -> 30 | P68: =SUM(P67:S67) -> 0 | T68: =SUM(T67:W67) -> 60 | Y68: =SUM(X67:AA67) -> 60 | AB68: =SUM(AB67:AE67) -> 30 | AF68: =SUM(AF67:AI67) -> 45 | AJ68: =SUM(AJ67:AM67) -> 30
A69: PODSUMOWANIE ARKUSZA 1 | D69: egza-mi-nów | E69: zali-czeń | F69: pkt. ECTS | G69: Razem | H69: W | I69: Ć | J69: L | K69: P / S | L69: sem. I | P69: sem. II | T69: sem. III | X69: sem. IV | AB69: sem. V | AF69: sem. VI | AJ69: sem. VII
L70: W | M70: Ć | N70: L | O70: P/S | P70: W | Q70: Ć | R70: L | S70: P/S | T70: W | U70: Ć | V70: L | W70: P/S | X70: W | Y70: Ć | Z70: L | AA70: P/S | AB70: W | AC70: Ć | AD70: L | AE70: P/S | AF70: W | AG70: Ć | AH70: L | AI70: P/S | AJ70: W | AK70: Ć | AL70: L | AM70: P/S
D72: =SUM(D67) -> 0 | E72: =SUM(E67) -> 11 | F72: =SUM(F67) -> 18 | G72: =SUM(G67) -> 255 | H72: =SUM(H67) -> 75 | I72: =SUM(I67) -> 60 | J72: =SUM(J67) -> 120 | K72: =SUM(K67) -> 0 | ... AM72: =SUM(AM67) -> 0 | AO72: SUMA
L73: =SUM(L72:O72) -> 30 | P73: =SUM(P72:S72) -> 0 | T73: =SUM(T72:W72) -> 60 | X73: =SUM(X72:AA72) -> 60 | AB73: =SUM(AB72:AE72) -> 30 | AF73: =SUM(AF72:AI72) -> 45 | AJ73: =SUM(AJ72:AM72) -> 30 | AO73: =SUM(L73:AM73) -> 255
D74: Liczba: | G74: egzaminów | L74: 0 | P74: 0 | T74: 0 | X74: 0 | AB74: 0 | AF74: 0 | AJ74: 0 | AO74: =SUM(L74:AM74) -> 0
G75: zaliczeń | L75: 2 | P75: 0 | T75: 2 | X75: 2 | AB75: 1 | AF75: 2 | AJ75: 2 | AO75: =SUM(L75:AM75) -> 11
G76: pkt. ECTS | L76: 4 | P76: 0 | T76: 2 | X76: 2 | AB76: 2 | AF76: 4 | AJ76: 4 | AO76: =SUM(L76:AM76) -> 18
AC77: Obowiązuje od roku akademickiego: 2021/2022
A78: UWAGI:
B79: 1. Studenta obowiązuje na I roku udział we wszystkich zajęciach, na latach wyższych udział we wszystkich ćwiczeniach (audytoryjne, laboratoryjne, projektowe i seminaria)
B80: 2. Język obcy kontynuowany do wyboru spośród: 1. angielski, 2. niemiecki | AC80: Legenda:
B81: 3. Przedmioty humanistyczno-społeczne do wyboru: 1. Sem. I - Podstawy ekonomii lub Człowiek a środowisko; 2. Sem. VII - Historia nauki i techniki lub | AC81: W | AD81: - wykład
B82: Psychospołeczne aspekty sukcesu zawodowego; | AC82: Ć | AD82: - ćwiczenia audytoryjne
B83: 4. Studenta obowiązuje zaliczenie 4 tygodniowej praktyki ( 2 tyg.pr.zawodowej po roku II - 2 pkt ECTS i 2 tyg.pr.przeddyplomowej po roku III - 2 pkt ECTS). | AC83: L | AD83: - ćwiczenia laboratoryjne, lektorat języków obcych
B84: 5. Student może wybrać alternatywny przedmiot z grupy przedmiotów obieralnych | AC84: P | AD84: - ćwiczenia projektowe
B85: 6. Student zobowiązany jest do napisania i obrony pracy dyplomowej (15 punktów ECTS) | AC85: S | AD85: - seminarium
AC86: T | AD86: - zajęcia terenowe
AD87: - egzamin
AB88: ARKUSZ 1
D89: =D45 -> PLAN STUDIÓW NR IX
A90: =A46 -> WYDZIAŁ BUDOWNICTWA, ARCHITEKTURY
A91: =A47 -> I INŻYNIERII ŚRODOWISKA | D91: PROFIL: | I91: =(D9) -> PROFIL OGÓLNOAKADEMICKI
D92: POZIOM STUDIÓW: | I92: =(D10) -> STUDIA PIERWSZEGO STOPNIA (3,5-letnie, inżynierskie)
A93: UNIWERSYTET TECHNOLOGICZNO-PRZYRODNICZY | D93: FORMA STUDIÓW: | I93: =(D11) -> STUDIA STACJONARNE | AB93: ……………………….
A94: IM. J. i J. ŚNIADECKICH | D94: KIERUNEK: | I94: =(D8) -> INŻYNIERIA ŚRODOWISKA | AB94: pieczątka uczelni
A95: w BYDGOSZCZY
A98: Pozycja planu | B98: NAZWA PRZEDMIOTU / ZAJĘĆ | D98: Liczba | G98: GODZINY | L98: ROZKŁAD ZAJĘĆ w SEMESTRZE
G99: Razem | H99: w tym | L99: sem. I | P99: sem. II | T99: sem. III | X99: sem. IV | AB99: sem. V | AF99: sem. VI | AJ99: sem. VII
D100: egza-mi-nów | E100: zali-czeń | F100: pkt. ECTS | H100: W | I100: Ć | J100: L | K100: P / S | L100: Liczba godzin w semestrze
L101: W | M101: Ć | N101: L | O101: P/S | P101: W | Q101: Ć | R101: L | S101: P/S | T101: W | U101: Ć | V101: L | W101: P/S | X101: W | Y101: Ć | Z101: L | AA101: P/S | AB101: W | AC101: Ć | AD101: L | AE101: P/S | AF101: W | AG101: Ć | AH101: L | AI101: P/S | AJ101: W | AK101: Ć | AL101: L | AM101: P/S
A103: B. | B103: PRZEDMIOTY PODSTAWOWE
A104: 01. | B104: Matematyka | D104: 3 | E104: 3 | F104: 13 | G104: =SUM(H104:K104) -> 105 | H104: =L104+P104+T104+X104+AB104+AF104+AJ104 -> 60 | I104: =M104+Q104+U104+Y104+AC104+AG104+AK104 -> 45 | L104: 30 | M104: 15 | P104: 15 | Q104: 15 | T104: 15 | U104: 15
A105: 02. | B105: Fizyka | D105: 1 | E105: 1 | F105: 4 | G105: =SUM(H105:K105) -> 45 | H105: =L105+P105+T105+X105+AB105+AF105+AJ105 -> 30 | J105: =N105+R105+V105+Z105+AD105+AH105+AL105 -> 15 | L105: 30 | N105: 15
A106: 03. | B106: Chemia | D106: 1 | E106: 1 | F106: 5 | G106: =SUM(H106:K106) -> 60 | H106: =L106+P106+T106+X106+AB106+AF106+AJ106 -> 30 | J106: =N106+R106+V106+Z106+AD106+AH106+AL106 -> 30 | P106: 30 | R106: 30
A107: 04. | B107: Mechanika płynów | D107: 1 | E107: 2 | F107: 5 | G107: =SUM(H107:K107) -> 90 | H107: =L107+P107+T107+X107+AB107+AF107+AJ107 -> 30 | I107: =M107+Q107+U107+Y107+AC107+AG107+AK107 -> 30 | J107: =N107+R107+V107+Z107+AD107+AH107+AL107 -> 30 | T107: 30 | U107: 30 | V107: 30
A108: 05. | B108: Termodynamika techniczna | D108: 1 | E108: 2 | F108: 4 | G108: =SUM(H108:K108) -> 60 | H108: =L108+P108+T108+X108+AB108+AF108+AJ108 -> 30 | I108: =M108+Q108+U108+Y108+AC108+AG108+AK108 -> 15 | J108: =N108+R108+V108+Z108+AD108+AH108+AL108 -> 15 | T108: 30 | U108: 15 | V108: 15
A109: 06. | B109: Rysunek techniczny i geometria wykreślna | E109: 2 | F109: 3 | G109: =SUM(H109:K109) -> 45 | H109: =L109+P109+T109+X109+AB109+AF109+AJ109 -> 15 | J109: =N109+R109+V109+Z109+AD109+AH109+AL109 -> 30 | L109: 15 | N109: 30
A110: 07. | B110: Informatyczne podstawy projektowania | E110: 2 | F110: 4 | G110: =SUM(H110:K110) -> 60 | J110: =N110+R110+V110+Z110+AD110+AH110+AL110 -> 60 | R110: 30 | V110: 30
A111: 08. | B111: Fizyka cieplna budowli | E111: 2 | F111: 3 | G111: =SUM(H111:K111) -> 30 | H111: =L111+P111+T111+X111+AB111+AF111+AJ111 -> 15 | K111: =O111+S111+W111+AA111+AE111+AI111+AM111 -> 15 | T111: 15 | W111: 15
A112: 09. | B112: Biologia i ekologia | E112: 1 | F112: 3 | G112: =SUM(H112:K112) -> 30 | H112: =L112+P112+T112+X112+AB112+AF112+AJ112 -> 30 | L112: 30
A113: 10. | B113: Budownictwo ogólne | E113: 2 | F113: 4 | G113: =SUM(H113:K113) -> 60 | H113: =L113+P113+T113+X113+AB113+AF113+AJ113 -> 30 | K113: 30 | L113: 30 | O113: 30
B115: RAZEM | D115: =SUM(D104:D114) -> 7 | E115: =SUM(E104:E114) -> 18 | F115: =SUM(F104:F114) -> 48 | G115: =SUM(G104:G114) -> 585 | H115: =SUM(H104:H114) -> 270 | I115: =SUM(I104:I114) -> 90 | J115: =SUM(J104:J114) -> 180 | K115: =SUM(K104:K114) -> 45 | ... AM115: =SUM(AM104:AM114) -> 0
L116: =SUM(L115:O115) -> 225 | P116: =SUM(P115:S115) -> 120 | T116: =SUM(T115:W115) -> 240 | X116: =SUM(X115:AA115) -> 0 | AB116: =SUM(AB115:AE115) -> 0 | AF116: =SUM(AF115:AI115) -> 0 | AJ116: =SUM(AJ115:AM115) -> 0
A117: PODSUMOWANIE ARKUSZA 1+2 | D117: egza-mi-nów | E117: zali-czeń | F117: pkt. ECTS | G117: Razem | H117: W | I117: Ć | J117: L | K117: P / S | L117: sem. I | P117: sem. II | T117: sem. III | X117: sem. IV | AB117: sem. V | AF117: sem. VI | AJ117: sem. VII
L118: W | M118: Ć | N118: L | O118: P/S | P118: W | Q118: Ć | R118: L | S118: P/S | T118: W | U118: Ć | V118: L | W118: P/S | X118: W | Y118: Ć | Z118: L | AA118: P/S | AB118: W | AC118: Ć | AD118: L | AE118: P/S | AF118: W | AG118: Ć | AH118: L | AI118: P/S | AJ118: W | AK118: Ć | AL118: L | AM118: P/S
D120: =SUM(D67+D115) -> 7 | E120: =SUM(E67+E115) -> 29 | F120: =SUM(F67+F115) -> 66 | G120: =SUM(G67+G115) -> 840 | H120: =SUM(H67+H115) -> 345 | I120: =SUM(I67+I115) -> 150 | J120: =SUM(J67+J115) -> 300 | K120: =SUM(K67+K115) -> 45 | ... AM120: =SUM(AM67+AM115) -> 0 | AO120: SUMA
L121: =SUM(L120:O120) -> 255 | P121: =SUM(P120:S120) -> 120 | T121: =SUM(T120:W120) -> 300 | X121: =SUM(X120:AA120) -> 60 | AB121: =SUM(AB120:AE120) -> 30 | AF121: =SUM(AF120:AI120) -> 45 | AJ121: =SUM(AJ120:AM120) -> 30 | AO121: =SUM(L121:AM121) -> 840
D122: Liczba: | G122: egzaminów | L122: =L74+2 -> 2 | P122: =P74+2 -> 2 | T122: =T74+3 -> 3 | X122: =X74 -> 0 | AB122: =AB74 -> 0 | AF122: =AF74 -> 0 | AJ122: =AJ74 -> 0 | AO122: =SUM(L122:AM122) -> 7
G123: zaliczeń | L123: =L75+6 -> 8 | P123: =P75+3 -> 3 | T123: =T75+8 -> 10 | X123: =X75 -> 2 | AB123: =AB75 -> 1 | AF123: =AF75 -> 2 | AJ123: =AJ75 -> 2 | AO123: =SUM(L123:AM123) -> 28
G124: pkt. ECTS | L124: 23 | P124: 13 | T124: 18 | X124: 2 | AB124: 2 | AF124: 4 | AJ124: 4 | AO124: =SUM(L124:AM124) -> 66
AC125: Obowiązuje od roku akademickiego: 2021/2022
A126: UWAGI:
B127: =B79 -> 1. Studenta obowiązuje na I roku udział we wszystkich zajęciach, na latach wyższych udział we wszystkich ćwiczeniach (audytoryjne, laboratoryjne, projektowe i seminaria)
B128: =B80 -> 2. Język obcy kontynuowany do wyboru spośród: 1. angielski, 2. niemiecki | AC128: Legenda:
B129: =B81 -> 3. Przedmioty humanistyczno-społeczne do wyboru: 1. Sem. I - Podstawy ekonomii lub Człowiek a środowisko; 2. Sem. VII - Historia nauki i techniki lub | AC129: W | AD129: - wykład
B130: =B82 -> Psychospołeczne aspekty sukcesu zawodowego; | AC130: Ć | AD130: - ćwiczenia audytoryjne
B131: =B83 -> 4. Studenta obowiązuje zaliczenie 4 tygodniowej praktyki ( 2 tyg.pr.zawodowej po roku II - 2 pkt ECTS i 2 tyg.pr.przeddyplomowej po roku III - 2 pkt ECTS). | AC131: L | AD131: - ćwiczenia laboratoryjne, lektorat języków obcych
B132: =B84 -> 5. Student może wybrać alternatywny przedmiot z grupy przedmiotów obieralnych | AC132: P | AD132: - ćwiczenia projektowe
B133: =B85 -> 6. Student zobowiązany jest do napisania i obrony pracy dyplomowej (15 punktów ECTS) | AC133: S | AD133: - seminarium
AC134: T | AD134: - zajęcia terenowe
AD135: - egzamin
AB136: ARKUSZ 2
D137: =D45 -> PLAN STUDIÓW NR IX
A138: =A46 -> WYDZIAŁ BUDOWNICTWA, ARCHITEKTURY
A139: =A47 -> I INŻYNIERII ŚRODOWISKA | D139: PROFIL: | I139: =(D9) -> PROFIL OGÓLNOAKADEMICKI
D140: POZIOM STUDIÓW: | I140: =(D10) -> STUDIA PIERWSZEGO STOPNIA (3,5-letnie, inżynierskie)
A141: UNIWERSYTET TECHNOLOGICZNO-PRZYRODNICZY | D141: FORMA STUDIÓW: | I141: =(D11) -> STUDIA STACJONARNE | AB141: ……………………….
A142: IM. J. i J. ŚNIADECKICH | D142: KIERUNEK: | I142: =(D8) -> INŻYNIERIA ŚRODOWISKA | AB142: pieczątka uczelni
A143: w BYDGOSZCZY
...

Sheet plan studiów I st. niestacjon.
C5: Informacje ogólne o programie studiów
C7: KIERUNEK: | D7: INŻYNIERIA ŚRODOWISKA
C8: PROFIL: | D8: PROFIL OGÓLNOAKADEMICKI
C9: POZIOM STUDIÓW: | D9: STUDIA PIERWSZEGO STOPNIA (4-letnie inżynierskie)
C10: FORMA STUDIÓW: | D10: STUDIA NIESTACJONARNE
C13: łączna liczba godzin zajęć dydaktycznych | H13: =(G232) -> 1448 | I13: godz.
C14: łączna liczba pkt. ECTS jaką student musi uzyskać w ramach zajęć prowadzonych z bezpośrednim udziałem NA lub innych osób prowadzących zajęcia (w przypadku studiów stacjonarnych ponad 50% z ogólnej liczby pkt. ECTS) | H14: 53 | I14: pkt. ECTS
C15: liczba pkt. ECTS jaką student musi uzyskać w ramach zajęć z dziedziny nauk humanistycznych lub nauk społecznych (nie mniej niż 5 pkt. ECTS, nie dotyczy kierunków przyporządkowanych do dziedziny nauk humanistycznych lub nauk społecznych) | H15: 8 | I15: pkt. ECTS
C16: liczba pkt. ECTS za zajęcia do wyboru (nie mniej niż 30% z ogólnej liczby pkt. ECTS) | H16: 63 | I16: pkt. ECTS
C17: zajęcia związane z prowadzoną w uczelni działalnością naukową w dyscyplinie / dyscyplinach, do których przyporządkowano kierunek studiów wskazać wyłącznie dla kierunku o profilu ogólnoakademickim (ponad 50% z ogólnej liczby pkt. ECTS) | H17: 119 | I17: pkt. ECTS
C18: zajęcia kształtujące umiejętności praktyczne wskazać wyłacznie dla kierunku o profilu praktycznym (ponad 50% z ogólnej liczby pkt. ECTS) | H18: 0 | I18: pkt. ECTS
D45: PLAN STUDIÓW NR IX
A46: WYDZIAŁ BUDOWNICTWA, ARCHITEKTURY
A47: I INŻYNIERII ŚRODOWISKA | D47: PROFIL: | I47: =(D8) -> PROFIL OGÓLNOAKADEMICKI
D48: POZIOM STUDIÓW: | I48: =(D9) -> STUDIA PIERWSZEGO STOPNIA (4-letnie inżynierskie)
A49: UNIWERSYTET TECHNOLOGICZNO-PRZYRODNICZY | D49: FORMA STUDIÓW: | I49: =(D10) -> STUDIA NIESTACJONARNE | AF49: …………………..
A50: IM. J. i J. ŚNIADECKICH | D50: KIERUNEK: | I50: =(D7) -> INŻYNIERIA ŚRODOWISKA | AF50: pieczątka uczelni
A51: w BYDGOSZCZY
A54: Pozycja planu | B54: NAZWA PRZEDMIOTU / ZAJĘĆ | D54: Liczba | G54: GODZINY | L54: ROZKŁAD ZAJĘĆ w SEMESTRZE
G55: Razem | H55: w tym | L55: sem. I | P55: sem. II | T55: sem. III | X55: sem. IV | AB55: sem. V | AF55: sem. VI | AJ55: sem. VII | AN55: sem. VIII
D56: egza-mi-nów | E56: zali-czeń | F56: pkt. ECTS | H56: W | I56: Ć | J56: L | K56: P / S | L56: Liczba godzin w semestrze
L57: W | M57: Ć | N57: L | O57: P/S | P57: W | Q57: Ć | R57: L | S57: P/S | T57: W | U57: Ć | V57: L | W57: P/S | X57: W | Y57: Ć | Z57: L | AA57: P/S | AB57: W | AC57: Ć | AD57: L | AE57: P/S | AF57: W | AG57: Ć | AH57: L | AI57: P/S | AJ57: W | AK57: Ć | AL57: L | AM57: P/S | AN57: W | AO57: Ć | AP57: L | AQ57: P/S
A59: A. | B59: PRZEDMIOTY OGÓLNE
A60: 01. | B60: Język obcy2 | E60: 3 | F60: 8 | G60: =SUM(H60:K60) -> 72 | H60: =(L60+P60+T60+X60+AB60+AF60+AJ60+AN60) -> 0 | I60: =(M60+Q60+U60+Y60+AC60+AG60+AK60+AO60) -> 0 | J60: =(N60+R60+V60+Z60+AD60+AH60+AL60+AP60) -> 72 | K60: =(O60+S60+W60+AA60+AE60+AI60+AM60+AQ60) -> 0 | V60: 24 | Z60: 24 | AD60: 24
A61: 02. | B61: Podstawy przedsiębiorczości | E61: 1 | F61: 2 | G61: =SUM(H61:K61) -> 8 | H61: =(L61+P61+T61+X61+AB61+AF61+AJ61+AN61) -> 8 | I61: =(M61+Q61+U61+Y61+AC61+AG61+AK61+AO61) -> 0 | J61: =(N61+R61+V61+Z61+AD61+AH61+AL61+AP61) -> 0 | K61: =(O61+S61+W61+AA61+AE61+AI61+AM61+AQ61) -> 0 | AN61: 8
A62: 03. | B62: Przedmioty humanistyczne3 | E62: 2 | F62: 4 | G62: =SUM(H62:K62) -> 24 | H62: =(L62+P62+T62+X62+AB62+AF62+AJ62+AN62) -> 24 | I62: =(M62+Q62+U62+Y62+AC62+AG62+AK62+AO62) -> 0 | J62: =(N62+R62+V62+Z62+AD62+AH62+AL62+AP62) -> 0 | K62: =(O62+S62+W62+AA62+AE62+AI62+AM62+AQ62) -> 0 | L62: 16 | AN62: 8
A63: 04. | B63: Ochrona własności intelektualnej oraz BHP | E63: 1 | F63: 2 | G63: =SUM(H63:K63) -> 16 | H63: =(L63+P63+T63+X63+AB63+AF63+AJ63+AN63) -> 16 | I63: =(M63+Q63+U63+Y63+AC63+AG63+AK63+AO63) -> 0 | J63: =(N63+R63+V63+Z63+AD63+AH63+AL63+AP63) -> 0 | K63: =(O63+S63+W63+AA63+AE63+AI63+AM63+AQ63) -> 0 | L63: 16
A64: 05. | B64: Prawo w inżynierii środowiska | E64: 1 | F64: 2 | G64: =SUM(H64:K64) -> 16 | H64: =(L64+P64+T64+X64+AB64+AF64+AJ64+AN64) -> 16 | I64: =(M64+Q64+U64+Y64+AC64+AG64+AK64+AO64) -> 0 | J64: =(N64+R64+V64+Z64+AD64+AH64+AL64+AP64) -> 0 | K64: =(O64+S64+W64+AA64+AE64+AI64+AM64+AQ64) -> 0 | AF64: 16
B66: RAZEM | D66: =SUM(D60:D65) -> 0 | E66: =SUM(E60:E65) -> 8 | F66: =SUM(F60:F65) -> 18 | G66: =SUM(G60:G65) -> 136 | H66: =SUM(H60:H65) -> 64 | I66: =SUM(I60:I65) -> 0 | J66: =SUM(J60:J65) -> 72 | K66: =SUM(K60:K65) -> 0 | ... AQ66: =SUM(AQ60:AQ65) -> 0
L67: =SUM(L66:O66) -> 32 | P67: =SUM(P66:S66) -> 0 | T67: =SUM(T66:W66) -> 24 | X67: =SUM(X66:AA66) -> 24 | AB67: =SUM(AB66:AE66) -> 24 | AF67: =SUM(AF66:AI66) -> 16 | AJ67: =SUM(AJ66:AM66) -> 0 | AN67: =SUM(AN66:AQ66) -> 16
A68: PODSUMOWANIE ARKUSZA 1 | D68: egza-mi-nów | E68: zali-czeń | F68: pkt. ECTS | G68: Razem | H68: W | I68: Ć | J68: L | K68: P / S | L68: sem. I | P68: sem. II | T68: sem. III | X68: sem. IV | AB68: sem. V | AF68: sem. VI | AJ68: sem. VII | AN68: sem. VIII
L69: W | M69: Ć | N69: L | O69: P/S | P69: W | Q69: Ć | R69: L | S69: P/S | T69: W | U69: Ć | V69: L | W69: P/S | X69: W | Y69: Ć | Z69: L | AA69: P/S | AB69: W | AC69: Ć | AD69: L | AE69: P/S | AF69: W | AG69: Ć | AH69: L | AI69: P/S | AJ69: W | AK69: Ć | AL69: L | AM69: P/S | AN69: W | AO69: Ć | AP69: L | AQ69: P/S
D71: =SUM(D66) -> 0 | E71: =SUM(E66) -> 8 | F71: =SUM(F66) -> 18 | G71: =SUM(G66) -> 136 | H71: =SUM(H66) -> 64 | I71: =SUM(I66) -> 0 | J71: =SUM(J66) -> 72 | K71: =SUM(K66) -> 0 | ... AQ71: =SUM(AQ66) -> 0 | AS71: SUMA
L72: =SUM(L71:O71) -> 32 | P72: =SUM(P71:S71) -> 0 | T72: =SUM(T71:W71) -> 24 | X72: =SUM(X71:AA71) -> 24 | AB72: =SUM(AB71:AE71) -> 24 | AF72: =SUM(AF71:AI71) -> 16 | AJ72: =SUM(AJ71:AM71) -> 0 | AN72: =SUM(AN71:AQ71) -> 16 | AS72: =SUM(L72:AQ72) -> 136
D73: Liczba: | G73: egzaminów | L73: 0 | P73: 0 | T73: 0 | X73: 0 | AB73: 0 | AF73: 0 | AJ73: 0 | AN73: 0 | AS73: =SUM(L73:AQ73) -> 0
G74: zaliczeń | L74: 3 | P74: 0 | T74: 1 | X74: 1 | AB74: 1 | AF74: 1 | AJ74: 0 | AN74: 2 | AS74: =SUM(L74:AQ74) -> 9
G75: pkt. ECTS | L75: 4 | P75: 0 | T75: 3 | X75: 3 | AB75: 2 | AF75: 2 | AJ75: 0 | AN75: 4 | AS75: =SUM(L75:AQ75) -> 18
AG76: Obowiązuje od roku akademickiego: 2021/2022
A77: UWAGI:
B78: ='plan studiów I st. stacjon.'!B79 -> 1. Studenta obowiązuje na I roku udział we wszystkich zajęciach, na latach wyższych udział we wszystkich ćwiczeniach (audytoryjne, laboratoryjne, projektowe i seminaria)
B79: ='plan studiów I st. stacjon.'!B80 -> 2. Język obcy kontynuowany do wyboru spośród: 1. angielski, 2. niemiecki
B80: 3. Przedmioty humanistyczno-społeczne do wyboru: 1. Sem. I - Podstawy ekonomii lub Człowiek a środowisko; 2. Sem. VIII - Historia nauki i techniki lub | AG80: W | AH80: - wykład
B81: ='plan studiów I st. stacjon.'!B82 -> Psychospołeczne aspekty sukcesu zawodowego; | AG81: Ć | AH81: - ćwiczenia audytoryjne
B82: ='plan studiów I st. stacjon.'!B83 -> 4. Studenta obowiązuje zaliczenie 4 tygodniowej praktyki ( 2 tyg.pr.zawodowej po roku II - 2 pkt ECTS i 2 tyg.pr.przeddyplomowej po roku III - 2 pkt ECTS). | AG82: L | AH82: - ćwiczenia laboratoryjne, lektorat języków obcych
B83: ='plan studiów I st. stacjon.'!B84 -> 5. Student może wybrać alternatywny przedmiot z grupy przedmiotów obieralnych | AG83: P | AH83: - ćwiczenia projektowe
B84: ='plan studiów I st. stacjon.'!B85 -> 6. Student zobowiązany jest do napisania i obrony pracy dyplomowej (15 punktów ECTS) | AG84: S | AH84: - seminarium
AG85: T | AH85: - zajęcia terenowe
AH86: - egzamin
AF87: ARKUSZ 1
D88: =D45 -> PLAN STUDIÓW NR IX
A89: WYDZIAŁ BUDOWNICTWA, ARCHITEKTURY
A90: I INŻYNIERII ŚRODOWISKA | D90: PROFIL: | I90: =(D8) -> PROFIL OGÓLNOAKADEMICKI
D91: POZIOM STUDIÓW: | I91: =(D9) -> STUDIA PIERWSZEGO STOPNIA (4-letnie inżynierskie)
A92: UNIWERSYTET TECHNOLOGICZNO-PRZYRODNICZY | D92: FORMA STUDIÓW: | I92: =D10 -> STUDIA NIESTACJONARNE | AF92: …………………..
A93: IM. J. i J. ŚNIADECKICH | D93: KIERUNEK: | I93: =(D7) -> INŻYNIERIA ŚRODOWISKA | AF93: pieczątka uczelni
A94: w BYDGOSZCZY
A97: Pozycja planu | B97: NAZWA PRZEDMIOTU / ZAJĘĆ | D97: Liczba | G97: GODZINY | L97: ROZKŁAD ZAJĘĆ w SEMESTRZE
G98: Razem | H98: w tym | L98: sem. I | P98: sem. II | T98: sem. III | X98: sem. IV | AB98: sem. V | AF98: sem. VI | AJ98: sem. VII | AN98: sem. VIII
D99: egza-mi-nów | E99: zali-czeń | F99: pkt. ECTS | H99: W | I99: Ć | J99: L | K99: P / S | L99: Liczba godzin w semestrze
L100: W | M100: Ć | N100: L | O100: P/S | P100: W | Q100: Ć | R100: L | S100: P/S | T100: W | U100: Ć | V100: L | W100: P/S | X100: W | Y100: Ć | Z100: L | AA100: P/S | AB100: W | AC100: Ć | AD100: L | AE100: P/S | AF100: W | AG100: Ć | AH100: L | AI100: P/S | AJ100: W | AK100: Ć | AL100: L | AM100: P/S | AN100: W | AO100: Ć | AP100: L | AQ100: P/S
A102: B. | B102: PRZEDMIOTY PODSTAWOWE
A103: 01. | B103: Matematyka | D103: 3 | E103: 3 | F103: 13 | G103: =SUM(H103:K103) -> 80 | H103: =(L103+P103+T103+X103+AB103+AF103+AJ103+AN103) -> 40 | I103: =(M103+Q103+U103+Y103+AC103+AG103+AK103+AO103) -> 40 | J103: =(N103+R103+V103+Z103+AD103+AH103+AL103+AP103) -> 0 | K103: =(O103+S103+W103+AA103+AE103+AI103+AM103+AQ103) -> 0 | L103: 16 | M103: 16 | P103: 16 | Q103: 8 | T103: 8 | U103: 16
A104: 02. | B104: Fizyka | D104: 1 | E104: 1 | F104: 4 | G104: =SUM(H104:K104) -> 32 | H104: =(L104+P104+T104+X104+AB104+AF104+AJ104+AN104) -> 16 | I104: =(M104+Q104+U104+Y104+AC104+AG104+AK104+AO104) -> 0 | J104: =(N104+R104+V104+Z104+AD104+AH104+AL104+AP104) -> 16 | K104: =(O104+S104+W104+AA104+AE104+AI104+AM104+AQ104) -> 0 | L104: 16 | N104: 16
A105: 03. | B105: Chemia | D105: 1 | E105: 1 | F105: 5 | G105: =SUM(H105:K105) -> 40 | H105: =(L105+P105+T105+X105+AB105+AF105+AJ105+AN105) -> 16 | I105: =(M105+Q105+U105+Y105+AC105+AG105+AK105+AO105) -> 0 | J105: =(N105+R105+V105+Z105+AD105+AH105+AL105+AP105) -> 24 | K105: =(O105+S105+W105+AA105+AE105+AI105+AM105+AQ105) -> 0 | P105: 16 | R105: 24
A106: 04. | B106: Mechanika płynów | D106: 1 | E106: 2 | F106: 5 | G106: =SUM(H106:K106) -> 48 | H106: =(L106+P106+T106+X106+AB106+AF106+AJ106+AN106) -> 16 | I106: =(M106+Q106+U106+Y106+AC106+AG106+AK106+AO106) -> 16 | J106: =(N106+R106+V106+Z106+AD106+AH106+AL106+AP106) -> 16 | K106: =(O106+S106+W106+AA106+AE106+AI106+AM106+AQ106) -> 0 | T106: 16 | U106: 16 | V106: 16
A107: 05. | B107: Termodynamika techniczna | D107: 1 | E107: 2 | F107: 4 | G107: =SUM(H107:K107) -> 32 | H107: =(L107+P107+T107+X107+AB107+AF107+AJ107+AN107) -> 16 | I107: =(M107+Q107+U107+Y107+AC107+AG107+AK107+AO107) -> 8 | J107: =(N107+R107+V107+Z107+AD107+AH107+AL107+AP107) -> 8 | K107: =(O107+S107+W107+AA107+AE107+AI107+AM107+AQ107) -> 0 | T107: 16 | U107: 8 | V107: 8
A108: 06. | B108: Rysunek techniczny i geometria wykreślna | E108: 2 | F108: 3 | G108: =SUM(H108:K108) -> 32 | H108: =(L108+P108+T108+X108+AB108+AF108+AJ108+AN108) -> 16 | I108: =(M108+Q108+U108+Y108+AC108+AG108+AK108+AO108) -> 0 | J108: =(N108+R108+V108+Z108+AD108+AH108+AL108+AP108) -> 16 | K108: =(O108+S108+W108+AA108+AE108+AI108+AM108+AQ108) -> 0 | L108: 16 | N108: 16
A109: 07. | B109: Informatyczne podstawy projektowania | E109: 2 | F109: 4 | G109: =SUM(H109:K109) -> 32 | H109: =(L109+P109+T109+X109+AB109+AF109+AJ109+AN109) -> 0 | I109: =(M109+Q109+U109+Y109+AC109+AG109+AK109+AO109) -> 0 | J109: =(N109+R109+V109+Z109+AD109+AH109+AL109+AP109) -> 32 | K109: =(O109+S109+W109+AA109+AE109+AI109+AM109+AQ109) -> 0 | R109: 16 | V109: 16
A110: 08. | B110: Fizyka cieplna budowli | E110: 2 | F110: 3 | G110: =SUM(H110:K110) -> 32 | H110: =(L110+P110+T110+X110+AB110+AF110+AJ110+AN110) -> 16 | I110: =(M110+Q110+U110+Y110+AC110+AG110+AK110+AO110) -> 0 | J110: =(N110+R110+V110+Z110+AD110+AH110+AL110+AP110) -> 0 | K110: =(O110+S110+W110+AA110+AE110+AI110+AM110+AQ110) -> 16 | T110: 16 | W110: 16
A111: 09. | B111: Biologia i ekologia | E111: 1 | F111: 3 | G111: =SUM(H111:K111) -> 16 | H111: =(L111+P111+T111+X111+AB111+AF111+AJ111+AN111) -> 16 | I111: =(M111+Q111+U111+Y111+AC111+AG111+AK111+AO111) -> 0 | J111: =(N111+R111+V111+Z111+AD111+AH111+AL111+AP111) -> 0 | K111: =(O111+S111+W111+AA111+AE111+AI111+AM111+AQ111) -> 0 | L111: 16
A112: 10. | B112: Budownictwo ogólne | E112: 2 | F112: 4 | G112: =SUM(H112:K112) -> 32 | H112: =(L112+P112+T112+X112+AB112+AF112+AJ112+AN112) -> 16 | I112: =(M112+Q112+U112+Y112+AC112+AG112+AK112+AO112) -> 0 | J112: =(N112+R112+V112+Z112+AD112+AH112+AL112+AP112) -> 0 | K112: 16 | L112: 16 | O112: 16
B114: RAZEM | D114: =SUM(D103:D113) -> 7 | E114: =SUM(E103:E113) -> 18 | F114: =SUM(F103:F113) -> 48 | G114: =SUM(G103:G113) -> 376 | H114: =SUM(H103:H113) -> 168 | I114: =SUM(I103:I113) -> 64 | J114: =SUM(J103:J113) -> 112 | K114: =SUM(K103:K113) -> 32 | ... AQ114: =SUM(AQ103:AQ113) -> 0
L115: =SUM(L114:O114) -> 144 | P115: =SUM(P114:S114) -> 80 | T115: =SUM(T114:W114) -> 152 | X115: =SUM(X114:AA114) -> 0 | AB115: =SUM(AB114:AE114) -> 0 | AF115: =SUM(AF114:AI114) -> 0 | AJ115: =SUM(AJ114:AM114) -> 0 | AN115: =SUM(AN114:AQ114) -> 0
A116: PODSUMOWANIE ARKUSZA 1+2 | D116: egza-mi-nów | E116: zali-czeń | F116: pkt. ECTS | G116: Razem | H116: W | I116: Ć | J116: L | K116: P / S | L116: sem. I | P116: sem. II | T116: sem. III | X116: sem. IV | AB116: sem. V | AF116: sem. VI | AJ116: sem. VII | AN116: sem. VIII
L117: W | M117: Ć | N117: L | O117: P/S | P117: W | Q117: Ć | R117: L | S117: P/S | T117: W | U117: Ć | V117: L | W117: P/S | X117: W | Y117: Ć | Z117: L | AA117: P/S | AB117: W | AC117: Ć | AD117: L | AE117: P/S | AF117: W | AG117: Ć | AH117: L | AI117: P/S | AJ117: W | AK117: Ć | AL117: L | AM117: P/S | AN117: W | AO117: Ć | AP117: L | AQ117: P/S
D119: =SUM(D66+D114) -> 7 | E119: =SUM(E66+E114) -> 26 | F119: =SUM(F66+F114) -> 66 | G119: =SUM(G66+G114) -> 512 | H119: =SUM(H66+H114) -> 232 | I119: =SUM(I66+I114) -> 64 | J119: =SUM(J66+J114) -> 184 | K119: =SUM(K66+K114) -> 32 | ... AQ119: =SUM(AQ66+AQ114) -> 0 | AS119: SUMA
L120: =SUM(L119:O119) -> 176 | P120: =SUM(P119:S119) -> 80 | T120: =SUM(T119:W119) -> 176 | X120: =SUM(X119:AA119) -> 24 | AB120: =SUM(AB119:AE119) -> 24 | AF120: =SUM(AF119:AI119) -> 16 | AJ120: =SUM(AJ119:AM119) -> 0 | AN120: =SUM(AN119:AQ119) -> 16 | AS120: =SUM(L120:AQ120) -> 512
D121: Liczba: | G121: egzaminów | L121: 2 | P121: 2 | T121: 3 | X121: 0 | AB121: 0 | AF121: 0 | AJ121: 0 | AN121: 0 | AS121: =SUM(L121:AQ121) -> 7
G122: zaliczeń | L122: 9 | P122: 3 | T122: 7 | X122: 3 | AB122: 1 | AF122: 1 | AJ122: 0 | AN122: 2 | AS122: =SUM(L122:AQ122) -> 26
G123: pkt. ECTS | L123: 23 | P123: 11 | T123: 21 | X123: 3 | AB123: 2 | AF123: 2 | AJ123: 0 | AN123: 4 | AS123: =SUM(L123:AQ123) -> 66
AG124: Obowiązuje od roku akademickiego: 2021/2022
A125: UWAGI:
B126: =B78 -> 1. Studenta obowiązuje na I roku udział we wszystkich zajęciach, na latach wyższych udział we wszystkich ćwiczeniach (audytoryjne, laboratoryjne, projektowe i seminaria)
B127: =B79 -> 2. Język obcy kontynuowany do wyboru spośród: 1. angielski, 2. niemiecki | AG127: Legenda:
B128: =B80 -> 3. Przedmioty humanistyczno-społeczne do wyboru: 1. Sem. I - Podstawy ekonomii lub Człowiek a środowisko; 2. Sem. VIII - Historia nauki i techniki lub | AG128: W | AH128: - wykład
B129: =B81 -> Psychospołeczne aspekty sukcesu zawodowego; | AG129: Ć | AH129: - ćwiczenia audytoryjne
B130: =B82 -> 4. Studenta obowiązuje zaliczenie 4 tygodniowej praktyki ( 2 tyg.pr.zawodowej po roku II - 2 pkt ECTS i 2 tyg.pr.przeddyplomowej po roku III - 2 pkt ECTS). | AG130: L | AH130: - ćwiczenia laboratoryjne, lektorat języków obcych
B131: =B83 -> 5. Student może wybrać alternatywny przedmiot z grupy przedmiotów obieralnych | AG131: P | AH131: - ćwiczenia projektowe
B132: =B84 -> 6. Student zobowiązany jest do napisania i obrony pracy dyplomowej (15 punktów ECTS) | AG132: S | AH132: - seminarium
AG133: T | AH133: - zajęcia terenowe
AH134: - egzamin
AF135: ARKUSZ 2
D136: =D45 -> PLAN STUDIÓW NR IX
A137: WYDZIAŁ BUDOWNICTWA, ARCHITEKTURY
A138: I INŻYNIERII ŚRODOWISKA | D138: PROFIL: | I138: =(D8) -> PROFIL OGÓLNOAKADEMICKI
A139: UNIWERSYTET TECHNOLOGICZNO-PRZYRODNICZY | D139: POZIOM STUDIÓW: | I139: =(D9) -> STUDIA PIERWSZEGO STOPNIA (4-letnie inżynierskie)
D140: FORMA STUDIÓW: | I140: =(D10) -> STUDIA NIESTACJONARNE | AF140: …………………..
A141: IM. J. i J. ŚNIADECKICH | D141: KIERUNEK: | I141: =(D7) -> INŻYNIERIA ŚRODOWISKA | AF141: pieczątka uczelni
A142: w BYDGOSZCZY
A145: Pozycja planu | B145: NAZWA PRZEDMIOTU / ZAJĘĆ | D145: Liczba | G145: GODZINY | L145: ROZKŁAD ZAJĘĆ w SEMESTRZE
...

Sheet plan studiów II st. stacjon.
B4: Informacje ogólne o programie studiów
B6: KIERUNEK: | C6: INŻYNIERIA ŚRODOWISKA
B7: PROFIL: | C7: PROFIL OGÓLNOAKADEMICKI
B8: POZIOM STUDIÓW: | C8: STUDIA DRUGIEGO STOPNIA (1,5-letnie)
B9: FORMA STUDIÓW: | C9: STUDIA STACJONARNE
B12: łączna liczba godzin zajęć dydaktycznych | G12: =(G160) -> 925 | H12: godz.
B13: łączna liczba pkt. ECTS jaką student musi uzyskać w ramach zajęć prowadzonych z bezpośrednim udziałem NA lub innych osób prowadzących zajęcia (w przypadku studiów stacjonarnych ponad 50% z ogólnej liczby pkt. ECTS) | G13: 48 | H13: pkt. ECTS
B14: liczba pkt. ECTS jaką student musi uzyskać w ramach zajęć z dziedziny nauk humanistycznych lub nauk społecznych (nie mniej niż 5 pkt. ECTS, nie dotyczy kierunków przyporządkowanych do dziedziny nauk humanistycznych lub nauk społecznych) | G14: 5 | H14: pkt. ECTS
B15: liczba pkt. ECTS za zajęcia do wyboru (nie mniej niż 30% z ogólnej liczby pkt. ECTS) | G15: 54 | H15: pkt. ECTS
B16: zajęcia związane z prowadzoną w uczelni działalnością naukową w dyscyplinie / dyscyplinach, do których przyporządkowano kierunek studiów wskazać wyłącznie dla kierunku o profilu ogólnoakademickim (ponad 50% z ogólnej liczby pkt. ECTS) | G16: 60 | H16: pkt. ECTS
B17: zajęcia kształtujące umiejętności praktyczne wskazać wyłacznie dla kierunku o profilu praktycznym (ponad 50% z ogólnej liczby pkt. ECTS) | G17: 0 | H17: pkt. ECTS
D29: PLAN STUDIÓW NR VIII
A30: WYDZIAŁ BUDOWNICTWA, ARCHITEKTURY
A31: I INŻYNIERII ŚRODOWISKA
D32: PROFIL: | H32: =(C7) -> PROFIL OGÓLNOAKADEMICKI
D33: POZIOM STUDIÓW: | H33: =(C8) -> STUDIA DRUGIEGO STOPNIA (1,5-letnie)
A34: UNIWERSYTET TECHNOLOGICZNO - PRZYRODNICZY | D34: FORMA STUDIÓW: | H34: =(C9) -> STUDIA STACJONARNE | T34: ……………………………..
A35: IM. J. i J. ŚNIADECKICH | D35: KIERUNEK: | H35: =(C6) -> INŻYNIERIA ŚRODOWISKA | T35: pieczątka uczelni
A36: w BYDGOSZCZY | D36: SPECJALNOŚĆ: | H36: INSTALACJE SANITARNE I PRZEMYSŁOWE
H37: KONWENCJONALNE I ODNAWIALNE ŹRÓDŁA ENERGII
A39: Pozycja planu | B39: NAZWA PRZEDMIOTU / ZAJĘĆ | D39: Liczba | G39: GODZINY | L39: ROZKŁAD ZAJĘĆ W SEMESTRZE
G40: Razem | H40: w tym | L40: sem. I | P40: sem. II | T40: sem. III | X40: sem. IV
D41: egza-mi-nów | E41: zali-czeń | F41: pkt. ECTS | H41: W | I41: Ć | J41: L | K41: P / S | L41: Liczba godzin w semestrze
L42: W | M42: Ć | N42: L | O42: P | P42: W | Q42: Ć | R42: L | S42: P | T42: W | U42: Ć | V42: L | W42: P | X42: W | Y42: Ć | Z42: L | AA42: P
O43: S | S43: S | W43: S | AA43: S
A44: A. | B44: PRZEDMIOTY PODSTAWOWE
A45: 01. | B45: Statystyka | D45: 1 | E45: 1 | F45: 2 | G45: =SUM(H45:K45) -> 20 | H45: =(L45+P45+T45+X45) -> 10 | I45: =(M45+Q45+U45+Y45) -> 10 | J45: =(N45+R45+V45+Z45) -> 0 | K45: =(O45+S45+W45+AA45) -> 0 | L45: 10 | M45: 10
A46: 02. | B46: Chemia środowiska | D46: 1 | E46: 1 | F46: 2 | G46: =SUM(H46:K46) -> 30 | H46: =(L46+P46+T46+X46) -> 10 | I46: =(M46+Q46+U46+Y46) -> 0 | J46: =(N46+R46+V46+Z46) -> 20 | K46: =(O46+S46+W46+AA46) -> 0 | L46: 10 | N46: 20
A47: 03. | B47: Współczesne wyzwania i zagrożenia zawodowe | E47: 1 | F47: 2 | G47: 10 | H47: 10 | L47: 10
A48: 04. | B48: Prawo (cywilne, administracyjne, gospodarcze) - ang. | E48: 1 | F48: 3 | G48: 30 | H48: 30 | T48: 30
B49: RAZEM | D49: =SUM(D45:D48) -> 2 | E49: =SUM(E45:E48) -> 4 | F49: =SUM(F45:F48) -> 9 | G49: =SUM(G45:G48) -> 90 | H49: =SUM(H45:H48) -> 60 | I49: =SUM(I45:I48) -> 10 | J49: =SUM(J45:J48) -> 20 | K49: =SUM(K45:K48) -> 0 | ... AA49: =SUM(AA45:AA48) -> 0
L50: =SUM(L49:O49) -> 60 | P50: =SUM(P49:S49) -> 0 | T50: =SUM(T49:W49) -> 30 | X50: =SUM(X49:AA49) -> 0
A51: PODSUMOWANIE ARKUSZA 1 | D51: egza-mi-nów | E51: zali-czeń | F51: pkt. ECTS | G51: Razem | H51: W | I51: Ć | J51: L | K51: P / S | L51: sem. I | P51: sem. II | T51: sem. III | X51: sem. IV
L52: W | M52: Ć | N52: L | O52: P | P52: W | Q52: Ć | R52: L | S52: P | T52: W | U52: Ć | V52: L | W52: P | X52: W | Y52: Ć | Z52: L | AA52: P
O53: S | S53: S | W53: S | AA53: S
D54: =D49 -> 2 | E54: =E49 -> 4 | F54: =F49 -> 9 | G54: =G49 -> 90 | H54: =H49 -> 60 | I54: =I49 -> 10 | J54: =J49 -> 20 | K54: =K49 -> 0 | ... AA54: =AA49 -> 0 | AC54: SUMA
L55: =SUM(L54:O54) -> 60 | P55: =SUM(P54:S54) -> 0 | T55: =SUM(T54:W54) -> 30 | X55: =SUM(X54:AA54) -> 0 | AC55: =SUM(L55:AA55) -> 90
D56: Liczba: | G56: egzaminów | L56: 2 | P56: 0 | T56: 0 | X56: 0 | AC56: =SUM(L56:AA56) -> 2
G57: zaliczeń | L57: 2 | P57: 0 | T57: 1 | X57: 0 | AC57: =SUM(L57:AA57) -> 3
G58: pkt. ECTS | L58: 6 | P58: 0 | T58: 3 | X58: =AI59 -> 0 | AC58: =SUM(L58:AA58) -> 9
T59: Obowiązuje od roku akademickiego: 2021/2022
A60: Uwagi:
B61: 1. Studenta obowiązuje na I roku udział we wszystkich zajęciach, na latach wyższych udział we wszystkich ćwiczeniach | Q61: Legenda:
B62: (audytoryjne, laboratoryjne, projektowe i seminaria) | Q62: W | R62: - wykład
B63: 2. Studenta obowiazuje napisanie i obrona pracy dyplomowej (20 punktów ECTS) | Q63: Ć | R63: - ćwiczenia audytoryjne
Q64: L | R64: - ćwiczenia laboratoryjne, lektorat języków obcych
Q65: P | R65: - ćwiczenia projektowe
Q66: S | R66: - seminarium
Q67: T | R67: - zajęcia terenowe
R68: - | S68: egzamin
P69: ARKUSZ 1
D71: =(D29) -> PLAN STUDIÓW NR VIII
A72: WYDZIAŁ BUDOWNICTWA, ARCHITEKTURY
A73: I INŻYNIERII ŚRODOWISKA
D74: PROFIL: | H74: =(C7) -> PROFIL OGÓLNOAKADEMICKI
D75: POZIOM STUDIÓW: | H75: =(H33) -> STUDIA DRUGIEGO STOPNIA (1,5-letnie)
A76: UNIWERSYTET TECHNOLOGICZNO - PRZYRODNICZY | D76: FORMA STUDIÓW: | H76: =(C9) -> STUDIA STACJONARNE | T76: ……………………………..
A77: IM. J. i J. ŚNIADECKICH | D77: KIERUNEK: | H77: =(C6) -> INŻYNIERIA ŚRODOWISKA | T77: pieczątka uczelni
A78: w BYDGOSZCZY | D78: SPECJALNOŚĆ: | H78: =H36 -> INSTALACJE SANITARNE I PRZEMYSŁOWE
H79: =H37 -> KONWENCJONALNE I ODNAWIALNE ŹRÓDŁA ENERGII
A81: Pozycja planu | B81: NAZWA PRZEDMIOTU / ZAJĘĆ | D81: Liczba | G81: GODZINY | L81: ROZKŁAD ZAJĘĆ W SEMESTRZE
G82: Razem | H82: w tym | L82: sem. I | P82: sem. II | T82: sem. III | X82: sem. IV
D83: egza-mi-nów | E83: zali-czeń | F83: pkt. ECTS | H83: W | I83: Ć | J83: L | K83: P / S | L83: Liczba godzin w semestrze
L84: W | M84: Ć | N84: L | O84: P | P84: W | Q84: Ć | R84: L | S84: P | T84: W | U84: Ć | V84: L | W84: P | X84: W | Y84: Ć | Z84: L | AA84: P
O85: S | S85: S | W85: S | AA85: S
A86: B. | B86: PRZEDMIOTY KIERUNKOWE
A87: 01. | B87: Systemy kogeneracyjne i układy odzysku ciepła w przemyśle | E87: 1 | F87: 2 | G87: =SUM(H87:K87) -> 15 | H87: =(L87+P87+T87+X87) -> 15 | I87: =(M87+Q87+U87+Y87) -> 0 | J87: =(N87+R87+V87+Z87) -> 0 | K87: =(O87+S87+W87+AA87) -> 0 | P87: 15
A88: 02. | B88: Systemy parowe w przemyśle | E88: 2 | F88: 2 | G88: =SUM(H88:K88) -> 30 | H88: =(L88+P88+T88+X88) -> 15 | I88: =(M88+Q88+U88+Y88) -> 0 | J88: =(N88+R88+V88+Z88) -> 0 | K88: =(O88+S88+W88+AA88) -> 15 | P88: 15 | S88: 15
A89: 03. | B89: Automatyka i sterowanie w inżynierii środowiska | E89: 1 | F89: 1 | G89: =SUM(H89:K89) -> 10 | H89: =(L89+P89+T89+X89) -> 10 | I89: =(M89+Q89+U89+Y89) -> 0 | J89: =(N89+R89+V89+Z89) -> 0 | K89: =(O89+S89+W89+AA89) -> 0 | L89: 10
A90: 04. | B90: Balneotechnika | E90: 2 | F90: 2 | G90: =SUM(H90:K90) -> 20 | H90: =(L90+P90+T90+X90) -> 10 | I90: =(M90+Q90+U90+Y90) -> 0 | J90: =(N90+R90+V90+Z90) -> 0 | K90: =(O90+S90+W90+AA90) -> 10 | L90: 10 | O90: 10
A91: 05. | B91: Efektywność przedsięwzięć inżynierskich | E91: 2 | F91: 2 | G91: =SUM(H91:K91) -> 30 | H91: =(L91+P91+T91+X91) -> 15 | I91: =(M91+Q91+U91+Y91) -> 0 | J91: =(N91+R91+V91+Z91) -> 0 | K91: =(O91+S91+W91+AA91) -> 15 | P91: 15 | S91: 15
A92: 06. | B92: Audyt energetyczny obiektów | E92: 2 | F92: 2 | G92: =SUM(H92:K92) -> 30 | H92: =(L92+P92+T92+X92) -> 10 | I92: =(M92+Q92+U92+Y92) -> 0 | J92: =(N92+R92+V92+Z92) -> 20 | K92: =(O92+S92+W92+AA92) -> 0 | L92: 10 | N92: 20
A93: 07. | B93: Podstawy projektowania zintegrowanego - BIM | E93: 2 | F93: 2 | G93: =SUM(H93:K93) -> 45 | H93: =(L93+P93+T93+X93) -> 15 | I93: =(M93+Q93+U93+Y93) -> 0 | J93: =(N93+R93+V93+Z93) -> 30 | K93: =(O93+S93+W93+AA93) -> 0 | T93: 15 | V93: 30
A94: 08. | B94: Adaptacja do zmian klimatu | E94: 2 | F94: 3 | G94: =SUM(H94:K94) -> 45 | H94: =(L94+P94+T94+X94) -> 15 | I94: =(M94+Q94+U94+Y94) -> 0 | J94: =(N94+R94+V94+Z94) -> 0 | K94: =(O94+S94+W94+AA94) -> 30 | P94: 15 | S94: 30
A95: 09. | B95: Komputerowe metody obliczeniowe systemów inżynierskich | E95: 1 | F95: 2 | G95: =SUM(H95:K95) -> 20 | H95: =(L95+P95+T95+X95) -> 0 | I95: =(M95+Q95+U95+Y95) -> 0 | J95: =(N95+R95+V95+Z95) -> 20 | K95: =(O95+S95+W95+AA95) -> 0 | N95: 20
A96: 10. | B96: Techniki ochrony atmosfery | E96: 1 | F96: 2 | G96: =SUM(H96:K96) -> 15 | H96: =(L96+P96+T96+X96) -> 15 | I96: =(M96+Q96+U96+Y96) -> 0 | J96: =(N96+R96+V96+Z96) -> 0 | K96: =(O96+S96+W96+AA96) -> 0 | P96: 15
A97: 11. | B97: Technologie energooszczędne w budownictwie | E97: 1 | F97: 3 | G97: =SUM(H97:K97) -> 20 | H97: =(L97+P97+T97+X97) -> 20 | I97: =(M97+Q97+U97+Y97) -> 0 | J97: =(N97+R97+V97+Z97) -> 0 | K97: =(O97+S97+W97+AA97) -> 0 | L97: 20
A98: 12. | B98: Najlepsze dostępne techniki (BAT w inżynierii środowiska) | D98: 1 | E98: 1 | F98: 2 | G98: =SUM(H98:K98) -> 30 | H98: =(L98+P98+T98+X98) -> 15 | I98: =(M98+Q98+U98+Y98) -> 0 | J98: =(N98+R98+V98+Z98) -> 0 | K98: =(O98+S98+W98+AA98) -> 15 | P98: 15 | S98: 15
A99: 13. | B99: Prawno-administracyjne podstawy procesu inwestycyjnego | E99: 1 | F99: 2 | G99: =SUM(H99:K99) -> 30 | H99: =(L99+P99+T99+X99) -> 10 | I99: =(M99+Q99+U99+Y99) -> 20 | J99: =(N99+R99+V99+Z99) -> 0 | K99: =(O99+S99+W99+AA99) -> 0 | L99: 10 | M99: 20
A100: 14. | B100: Ekonomika środowiska | E100: 1 | F100: 2 | G100: =SUM(H100:K100) -> 20 | H100: =(L100+P100+T100+X100) -> 0 | I100: =(M100+Q100+U100+Y100) -> 0 | J100: =(N100+R100+V100+Z100) -> 0 | K100: =(O100+S100+W100+AA100) -> 20 | O100: 20
A101: 15. | B101: GIS w inżynierii środowiska | E101: 1 | F101: 1 | G101: =SUM(H101:K101) -> 15 | H101: =(L101+P101+T101+X101) -> 0 | I101: =(M101+Q101+U101+Y101) -> 0 | J101: =(N101+R101+V101+Z101) -> 15 | K101: =(O101+S101+W101+AA101) -> 0 | N101: 15
B103: RAZEM | D103: =SUM(D87:D102) -> 1 | E103: =SUM(E87:E102) -> 21 | F103: =SUM(F87:F102) -> 30 | G103: =SUM(G87:G102) -> 375 | H103: =SUM(H87:H102) -> 165 | I103: =SUM(I87:I102) -> 20 | J103: =SUM(J87:J102) -> 85 | K103: =SUM(K87:K102) -> 105 | ... W103: =SUM(W87:W102) -> 0 | X103: =SUM(X87:X98) -> 0 | Y103: =SUM(Y87:Y98) -> 0 | Z103: =SUM(Z87:Z98) -> 0 | AA103: =SUM(AA87:AA98) -> 0
L104: =SUM(L103:O103) -> 165 | P104: =SUM(P103:S103) -> 165 | T104: =SUM(T103:W103) -> 45 | X104: =SUM(X103:AA103) -> 0
A105: PODSUMOWANIE ARKUSZA 1+2 | D105: egza-mi-nów | E105: zali-czeń | F105: pkt. ECTS | G105: Razem | H105: W | I105: Ć | J105: L | K105: P / S | L105: sem. I | P105: sem. II | T105: sem. III | X105: sem. IV
L106: W | M106: Ć | N106: L | O106: P | P106: W | Q106: Ć | R106: L | S106: P | T106: W | U106: Ć | V106: L | W106: P | X106: W | Y106: Ć | Z106: L | AA106: P
O107: S | S107: S | W107: S | AA107: S
D108: =SUM(D49,D103) -> 3 | E108: =SUM(E49,E103) -> 25 | F108: =SUM(F49,F103) -> 39 | G108: =SUM(G49,G103) -> 465 | H108: =SUM(H49,H103) -> 225 | I108: =SUM(I49,I103) -> 30 | J108: =SUM(J49,J103) -> 105 | K108: =SUM(K49,K103) -> 105 | ... AA108: =SUM(AA49,AA103) -> 0 | AC108: SUMA
L109: =SUM(L108:O108) -> 225 | P109: =SUM(P108:S108) -> 165 | T109: =SUM(T108:W108) -> 75 | X109: =SUM(X108:AA108) -> 0 | AC109: =SUM(L109:AA109) -> 465
D110: Liczba: | G110: egzaminów | L110: 2 | P110: 1 | T110: 0 | X110: 0 | AC110: =SUM(L110:AA110) -> 3
G111: zaliczeń | L111: 12 | P111: 9 | T111: 5 | X111: 0 | AC111: =SUM(L111:AA111) -> 26
G112: pkt. ECTS | L112: 21 | P112: 13 | T112: 5 | X112: 0 | AC112: =SUM(L112:AA112) -> 39
T113: Obowiązuje od roku akademickiego: 2021/2022
A114: Uwagi:
B115: =B61 -> 1. Studenta obowiązuje na I roku udział we wszystkich zajęciach, na latach wyższych udział we wszystkich ćwiczeniach | Q115: Legenda:
B116: =B62 -> (audytoryjne, laboratoryjne, projektowe i seminaria) | Q116: W | R116: - wykład
B117: =B63 -> 2. Studenta obowiazuje napisanie i obrona pracy dyplomowej (20 punktów ECTS) | Q117: Ć | R117: - ćwiczenia audytoryjne
Q118: L | R118: - ćwiczenia laboratoryjne, lektorat języków obcych
Q119: P | R119: - ćwiczenia projektowe
Q120: S | R120: - seminarium
Q121: T | R121: - zajęcia terenowe
...

Sheet plan studiów II st. niestacjon.
B4: Informacje ogólne o programie studiów
B6: KIERUNEK: | C6: INŻYNIERIA ŚRODOWISKA
B7: PROFIL: | C7: PROFIL OGÓLNOAKADEMICKI
B8: POZIOM STUDIÓW: | C8: STUDIA DRUGIEGO STOPNIA (1,5-letnie)
B9: FORMA STUDIÓW: | C9: STUDIA NIESTACJONARNE
B12: łączna liczba godzin zajęć dydaktycznych | G12: =(G160) -> 608 | H12: godz.
B13: łączna liczba pkt. ECTS jaką student musi uzyskać w ramach zajęć prowadzonych z bezpośrednim udziałem NA lub innych osób prowadzących zajęcia (w przypadku studiów stacjonarnych ponad 50% z ogólnej liczby pkt. ECTS) | G13: 19 | H13: pkt. ECTS
B14: liczba pkt. ECTS jaką student musi uzyskać w ramach zajęć z dziedziny nauk humanistycznych lub nauk społecznych (nie mniej niż 5 pkt. ECTS, nie dotyczy kierunków przyporządkowanych do dziedziny nauk humanistycznych lub nauk społecznych) | G14: 5 | H14: pkt. ECTS
B15: liczba pkt. ECTS za zajęcia do wyboru (nie mniej niż 30% z ogólnej liczby pkt. ECTS) | G15: 54 | H15: pkt. ECTS
B16: zajęcia związane z prowadzoną w uczelni działalnością naukową w dyscyplinie / dyscyplinach, do których przyporządkowano kierunek studiów wskazać wyłącznie dla kierunku o profilu ogólnoakademickim (ponad 50% z ogólnej liczby pkt. ECTS) | G16: 60 | H16: pkt. ECTS
B17: zajęcia kształtujące umiejętności praktyczne wskazać wyłacznie dla kierunku o profilu praktycznym (ponad 50% z ogólnej liczby pkt. ECTS) | G17: 0 | H17: pkt. ECTS
D29: PLAN STUDIÓW NR VIII
A30: WYDZIAŁ BUDOWNICTWA, ARCHITEKTURY
A31: I INŻYNIERII ŚRODOWISKA
D32: PROFIL: | H32: =(C7) -> PROFIL OGÓLNOAKADEMICKI
D33: POZIOM STUDIÓW: | H33: =(C8) -> STUDIA DRUGIEGO STOPNIA (1,5-letnie)
A34: UNIWERSYTET TECHNOLOGICZNO - PRZYRODNICZY | D34: FORMA STUDIÓW: | H34: =(C9) -> STUDIA NIESTACJONARNE | T34: ……………………………..
A35: IM. J. i J. ŚNIADECKICH | D35: KIERUNEK: | H35: =(C6) -> INŻYNIERIA ŚRODOWISKA | T35: pieczątka uczelni
A36: w BYDGOSZCZY | D36: SPECJALNOŚĆ: | H36: INSTALACJE SANITARNE I PRZEMYSŁOWE
H37: KONWENCJONALNE I ODNAWIALNE ŹRÓDŁA ENERGII
A39: Pozycja planu | B39: NAZWA PRZEDMIOTU / ZAJĘĆ | D39: Liczba | G39: GODZINY | L39: ROZKŁAD ZAJĘĆ W SEMESTRZE
G40: Razem | H40: w tym | L40: sem. I | P40: sem. II | T40: sem. III | X40: sem. IV
D41: egza-mi-nów | E41: zali-czeń | F41: pkt. ECTS | H41: W | I41: Ć | J41: L | K41: P / S | L41: Liczba godzin w semestrze
L42: W | M42: Ć | N42: L | O42: P | P42: W | Q42: Ć | R42: L | S42: P | T42: W | U42: Ć | V42: L | W42: P | X42: W | Y42: Ć | Z42: L | AA42: P
O43: S | S43: S | W43: S | AA43: S
A44: A. | B44: PRZEDMIOTY PODSTAWOWE
A45: 01. | B45: Statystyka | D45: 1 | E45: 1 | F45: 2 | G45: =SUM(H45:K45) -> 16 | H45: =(L45+P45+T45+X45) -> 8 | I45: =(M45+Q45+U45+Y45) -> 8 | J45: =(N45+R45+V45+Z45) -> 0 | K45: =(O45+S45+W45+AA45) -> 0 | L45: 8 | M45: 8
A46: 02. | B46: Chemia środowiska | D46: 1 | E46: 1 | F46: 2 | G46: =SUM(H46:K46) -> 24 | H46: =(L46+P46+T46+X46) -> 8 | I46: =(M46+Q46+U46+Y46) -> 0 | J46: =(N46+R46+V46+Z46) -> 16 | K46: =(O46+S46+W46+AA46) -> 0 | L46: 8 | N46: 16
A47: 03. | B47: Współczesne wyzwania i zagrożenia zawodowe | E47: 1 | F47: 2 | G47: 8 | H47: 8 | L47: 8
A48: 04. | B48: Prawo (cywilne, administracyjne, gospodarcze) - ang. | E48: 1 | F48: 3 | G48: 16 | H48: 16 | T48: 16
B49: RAZEM | D49: =SUM(D45:D48) -> 2 | E49: =SUM(E45:E48) -> 4 | F49: =SUM(F45:F48) -> 9 | G49: =SUM(G45:G48) -> 64 | H49: =SUM(H45:H48) -> 40 | I49: =SUM(I45:I48) -> 8 | J49: =SUM(J45:J48) -> 16 | K49: =SUM(K45:K48) -> 0 | ... AA49: =SUM(AA45:AA48) -> 0
L50: =SUM(L49:O49) -> 48 | P50: =SUM(P49:S49) -> 0 | T50: =SUM(T49:W49) -> 16 | X50: =SUM(X49:AA49) -> 0
A51: PODSUMOWANIE ARKUSZA 1 | D51: egza-mi-nów | E51: zali-czeń | F51: pkt. ECTS | G51: Razem | H51: W | I51: Ć | J51: L | K51: P / S | L51: sem. I | P51: sem. II | T51: sem. III | X51: sem. IV
L52: W | M52: Ć | N52: L | O52: P | P52: W | Q52: Ć | R52: L | S52: P | T52: W | U52: Ć | V52: L | W52: P | X52: W | Y52: Ć | Z52: L | AA52: P
O53: S | S53: S | W53: S | AA53: S
D54: =D49 -> 2 | E54: =E49 -> 4 | F54: =F49 -> 9 | G54: =G49 -> 64 | H54: =H49 -> 40 | I54: =I49 -> 8 | J54: =J49 -> 16 | K54: =K49 -> 0 | ... AA54: =AA49 -> 0 | AC54: SUMA
L55: =SUM(L54:O54) -> 48 | P55: =SUM(P54:S54) -> 0 | T55: =SUM(T54:W54) -> 16 | X55: =SUM(X54:AA54) -> 0 | AC55: =SUM(L55:AA55) -> 64
D56: Liczba: | G56: egzaminów | L56: 2 | P56: 0 | T56: 0 | X56: 0 | AC56: =SUM(L56:AA56) -> 2
G57: zaliczeń | L57: 3 | P57: 0 | T57: 1 | X57: 0 | AC57: =SUM(L57:AA57) -> 4
G58: pkt. ECTS | L58: 7 | P58: 0 | T58: 3 | X58: =AI59 -> 0 | AC58: =SUM(L58:AA58) -> 10
T59: Obowiązuje od roku akademickiego: 2021/2022
A60: Uwagi:
B61: 1. Studenta obowiązuje na I roku udział we wszystkich zajęciach, na latach wyższych udział we wszystkich ćwiczeniach | Q61: Legenda:
B62: (audytoryjne, laboratoryjne, projektowe i seminaria) | Q62: W | R62: - wykład
B63: 2. Studenta obowiazuje napisanie i obrona pracy dyplomowej (20 punktów ECTS) | Q63: Ć | R63: - ćwiczenia audytoryjne
Q64: L | R64: - ćwiczenia laboratoryjne, lektorat języków obcych
Q65: P | R65: - ćwiczenia projektowe
Q66: S | R66: - seminarium
Q67: T | R67: - zajęcia terenowe
R68: - | S68: egzamin
P69: ARKUSZ 1
D71: =(D29) -> PLAN STUDIÓW NR VIII
A72: WYDZIAŁ BUDOWNICTWA, ARCHITEKTURY
A73: I INŻYNIERII ŚRODOWISKA
D74: PROFIL: | H74: =(C7) -> PROFIL OGÓLNOAKADEMICKI
D75: POZIOM STUDIÓW: | H75: =(H33) -> STUDIA DRUGIEGO STOPNIA (1,5-letnie)
A76: UNIWERSYTET TECHNOLOGICZNO - PRZYRODNICZY | D76: FORMA STUDIÓW: | H76: =(C9) -> STUDIA NIESTACJONARNE | T76: ……………………………..
A77: IM. J. i J. ŚNIADECKICH | D77: KIERUNEK: | H77: =(C6) -> INŻYNIERIA ŚRODOWISKA | T77: pieczątka uczelni
A78: w BYDGOSZCZY | D78: SPECJALNOŚĆ: | H78: =H36 -> INSTALACJE SANITARNE I PRZEMYSŁOWE
H79: =H37 -> KONWENCJONALNE I ODNAWIALNE ŹRÓDŁA ENERGII
A81: Pozycja planu | B81: NAZWA PRZEDMIOTU / ZAJĘĆ | D81: Liczba | G81: GODZINY | L81: ROZKŁAD ZAJĘĆ W SEMESTRZE
G82: Razem | H82: w tym | L82: sem. I | P82: sem. II | T82: sem. III | X82: sem. IV
D83: egza-mi-nów | E83: zali-czeń | F83: pkt. ECTS | H83: W | I83: Ć | J83: L | K83: P / S | L83: Liczba godzin w semestrze
L84: W | M84: Ć | N84: L | O84: P | P84: W | Q84: Ć | R84: L | S84: P | T84: W | U84: Ć | V84: L | W84: P | X84: W | Y84: Ć | Z84: L | AA84: P
O85: S | S85: S | W85: S | AA85: S
A86: B. | B86: PRZEDMIOTY KIERUNKOWE
A87: 01. | B87: Systemy kogeneracyjne i układy odzysku ciepła w przemyśle | E87: 1 | F87: 2 | G87: =SUM(H87:K87) -> 16 | H87: =(L87+P87+T87+X87) -> 16 | I87: =(M87+Q87+U87+Y87) -> 0 | J87: =(N87+R87+V87+Z87) -> 0 | K87: =(O87+S87+W87+AA87) -> 0 | P87: 16
A88: 02. | B88: Systemy parowe w przemyśle | E88: 2 | F88: 2 | G88: =SUM(H88:K88) -> 32 | H88: =(L88+P88+T88+X88) -> 16 | I88: =(M88+Q88+U88+Y88) -> 0 | J88: =(N88+R88+V88+Z88) -> 0 | K88: =(O88+S88+W88+AA88) -> 16 | P88: 16 | S88: 16
A89: 03. | B89: Automatyka i sterowanie w inżynierii środowiska | E89: 1 | F89: 1 | G89: =SUM(H89:K89) -> 8 | H89: =(L89+P89+T89+X89) -> 8 | I89: =(M89+Q89+U89+Y89) -> 0 | J89: =(N89+R89+V89+Z89) -> 0 | K89: =(O89+S89+W89+AA89) -> 0 | L89: 8
A90: 04. | B90: Balneotechnika | E90: 2 | F90: 2 | G90: =SUM(H90:K90) -> 24 | H90: =(L90+P90+T90+X90) -> 8 | I90: =(M90+Q90+U90+Y90) -> 0 | J90: =(N90+R90+V90+Z90) -> 0 | K90: =(O90+S90+W90+AA90) -> 16 | L90: 8 | O90: 16
A91: 05. | B91: Efektywność przedsięwzięć inżynierskich | E91: 2 | F91: 2 | G91: =SUM(H91:K91) -> 16 | H91: =(L91+P91+T91+X91) -> 8 | I91: =(M91+Q91+U91+Y91) -> 0 | J91: =(N91+R91+V91+Z91) -> 0 | K91: =(O91+S91+W91+AA91) -> 8 | P91: 8 | S91: 8
A92: 06. | B92: Audyt energetyczny obiektów | E92: 2 | F92: 2 | G92: =SUM(H92:K92) -> 24 | H92: =(L92+P92+T92+X92) -> 8 | I92: =(M92+Q92+U92+Y92) -> 0 | J92: =(N92+R92+V92+Z92) -> 16 | K92: =(O92+S92+W92+AA92) -> 0 | L92: 8 | N92: 16
A93: 07. | B93: Podstawy projektowania zintegrowanego - BIM | E93: 2 | F93: 2 | G93: =SUM(H93:K93) -> 24 | H93: =(L93+P93+T93+X93) -> 8 | I93: =(M93+Q93+U93+Y93) -> 0 | J93: =(N93+R93+V93+Z93) -> 16 | K93: =(O93+S93+W93+AA93) -> 0 | T93: 8 | V93: 16
A94: 08. | B94: Adaptacja do zmian klimatu | E94: 2 | F94: 3 | G94: =SUM(H94:K94) -> 16 | H94: =(L94+P94+T94+X94) -> 8 | I94: =(M94+Q94+U94+Y94) -> 0 | J94: =(N94+R94+V94+Z94) -> 0 | K94: =(O94+S94+W94+AA94) -> 8 | P94: 8 | S94: 8
A95: 09. | B95: Komputerowe metody obliczeniowe systemów inżynierskich | E95: 1 | F95: 2 | G95: =SUM(H95:K95) -> 16 | H95: =(L95+P95+T95+X95) -> 0 | I95: =(M95+Q95+U95+Y95) -> 0 | J95: =(N95+R95+V95+Z95) -> 16 | K95: =(O95+S95+W95+AA95) -> 0 | N95: 16
A96: 10. | B96: Techniki ochrony atmosfery | E96: 1 | F96: 2 | G96: =SUM(H96:K96) -> 16 | H96: =(L96+P96+T96+X96) -> 16 | I96: =(M96+Q96+U96+Y96) -> 0 | J96: =(N96+R96+V96+Z96) -> 0 | K96: =(O96+S96+W96+AA96) -> 0 | P96: 16
A97: 11. | B97: Technologie energooszczędne w budownictwie | E97: 1 | F97: 3 | G97: =SUM(H97:K97) -> 16 | H97: =(L97+P97+T97+X97) -> 16 | I97: =(M97+Q97+U97+Y97) -> 0 | J97: =(N97+R97+V97+Z97) -> 0 | K97: =(O97+S97+W97+AA97) -> 0 | L97: 16
A98: 12. | B98: Najlepsze dostępne techniki (BAT w inżynierii środowiska) | D98: 1 | E98: 1 | F98: 2 | G98: =SUM(H98:K98) -> 16 | H98: =(L98+P98+T98+X98) -> 8 | I98: =(M98+Q98+U98+Y98) -> 0 | J98: =(N98+R98+V98+Z98) -> 0 | K98: =(O98+S98+W98+AA98) -> 8 | P98: 8 | S98: 8
A99: 13. | B99: Prawno-administracyjne podstawy procesu inwestycyjnego | E99: 1 | F99: 2 | G99: =SUM(H99:K99) -> 16 | H99: =(L99+P99+T99+X99) -> 8 | I99: =(M99+Q99+U99+Y99) -> 8 | J99: =(N99+R99+V99+Z99) -> 0 | K99: =(O99+S99+W99+AA99) -> 0 | L99: 8 | M99: 8
A100: 14. | B100: Ekonomika środowiska | E100: 1 | F100: 2 | G100: =SUM(H100:K100) -> 16 | H100: =(L100+P100+T100+X100) -> 0 | I100: =(M100+Q100+U100+Y100) -> 0 | J100: =(N100+R100+V100+Z100) -> 0 | K100: =(O100+S100+W100+AA100) -> 16 | O100: 16
A101: 15. | B101: GIS w inżynierii środowiska | E101: 1 | F101: 1 | G101: =SUM(H101:K101) -> 16 | H101: =(L101+P101+T101+X101) -> 0 | I101: =(M101+Q101+U101+Y101) -> 0 | J101: =(N101+R101+V101+Z101) -> 16 | K101: =(O101+S101+W101+AA101) -> 0 | N101: 16
B103: RAZEM | D103: =SUM(D87:D102) -> 1 | E103: =SUM(E87:E102) -> 21 | F103: =SUM(F87:F102) -> 30 | G103: =SUM(G87:G102) -> 272 | H103: =SUM(H87:H102) -> 128 | I103: =SUM(I87:I102) -> 8 | J103: =SUM(J87:J102) -> 64 | K103: =SUM(K87:K102) -> 72 | ... W103: =SUM(W87:W102) -> 0 | X103: =SUM(X87:X98) -> 0 | Y103: =SUM(Y87:Y98) -> 0 | Z103: =SUM(Z87:Z98) -> 0 | AA103: =SUM(AA87:AA98) -> 0
L104: =SUM(L103:O103) -> 136 | P104: =SUM(P103:S103) -> 112 | T104: =SUM(T103:W103) -> 24 | X104: =SUM(X103:AA103) -> 0
A105: PODSUMOWANIE ARKUSZA 1+2 | D105: egza-mi-nów | E105: zali-czeń | F105: pkt. ECTS | G105: Razem | H105: W | I105: Ć | J105: L | K105: P / S | L105: sem. I | P105: sem. II | T105: sem. III | X105: sem. IV
L106: W | M106: Ć | N106: L | O106: P | P106: W | Q106: Ć | R106: L | S106: P | T106: W | U106: Ć | V106: L | W106: P | X106: W | Y106: Ć | Z106: L | AA106: P
O107: S | S107: S | W107: S | AA107: S
D108: =SUM(D49,D103) -> 3 | E108: =SUM(E49,E103) -> 25 | F108: =SUM(F49,F103) -> 39 | G108: =SUM(G49,G103) -> 336 | H108: =SUM(H49,H103) -> 168 | I108: =SUM(I49,I103) -> 16 | J108: =SUM(J49,J103) -> 80 | K108: =SUM(K49,K103) -> 72 | ... AA108: =SUM(AA49,AA103) -> 0 | AC108: SUMA
L109: =SUM(L108:O108) -> 184 | P109: =SUM(P108:S108) -> 112 | T109: =SUM(T108:W108) -> 40 | X109: =SUM(X108:AA108) -> 0 | AC109: =SUM(L109:AA109) -> 336
D110: Liczba: | G110: egzaminów | L110: 2 | P110: 1 | T110: 0 | X110: 0 | AC110: =SUM(L110:AA110) -> 3
G111: zaliczeń | L111: 9 | P111: 9 | T111: 8 | X111: 0 | AC111: =SUM(L111:AA111) -> 26
G112: pkt. ECTS | L112: 21 | P112: 13 | T112: 5 | X112: 0 | AC112: =SUM(L112:AA112) -> 39
T113: Obowiązuje od roku akademickiego: 2021/2022
A114: Uwagi:
B115: =B61 -> 1. Studenta obowiązuje na I roku udział we wszystkich zajęciach, na latach wyższych udział we wszystkich ćwiczeniach | Q115: Legenda:
B116: =B62 -> (audytoryjne, laboratoryjne, projektowe i seminaria) | Q116: W | R116: - wykład
B117: =B63 -> 2. Studenta obowiazuje napisanie i obrona pracy dyplomowej (20 punktów ECTS) | Q117: Ć | R117: - ćwiczenia audytoryjne
Q118: L | R118: - ćwiczenia laboratoryjne, lektorat języków obcych
Q119: P | R119: - ćwiczenia projektowe
Q120: S | R120: - seminarium
Q121: T | R121: - zajęcia terenowe
...
