Workbook

Sheet NOWY II st. plan VIII
R3: Załącznik nr 2 do uchwały nr 6/444 Senatu UTP z dnia 27 maja 2020 r.
B4: Informacje ogólne o programie studiów
B6: KIERUNEK: | C6: BUDOWNICTWO
B7: PROFIL: | C7: PROFIL OGÓLNOAKADEMICKI
B8: POZIOM STUDIÓW: | C8: STUDIA DRUGIEGO STOPNIA (1,5-letnie)
B9: FORMA STUDIÓW: | C9: STUDIA NIESTACJONARNE
B12: łączna liczba godzin zajęć dydaktycznych | G12: =(G150) -> 574 | H12: godz.
B13: łączna liczba pkt. ECTS jaką student musi uzyskać w ramach zajęć prowadzonych z bezpośrednim udziałem NA lub innych osób prowadzących zajęcia (w przypadku studiów niestacjonarnych ponad 0,6x50%=30% z ogólnej liczby pkt. ECTS) | G13: =G12/25+(15+1+10)*4/25+8 -> 35.12 | H13: pkt. ECTS
B14: liczba pkt. ECTS jaką student musi uzyskać w ramach zajęć z dziedziny nauk humanistycznych lub nauk społecznych (nie mniej niż 5 pkt. ECTS, nie dotyczy kierunków przyporządkowanych do dziedziny nauk humanistycznych lub nauk społecznych) | G14: 5 | H14: pkt. ECTS
B15: liczba pkt. ECTS za zajęcia do wyboru (nie mniej niż 30% z ogólnej liczby pkt. ECTS) | G15: 60 | H15: pkt. ECTS
B16: zajęcia związane z prowadzoną w uczelni działalnością naukową w dyscyplinie / dyscyplinach, do których przyporządkowano kierunek studiów wskazać wyłącznie dla kierunku o profilu ogólnoakademickim (ponad 50% z ogólnej liczby pkt. ECTS) | G16: 83 | H16: pkt. ECTS
B17: zajęcia kształtujące umiejętności praktyczne wskazać wyłacznie dla kierunku o profilu praktycznym (ponad 50% z ogólnej liczby pkt. ECTS) | G17: x | H17: pkt. ECTS
D20: PLAN STUDIÓW NR VIII
A22: WYDZIAŁ BUDOWNICTWA ARCHITEKTURY I INŻYNIERII ŚRODOWISKA
D23: PROFIL: | H23: =(C7) -> PROFIL OGÓLNOAKADEMICKI
D24: POZIOM STUDIÓW: | H24: =(C8) -> STUDIA DRUGIEGO STOPNIA (1,5-letnie)
A25: UNIWERSYTET TECHNOLOGICZNO - PRZYRODNICZY | D25: FORMA STUDIÓW: | H25: =(C9) -> STUDIA NIESTACJONARNE | T25: ……………………………..
A26: IM. J. i J. ŚNIADECKICH | D26: KIERUNEK: | H26: =(C6) -> BUDOWNICTWO | T26: pieczątka uczelni
B27: w BYDGOSZCZY | D27: SPECJALNOŚĆ: | H27: 1. BUDOWA I EKSPLOATACJA AUTOSTRAD
H28: 2. KONSTRUKCJE BUDOWLANE I INŻYNIERSKIE
H29: 3. MOSTY
H30: 4. BUDOWNICTWO NISKOENERGETYCZNE
A32: Pozycja planu | B32: NAZWA PRZEDMIOTU / ZAJĘĆ | D32: Liczba | G32: GODZINY | L32: ROZKŁAD ZAJĘĆ W SEMESTRZE
G33: Razem | H33: w tym | L33: sem. I | P33: sem. II | T33: sem. III | X33: sem. IV
D34: egza-mi-nów | E34: zali-czeń | F34: pkt. ECTS | H34: W | I34: Ć | J34: L | K34: P / S | L34: Liczba godzin w semestrze
L35: W | M35: Ć | N35: L | O35: P | P35: W | Q35: Ć | R35: L | S35: P | T35: W | U35: Ć | V35: L | W35: P | X35: W | Y35: Ć | Z35: L | AA35: P
O36: S | S36: S | W36: S | AA36: S
A37: B. | B37: PRZEDMIOTY PODSTAWOWE
A38: 1. | B38: Matematyka zaawansowana | E38: 1 | F38: 2 | G38: =SUM(H38:K38) -> 20 | H38: =L38+P38+T38+X38 -> 10 | I38: =M38+Q38+U38+Y38 -> 10 | J38: =N38+R38+V38+Z38 -> 0 | K38: =O38+S38+W38+AA38 -> 0 | L38: 10 | M38: 10
B40: RAZEM | D40: =SUM(D38:D39) -> 0 | E40: =SUM(E38:E39) -> 1 | F40: =SUM(F38:F39) -> 2 | G40: =SUM(G38:G39) -> 20 | H40: =SUM(H38:H39) -> 10 | I40: =SUM(I38:I39) -> 10 | J40: =SUM(J38:J39) -> 0 | K40: =SUM(K38:K39) -> 0 | ... AA40: =SUM(AA38:AA39) -> 0
L41: =SUM(L40:O40) -> 20 | P41: =SUM(P40:S40) -> 0 | T41: =SUM(T40:W40) -> 0 | X41: =SUM(X40:AA40) -> 0
A42: PODSUMOWANIE ARKUSZA 1 | D42: egza-mi-nów | E42: zali-czeń | F42: pkt. ECTS | G42: Razem | H42: W | I42: Ć | J42: L | K42: P / S | L42: sem. I | P42: sem. II | T42: sem. III | X42: sem. IV
L43: W | M43: Ć | N43: L | O43: P | P43: W | Q43: Ć | R43: L | S43: P | T43: W | U43: Ć | V43: L | W43: P | X43: W | Y43: Ć | Z43: L | AA43: P
O44: S | S44: S | W44: S | AA44: S
D45: =D40 -> 0 | E45: =E40 -> 1 | F45: =F40 -> 2 | G45: =G40 -> 20 | H45: =H40 -> 10 | I45: =I40 -> 10 | J45: =J40 -> 0 | K45: =K40 -> 0 | ... AA45: =AA40 -> 0 | AC45: SUMA
L46: =SUM(L45:O45) -> 20 | P46: =SUM(P45:S45) -> 0 | T46: =SUM(T45:W45) -> 0 | X46: =SUM(X45:AA45) -> 0 | AC46: =SUM(L46:AA46) -> 20
D47: Liczba: | G47: egzaminów | L47: 0 | P47: 0 | T47: 0 | AC47: =SUM(L47:AA47) -> 0
G48: zaliczeń | L48: 1 | P48: 0 | T48: 0 | AC48: =SUM(L48:AA48) -> 1
G49: pkt. ECTS | L49: 2 | P49: 0 | T49: 0 | AC49: =SUM(L49:AA49) -> 2
A51: Uwagi: | Q51: Obowiązuje od roku akademickiego: 2020/2021
B52: 1. Studentów obowiązuje na I roku udział we wszystkich zajęciach, na latach wyższych udział we wszystkich ćwiczeniach audytoryjnych, | Q52: Legenda:
B53: laboratoryjnych, projektowych i seminarium. | Q53: W | R53: - wykład
B54: 2. Przedmiot wybieralny 3.I: 1. Wysokie konstrukcje betonowe 2. Cienkościenne konstrukcje betonowe 3. Statyka układów cięgnowych | Q54: Ć | R54: - ćwiczenia audytoryjne
B55: 4. Reologia konstrukcji budowlanych 5. Inżynieria wiatrowa 6. Podstawy inżynierii sejsmicznej i parasejsmicznej. | Q55: L | R55: - ćwiczenia laboratoryjne, lektorat języków obcych
B56: 3. Przedmiot wybieralny 3.II: 1. Konstrukcje prefabrykowane 2. Konstrukcje stalowe z blach 3. Awarie i naprawy konstrukcji | Q56: P | R56: - ćwiczenia projektowe
B57: 4. Awarie i naprawy obiektów budowlanych 5. Wysokie konstrukcje stalowe | Q57: S | R57: - seminarium
B58: 4. Przedmiot wybieralny 3.III: 1. Mosty drewniane 2. Tunele i budowle podziemne | Q58: T | R58: - zajęcia terenowe
B59: 5. Studentów obowiązuje napisanie i obrona pracy dyplomowej (20 punktów ECTS). | R59: - | S59: egzamin
P60: ARKUSZ 1
D61: =(D20) -> PLAN STUDIÓW NR VIII
A63: =(A22) -> WYDZIAŁ BUDOWNICTWA ARCHITEKTURY I INŻYNIERII ŚRODOWISKA
D64: PROFIL: | H64: =(C7) -> PROFIL OGÓLNOAKADEMICKI
D65: POZIOM STUDIÓW: | H65: =(H24) -> STUDIA DRUGIEGO STOPNIA (1,5-letnie)
A66: UNIWERSYTET TECHNOLOGICZNO - PRZYRODNICZY | D66: FORMA STUDIÓW: | H66: =(C9) -> STUDIA NIESTACJONARNE | T66: ……………………………..
A67: IM. J. i J. ŚNIADECKICH | D67: KIERUNEK: | H67: =(C6) -> BUDOWNICTWO | T67: pieczątka uczelni
A68: w BYDGOSZCZY | D68: SPECJALNOŚĆ: | H68: 1. BUDOWA I EKSPLOATACJA AUTOSTRAD
H69: 2. KONSTRUKCJE BUDOWLANE I INŻYNIERSKIE
H70: 3. MOSTY
H71: 4. BUDOWNICTWO NISKOENERGETYCZNE
A73: Pozycja planu | B73: NAZWA PRZEDMIOTU / ZAJĘĆ | D73: Liczba | G73: GODZINY | L73: ROZKŁAD ZAJĘĆ W SEMESTRZE
G74: Razem | H74: w tym | L74: sem. I | P74: sem. II | T74: sem. III | X74: sem. IV
D75: egza-mi-nów | E75: zali-czeń | F75: pkt. ECTS | H75: W | I75: Ć | J75: L | K75: P / S | L75: Liczba godzin w semestrze
L76: W | M76: Ć | N76: L | O76: P | P76: W | Q76: Ć | R76: L | S76: P | T76: W | U76: Ć | V76: L | W76: P | X76: W | Y76: Ć | Z76: L | AA76: P
O77: S | S77: S | W77: S | AA77: S
A78: C. | B78: PRZEDMIOTY KIERUNKOWE
A79: 1. | B79: Teoria sprężystości i plastyczności | E79: 2 | F79: 3 | G79: 20 | H79: 8 | I79: =M79+Q79+U79+Y79 -> 0 | J79: =N79+R79+V79+Z79 -> 0 | K79: 12 | L79: 8 | O79: 12
A80: 2. | B80: Metody numeryczne w budownictwie | E80: 2 | F80: 3 | G80: =SUM(H80:K80) -> 24 | H80: =L80+P80+T80+X80 -> 8 | I80: =M80+Q80+U80+Y80 -> 0 | J80: 16 | L80: 8 | N80: 16
A81: 3. | B81: Complex concrete structures Złożone konstrukcje betonowe | E81: 2 | F81: 3 | G81: =SUM(H81:K81) -> 32 | H81: 16 | I81: =M81+Q81+U81+Y81 -> 0 | J81: =N81+R81+V81+Z81 -> 0 | K81: 16 | L81: 16 | O81: 16
A82: 4. | B82: Konstrukcje metalowe II | D82: 1 | E82: 1 | F82: 3 | G82: =SUM(H82:K82) -> 32 | H82: =L82+P82+T82+X82 -> 16 | I82: =M82+Q82+U82+Y82 -> 0 | J82: =N82+R82+V82+Z82 -> 0 | K82: =O82+S82+W82+AA82 -> 16 | L82: 16 | O82: 16
A83: 5. | B83: Zarządzanie przedsięwzięciami budowlanymi | E83: 2 | F83: 3 | G83: =SUM(H83:K83) -> 16 | H83: =L83+P83+T83+X83 -> 8 | I83: =M83+Q83+U83+Y83 -> 0 | J83: =N83+R83+V83+Z83 -> 0 | K83: =O83+S83+W83+AA83 -> 8 | L83: 8 | O83: 8
A84: 6. | B84: Zaawansowane problemy ekonomiki budownictwa | E84: 2 | F84: 2 | G84: =SUM(H84:K84) -> 16 | H84: =L84+P84+T84+X84 -> 8 | I84: =M84+Q84+U84+Y84 -> 0 | J84: =N84+R84+V84+Z84 -> 0 | K84: =O84+S84+W84+AA84 -> 8 | L84: 8 | O84: 8
A85: 7. | B85: Budownictwo ogólne z fizyką budowli | D85: 1 | E85: 1 | F85: 3 | G85: =SUM(H85:K85) -> 32 | H85: =L85+P85+T85+X85 -> 16 | I85: =M85+Q85+U85+Y85 -> 0 | J85: =N85+R85+V85+Z85 -> 0 | K85: =O85+S85+W85+AA85 -> 16 | L85: 16 | O85: 16
A86: 8. | B86: Geotechnika | E86: 2 | F86: 3 | G86: =SUM(H86:K86) -> 32 | H86: =L86+P86+T86+X86 -> 16 | I86: =M86+Q86+U86+Y86 -> 0 | J86: =N86+R86+V86+Z86 -> 0 | K86: =O86+S86+W86+AA86 -> 16 | L86: 16 | O86: 16
A87: 9. | B87: Miernictwo budowlane | E87: 2 | F87: 3 | G87: =SUM(H87:K87) -> 24 | H87: =L87+P87+T87+X87 -> 8 | I87: =M87+Q87+U87+Y87 -> 0 | J87: =N87+R87+V87+Z87 -> 0 | K87: =O87+S87+W87+AA87 -> 16 | L87: 8 | O87: 16
A88: 10. | B88: Betony nowej generacji | E88: 2 | F88: 2 | G88: =SUM(H88:K88) -> 20 | H88: =L88+P88+T88+X88 -> 8 | I88: =M88+Q88+U88+Y88 -> 0 | J88: =N88+R88+V88+Z88 -> 12 | K88: =O88+S88+W88+AA88 -> 0 | L88: 8 | N88: 12
B90: RAZEM | D90: =SUM(D79:D89) -> 2 | E90: =SUM(E79:E89) -> 18 | F90: =SUM(F79:F89) -> 28 | G90: =SUM(G79:G89) -> 248 | H90: =SUM(H79:H89) -> 112 | I90: =SUM(I79:I89) -> 0 | J90: =SUM(J79:J89) -> 28 | K90: =SUM(K79:K89) -> 108 | ... AA90: =SUM(AA79:AA89) -> 0
L91: =SUM(L90:O90) -> 248 | P91: =SUM(P90:S90) -> 0 | T91: =SUM(T90:W90) -> 0 | X91: =SUM(X90:AA90) -> 0
A92: PODSUMOWANIE ARKUSZA 1+2 | D92: egza-mi-nów | E92: zali-czeń | F92: pkt. ECTS | G92: Razem | H92: W | I92: Ć | J92: L | K92: P / S | L92: sem. I | P92: sem. II | T92: sem. III | X92: sem. IV
L93: W | M93: Ć | N93: L | O93: P | P93: W | Q93: Ć | R93: L | S93: P | T93: W | U93: Ć | V93: L | W93: P | X93: W | Y93: Ć | Z93: L | AA93: P
O94: S | S94: S | W94: S | AA94: S
D95: =SUM(D40,D90) -> 2 | E95: =SUM(E90, E45) -> 19 | F95: =SUM(F40,F90) -> 30 | G95: =SUM(G40,G90) -> 268 | H95: =SUM(H40,H90) -> 122 | I95: =SUM(I40,I90) -> 10 | J95: =SUM(J40,J90) -> 28 | K95: =SUM(K40,K90) -> 108 | L95: =SUM(L40,L90) -> 122 | M95: =SUM(M40,M90) -> 10 | ... AA95: =SUM(AA40,AA90) -> 0 | AC95: SUMA
L96: =SUM(L95:O95) -> 268 | P96: =SUM(P95:S95) -> 0 | T96: =SUM(T95:W95) -> 0 | X96: =SUM(X95:AA95) -> 0 | AC96: =SUM(L96:AA96) -> 268
D97: Liczba: | G97: egzaminów | L97: 2 | P97: 0 | T97: 0 | AC97: =SUM(L97:AA97) -> 2
G98: zaliczeń | L98: 17 | P98: 0 | T98: 0 | AC98: =SUM(L98:AA98) -> 17
G99: pkt. ECTS | L99: 30 | P99: 0 | T99: 0 | AC99: =SUM(L99:AA99) -> 30
A101: Uwagi: | Q101: Obowiązuje od roku akademickiego: 2020/2021
B102: 1. Studentów obowiązuje na I roku udział we wszystkich zajęciach, na latach wyższych udział we wszystkich ćwiczeniach audytoryjnych, | Q102: Legenda:
B103: laboratoryjnych, projektowych i seminarium. | Q103: W | R103: - wykład
B104: 2. Przedmiot wybieralny 3.I: 1. Wysokie konstrukcje betonowe 2. Cienkościenne konstrukcje betonowe 3. Statyka układów cięgnowych | Q104: Ć | R104: - ćwiczenia audytoryjne
B105: 4. Reologia konstrukcji budowlanych 5. Inżynieria wiatrowa 6. Podstawy inżynierii sejsmicznej i parasejsmicznej. | Q105: L | R105: - ćwiczenia laboratoryjne, lektorat języków obcych
B106: 3. Przedmiot wybieralny 3.II: 1. Konstrukcje prefabrykowane 2. Konstrukcje stalowe z blach 3. Awarie i naprawy konstrukcji | Q106: P | R106: - ćwiczenia projektowe
B107: 4. Awarie i naprawy obiektów budowlanych 5. Wysokie konstrukcje stalowe | Q107: S | R107: - seminarium
B108: 4. Przedmiot wybieralny 3.III: 1. Mosty drewniane 2. Tunele i budowle podziemne | Q108: T | R108: - zajęcia terenowe
B109: 5. Studentów obowiązuje napisanie i obrona pracy dyplomowej (20 punktów ECTS). | R109: - | S109: egzamin
P110: ARKUSZ 2
D111: =(D20) -> PLAN STUDIÓW NR VIII
A113: =(A22) -> WYDZIAŁ BUDOWNICTWA ARCHITEKTURY I INŻYNIERII ŚRODOWISKA
D114: PROFIL: | H114: =(C7) -> PROFIL OGÓLNOAKADEMICKI
D115: POZIOM STUDIÓW: | H115: =(C8) -> STUDIA DRUGIEGO STOPNIA (1,5-letnie)
A116: UNIWERSYTET TECHNOLOGICZNO - PRZYRODNICZY | D116: FORMA STUDIÓW: | H116: =(C9) -> STUDIA NIESTACJONARNE
...

Sheet ECTS
A1: PLAN STUDIÓW NR VIII
A2: POZIOM STUDIÓW: | D2: STUDIA II STOPNIA (MAGISTERSKIE)
A3: FORMA STUDIÓW: | D3: STACJONARNE
A4: KIERUNEK: | D4: BUDOWNICTWO
A6: Plan studiów według semestrów
A7: SPECJALNOŚĆ: | C7: BEA, KBI, MOSTY, BN
B8: Zestaw | F8: Liczba godzin | H8: Punkty
A9: L.p. | B9: przedmiotów | C9: Nazwa przedmiotu | F9: w semestrze | H9: kredytowe | I9: Strona
B10: (kod) | F10: wykłady | G10: ćwiczenia | H10: ECTS
A11: Rok 1 Semestr 1
A12: 1 | B12: B.1 | C12: ='NOWY II st. plan VIII'!B38 -> Matematyka zaawansowana | F12: ='NOWY II st. plan VIII'!L38 -> 10 | G12: =SUM('NOWY II st. plan VIII'!M38:O38) -> 10 | H12: ='ECTS kierunkowe'!B5 -> 2
A13: 2 | B13: C.1 | C13: ='NOWY II st. plan VIII'!B79 -> Teoria sprężystości i plastyczności | F13: ='NOWY II st. plan VIII'!L79 -> 8 | G13: =SUM('NOWY II st. plan VIII'!M79:O79) -> 12 | H13: ='ECTS kierunkowe'!B7 -> 3
A14: 3 | B14: C.2 | C14: ='NOWY II st. plan VIII'!B80 -> Metody numeryczne w budownictwie | F14: ='NOWY II st. plan VIII'!L80 -> 8 | G14: =SUM('NOWY II st. plan VIII'!M80:O80) -> 16 | H14: ='ECTS kierunkowe'!B12 -> 3
A15: 4 | B15: C.3 | C15: ='NOWY II st. plan VIII'!B81 -> Complex concrete structures Złożone konstrukcje betonowe | F15: ='NOWY II st. plan VIII'!L81 -> 16 | G15: =SUM('NOWY II st. plan VIII'!M81:O81) -> 16 | H15: ='ECTS kierunkowe'!B9 -> 3
A16: 5 | B16: C.4 | C16: ='NOWY II st. plan VIII'!B82 -> Konstrukcje metalowe II | F16: ='NOWY II st. plan VIII'!L82 -> 16 | G16: =SUM('NOWY II st. plan VIII'!M82:O82) -> 16 | H16: ='ECTS kierunkowe'!B10 -> 3
A17: 6 | B17: C.5 | C17: ='NOWY II st. plan VIII'!B83 -> Zarządzanie przedsięwzięciami budowlanymi | F17: ='NOWY II st. plan VIII'!L83 -> 8 | G17: =SUM('NOWY II st. plan VIII'!M83:O83) -> 8 | H17: ='ECTS kierunkowe'!B8 -> 3
A18: 7 | B18: C.6 | C18: ='NOWY II st. plan VIII'!B84 -> Zaawansowane problemy ekonomiki budownictwa | F18: ='NOWY II st. plan VIII'!L84 -> 8 | G18: =SUM('NOWY II st. plan VIII'!M84:O84) -> 8 | H18: ='ECTS kierunkowe'!B3 -> 2
A19: 8 | B19: C.7 | C19: ='NOWY II st. plan VIII'!B85 -> Budownictwo ogólne z fizyką budowli | F19: ='NOWY II st. plan VIII'!L85 -> 16 | G19: =SUM('NOWY II st. plan VIII'!M85:O85) -> 16 | H19: ='ECTS kierunkowe'!B2 -> 3
A20: 9 | B20: C.8 | C20: ='NOWY II st. plan VIII'!B86 -> Geotechnika | F20: ='NOWY II st. plan VIII'!L86 -> 16 | G20: =SUM('NOWY II st. plan VIII'!M86:O86) -> 16 | H20: ='ECTS kierunkowe'!B4 -> 3
A21: 10 | B21: C.9 | C21: ='NOWY II st. plan VIII'!B87 -> Miernictwo budowlane | F21: ='NOWY II st. plan VIII'!L87 -> 8 | G21: =SUM('NOWY II st. plan VIII'!M87:O87) -> 16 | H21: ='ECTS kierunkowe'!B6 -> 3
A22: 11 | B22: C.10 | C22: ='NOWY II st. plan VIII'!B88 -> Betony nowej generacji | F22: ='NOWY II st. plan VIII'!L88 -> 8 | G22: =SUM('NOWY II st. plan VIII'!M88:O88) -> 12 | H22: ='ECTS kierunkowe'!B11 -> 2
A23: Suma punktów kredytowych ECTS | H23: =SUM(H12:H22) -> 30
A25: SPECJALNOŚĆ: | C25: BUDOWA I EKSPLOATACJA AUTOSTRAD
B26: Zestaw | F26: Liczba godzin | H26: Punkty
A27: L.p. | B27: przedmiotów | C27: Nazwa przedmiotu | F27: w semestrze | H27: kredytowe | I27: Strona
B28: (kod) | F28: wykłady | G28: ćwiczenia | H28: ECTS
A29: Rok 1 Semestr 2
A30: 1 | B30: D.1.1 | C30: ='NOWY II st. plan VIII'!B127 -> Projektowanie dróg i ulic | F30: ='NOWY II st. plan VIII'!P127 -> 8 | G30: =SUM('NOWY II st. plan VIII'!Q127:S127) -> 16 | H30: ='ECTS DUL,BEA'!B12 -> 2
A31: 2 | B31: D.1.2 | C31: ='NOWY II st. plan VIII'!B128 -> Skrzyżowania | F31: ='NOWY II st. plan VIII'!P128 -> 8 | G31: =SUM('NOWY II st. plan VIII'!Q128:S128) -> 16 | H31: ='ECTS DUL,BEA'!B15 -> 3
A32: 3 | B32: D.1.3 | C32: ='NOWY II st. plan VIII'!B129 -> Budowa i utrzymanie dróg | F32: ='NOWY II st. plan VIII'!P129 -> 16 | G32: =SUM('NOWY II st. plan VIII'!Q129:S129) -> 8 | H32: ='ECTS DUL,BEA'!B5 -> 3
A33: 4 | B33: D.1.5 | C33: ='NOWY II st. plan VIII'!B131 -> Nawierzchnie drogowe | F33: ='NOWY II st. plan VIII'!P131 -> 8 | G33: =SUM('NOWY II st. plan VIII'!Q131:S131) -> 16 | H33: ='ECTS DUL,BEA'!B9 -> 3
A34: 5 | B34: D.1.6 | C34: ='NOWY II st. plan VIII'!B132 -> Organizacja ruchu drogowego | F34: ='NOWY II st. plan VIII'!P132 -> 8 | G34: =SUM('NOWY II st. plan VIII'!Q132:S132) -> 8 | H34: ='ECTS DUL,BEA'!B11 -> 2
A35: 6 | B35: D.1.7 | C35: ='NOWY II st. plan VIII'!B133 -> Bezpieczeństwo ruchu drogowego | F35: ='NOWY II st. plan VIII'!P133 -> 8 | G35: =SUM('NOWY II st. plan VIII'!Q133:S133) -> 8 | H35: ='ECTS DUL,BEA'!B4 -> 3
A36: 7 | B36: D.1.8 | C36: ='NOWY II st. plan VIII'!B134 -> Teoria ruchu drogowego | F36: ='NOWY II st. plan VIII'!P134 -> 8 | H36: ='ECTS DUL,BEA'!B16 -> 1
A37: 8 | B37: D.1.9 | C37: ='NOWY II st. plan VIII'!B135 -> Komputerowe projektowanie dróg | G37: =SUM('NOWY II st. plan VIII'!Q135:S135) -> 8 | H37: ='ECTS DUL,BEA'!B8 -> 1
A38: 9 | B38: D.1.10 | C38: ='NOWY II st. plan VIII'!B136 -> Węzły drogowe | F38: ='NOWY II st. plan VIII'!P136 -> 16 | G38: =SUM('NOWY II st. plan VIII'!Q136:S136) -> 8 | H38: ='ECTS DUL,BEA'!B17 -> 2
A39: 10 | B39: D.1.11 | C39: ='NOWY II st. plan VIII'!B137 -> Projektowanie układów komunikacyjnych | F39: ='NOWY II st. plan VIII'!P137 -> 8 | G39: =SUM('NOWY II st. plan VIII'!Q137:S137) -> 8 | H39: ='ECTS DUL,BEA'!B13 -> 2
A40: 11 | B40: D.1.12 | C40: ='NOWY II st. plan VIII'!B138 -> Organizacja robót drogowych | F40: ='NOWY II st. plan VIII'!P138 -> 8 | H40: ='ECTS DUL,BEA'!B10 -> 2
A41: 12 | B41: D.1.13 | C41: ='NOWY II st. plan VIII'!B139 -> Drogowe budowle inżynierskie | F41: ='NOWY II st. plan VIII'!P139 -> 8 | H41: ='ECTS DUL,BEA'!B7 -> 1
A42: 13 | B42: D.1.14 | C42: ='NOWY II st. plan VIII'!B140 -> Seminarium dyplomowe | G42: =SUM('NOWY II st. plan VIII'!Q140:S140) -> 8 | H42: ='ECTS DUL,BEA'!B14 -> 1
A43: 14 | B43: D.1.15 | C43: ='NOWY II st. plan VIII'!B141 -> Budowle geotechniczne w drogownictwie | F43: ='NOWY II st. plan VIII'!P141 -> 8 | H43: ='ECTS DUL,BEA'!B6 -> 2
A44: 15 | B44: D.1.16 | C44: ='NOWY II st. plan VIII'!B142 -> Bezpieczeństwo i niezawodność konstrukcji | F44: ='NOWY II st. plan VIII'!P142 -> 8 | H44: ='ECTS DUL,BEA'!B3 -> 1
A45: 16 | B45: D.1.17 | C45: ='NOWY II st. plan VIII'!B143 -> Diagnostyka obiektów budowlanych | F45: ='NOWY II st. plan VIII'!P143 -> 8 | H45: ='ECTS DUL,BEA'!B18 -> 1
A46: Suma punktów kredytowych ECTS | H46: =SUM(H30:H45) -> 30
A48: SPECJALNOŚĆ: | C48: KONSTRUKCJE BUDOWLANE I INŻYNIERSKIE
B49: Zestaw | F49: Liczba godzin | H49: Punkty
A50: L.p. | B50: przedmiotów | C50: Nazwa przedmiotu | F50: w semestrze | H50: kredytowe | I50: Strona
B51: (kod) | F51: wykłady | G51: ćwiczenia | H51: ECTS
A52: Rok 1 Semestr 2
A53: 1 | B53: D.2.1 | C53: ='NOWY II st. plan VIII'!B181 -> BIM w projektowaniu konstrukcji | F53: ='NOWY II st. plan VIII'!P181 -> 8 | G53: =SUM('NOWY II st. plan VIII'!Q181:S181) -> 16 | H53: ='ECTS KBI'!B15 -> 3
A54: 2 | B54: D.2.2 | C54: ='NOWY II st. plan VIII'!B182 -> Bezpieczeństwo i niezawodność konstrukcji | F54: ='NOWY II st. plan VIII'!P182 -> 16 | G54: =SUM('NOWY II st. plan VIII'!Q182:S182) -> 8 | H54: ='ECTS KBI'!B5 -> 2
A55: 3 | B55: D.2.3 | C55: ='NOWY II st. plan VIII'!B183 -> Mechanika konstrukcji | F55: ='NOWY II st. plan VIII'!P183 -> 8 | G55: =SUM('NOWY II st. plan VIII'!Q183:S183) -> 8 | H55: ='ECTS KBI'!B10 -> 2
A56: 4 | B56: D.2.5 | C56: ='NOWY II st. plan VIII'!B185 -> Metoda elementów skończonych | F56: ='NOWY II st. plan VIII'!P185 -> 8 | G56: =SUM('NOWY II st. plan VIII'!Q185:S185) -> 8 | H56: ='ECTS KBI'!B11 -> 3
A57: 5 | B57: D.2.7 | C57: ='NOWY II st. plan VIII'!B187 -> Stalowe konstrukcjie specjalne | F57: ='NOWY II st. plan VIII'!P187 -> 8 | G57: =SUM('NOWY II st. plan VIII'!Q187:S187) -> 8 | H57: ='ECTS KBI'!B16 -> 2
A58: 6 | B58: D.2.8 | C58: ='NOWY II st. plan VIII'!B188 -> Złożone konstrukcje betonowe II | F58: ='NOWY II st. plan VIII'!P188 -> 8 | G58: =SUM('NOWY II st. plan VIII'!Q188:S188) -> 8 | H58: ='ECTS KBI'!B14 -> 2
A59: 7 | B59: D.2.9 | C59: ='NOWY II st. plan VIII'!B189 -> Konstrukcje zespolone | F59: ='NOWY II st. plan VIII'!P189 -> 8 | G59: =SUM('NOWY II st. plan VIII'!Q189:S189) -> 16 | H59: ='ECTS KBI'!B9 -> 2
A60: 8 | B60: D.2.10 | C60: ='NOWY II st. plan VIII'!B190 -> Betonowe konstrukcje sprężone | F60: ='NOWY II st. plan VIII'!P190 -> 8 | G60: =SUM('NOWY II st. plan VIII'!Q190:S190) -> 8 | H60: ='ECTS KBI'!B4 -> 2
A61: 9 | B61: D.2.11 | C61: ='NOWY II st. plan VIII'!B191 -> Konstrukcje drewniane | F61: ='NOWY II st. plan VIII'!P191 -> 8 | G61: =SUM('NOWY II st. plan VIII'!Q191:S191) -> 8 | H61: ='ECTS KBI'!B8 -> 2
A62: 10 | B62: D.2.12 | C62: ='NOWY II st. plan VIII'!B192 -> Dynamika budowli | F62: ='NOWY II st. plan VIII'!P192 -> 8 | G62: =SUM('NOWY II st. plan VIII'!Q192:S192) -> 8 | H62: ='ECTS KBI'!B7 -> 2
A63: 11 | B63: D.2.13 | C63: ='NOWY II st. plan VIII'!B193 -> Przedmiot wybieralny 3.I | F63: ='NOWY II st. plan VIII'!P193 -> 8 | G63: =SUM('NOWY II st. plan VIII'!Q193:S193) -> 8 | H63: ='ECTS KBI'!B12 -> 3
A64: 12 | B64: D.2.15 | C64: ='NOWY II st. plan VIII'!B195 -> Budownictwo przemysłowe | F64: ='NOWY II st. plan VIII'!P195 -> 8 | G64: =SUM('NOWY II st. plan VIII'!Q195:S195) -> 8 | H64: ='ECTS KBI'!B6 -> 2
A65: 13 | B65: D.2.17 | C65: ='NOWY II st. plan VIII'!B197 -> Wybrane elementy infrastruktury drogowej | F65: ='NOWY II st. plan VIII'!P197 -> 8 | G65: =SUM('NOWY II st. plan VIII'!Q197:S197) -> 8 | H65: ='ECTS KBI'!B17 -> 2
A66: 14 | B66: D.2.18 | C66: ='NOWY II st. plan VIII'!B198 -> Seminarium dyplomowe | G66: =SUM('NOWY II st. plan VIII'!Q198:S198) -> 8 | H66: ='ECTS KBI'!B13 -> 1
A67: Suma punktów kredytowych ECTS | H67: =SUM(H53:H66) -> 30
A69: SPECJALNOŚĆ: | C69: MOSTY
B70: Zestaw | F70: Liczba godzin | H70: Punkty
A71: L.p. | B71: przedmiotów | C71: Nazwa przedmiotu | F71: w semestrze | H71: kredytowe | I71: Strona
B72: (kod) | F72: wykłady | G72: ćwiczenia | H72: ECTS
A73: Rok 1 Semestr 2
A74: 1 | B74: D.3.1 | C74: ='NOWY II st. plan VIII'!B237 -> Mechanika konstrukcji | F74: ='NOWY II st. plan VIII'!P237 -> 16 | G74: =SUM('NOWY II st. plan VIII'!S237) -> 16 | H74: ='ECTS Mosty'!B5 -> 3
A75: 2 | B75: D.3.2 | C75: ='NOWY II st. plan VIII'!B238 -> Dynamika budowli | F75: ='NOWY II st. plan VIII'!P238 -> 8 | G75: =SUM('NOWY II st. plan VIII'!S238) -> 8 | H75: ='ECTS Mosty'!B4 -> 2
A76: 3 | B76: D.3.3 | C76: ='NOWY II st. plan VIII'!B239 -> Metoda elementów skończonych | F76: ='NOWY II st. plan VIII'!P239 -> 8 | G76: =SUM('NOWY II st. plan VIII'!S239) -> 0 | H76: ='ECTS Mosty'!B6 -> 2
A77: 4 | B77: D.3.5 | C77: ='NOWY II st. plan VIII'!B241 -> Stalowe konstrukcje specjalne | F77: ='NOWY II st. plan VIII'!P241 -> 8 | G77: =SUM('NOWY II st. plan VIII'!Q241:S241) -> 8 | H77: ='ECTS Mosty'!B13 -> 2
A78: 5 | B78: D.3.6 | C78: ='NOWY II st. plan VIII'!B242 -> Złożone konstrukcje betonowe II | F78: ='NOWY II st. plan VIII'!P242 -> 8 | G78: =SUM('NOWY II st. plan VIII'!Q242:S242) -> 8 | H78: ='ECTS Mosty'!B12 -> 2
A79: 6 | B79: D.3.7 | C79: ='NOWY II st. plan VIII'!B243 -> Mosty metalowe | F79: ='NOWY II st. plan VIII'!P243 -> 24 | G79: =SUM('NOWY II st. plan VIII'!Q243:S243) -> 16 | H79: ='ECTS Mosty'!B8 -> 5
A80: 7 | B80: D.3.8 | C80: ='NOWY II st. plan VIII'!B244 -> Mosty betonowe | F80: ='NOWY II st. plan VIII'!P244 -> 16 | G80: =SUM('NOWY II st. plan VIII'!Q244:S244) -> 16 | H80: ='ECTS Mosty'!B7 -> 5
A81: 8 | B81: D.3.9 | C81: ='NOWY II st. plan VIII'!B245 -> Posadowienie obiektów inżynierskich | F81: ='NOWY II st. plan VIII'!P245 -> 16 | G81: =SUM('NOWY II st. plan VIII'!Q245:S245) -> 16 | H81: ='ECTS Mosty'!B10 -> 5
A82: 9 | B82: D.3.10 | C82: ='NOWY II st. plan VIII'!B246 -> Podstawy projektowania dróg | F82: ='NOWY II st. plan VIII'!P246 -> 8 | G82: =SUM('NOWY II st. plan VIII'!Q246:S246) -> 8 | H82: ='ECTS Mosty'!B9 -> 2
A83: 10 | B83: D.3.14 | C83: ='NOWY II st. plan VIII'!B250 -> BIM w projektowaniu mostów | F83: ='NOWY II st. plan VIII'!P250 -> 8 | H83: ='ECTS Mosty'!B14 -> 1
A84: 11 | B84: D.3.15 | C84: Seminarium dyplomowe | G84: =SUM('NOWY II st. plan VIII'!U251:W251) -> 10 | H84: ='ECTS Mosty'!B11 -> 1
A85: Suma punktów kredytowych ECTS | H85: =SUM(H74:H84) -> 30
A87: SPECJALNOŚĆ: | C87: BUDOWNICTWO NISKOENERGETYCZNE
B88: Zestaw | F88: Liczba godzin | H88: Punkty
A89: L.p. | B89: przedmiotów | C89: Nazwa przedmiotu | F89: w semestrze | H89: kredytowe | I89: Strona
B90: (kod) | F90: wykłady | G90: ćwiczenia | H90: ECTS
A91: Rok 1 Semestr 2
A92: 1 | B92: D.4.1 | C92: ='NOWY II st. plan VIII'!B290 -> Budownictwo energooszczędne i pasywne | F92: ='NOWY II st. plan VIII'!P290 -> 16 | G92: =SUM('NOWY II st. plan VIII'!Q290:S290) -> 16 | H92: ='ECTS BN'!B5 -> 4
A93: 2 | B93: D.4.2 | C93: ='NOWY II st. plan VIII'!B291 -> Projektowanie architektoniczne budynków energooszczędnych | F93: ='NOWY II st. plan VIII'!P291 -> 8 | G93: =SUM('NOWY II st. plan VIII'!Q291:S291) -> 8 | H93: ='ECTS BN'!B11 -> 2
A94: 3 | B94: D.4.3 | C94: ='NOWY II st. plan VIII'!B292 -> Aspekty prawne w budownictwie energooszczędnym | F94: ='NOWY II st. plan VIII'!P292 -> 8 | H94: ='ECTS BN'!B4 -> 1
A95: 4 | B95: D.4.4 | C95: ='NOWY II st. plan VIII'!B293 -> Ochrona cieplna i diagnostyka budynków | F95: ='NOWY II st. plan VIII'!P293 -> 16 | G95: =SUM('NOWY II st. plan VIII'!Q293:S293) -> 16 | H95: ='ECTS BN'!B9 -> 5
A96: 5 | B96: D.4.5 | C96: ='NOWY II st. plan VIII'!B294 -> Nowoczesne materiały i technologie energooszczędne | F96: ='NOWY II st. plan VIII'!P294 -> 16 | G96: =SUM('NOWY II st. plan VIII'!Q294:S294) -> 16 | H96: ='ECTS BN'!B8 -> 4
A97: 6 | B97: D.4.6 | C97: ='NOWY II st. plan VIII'!B295 -> Odnawialne źródła energii | F97: ='NOWY II st. plan VIII'!P295 -> 8 | G97: =SUM('NOWY II st. plan VIII'!Q295:S295) -> 8 | H97: ='ECTS BN'!B10 -> 2
A98: 7 | B98: D.4.7 | C98: ='NOWY II st. plan VIII'!B296 -> Eksploatacja budynków | F98: ='NOWY II st. plan VIII'!P296 -> 8 | H98: ='ECTS BN'!B6 -> 1
A99: 8 | B99: D.4.9 | C99: ='NOWY II st. plan VIII'!B298 -> Rozwiązania instalacyjne w budynkach niskoenergetycznych | F99: ='NOWY II st. plan VIII'!P298 -> 16 | G99: =SUM('NOWY II st. plan VIII'!Q298:S298) -> 8 | H99: ='ECTS BN'!B12 -> 4
A100: 9 | B100: D.4.10 | C100: ='NOWY II st. plan VIII'!B299 -> Energooszczędne instalacje elektryczne | F100: ='NOWY II st. plan VIII'!P299 -> 8 | H100: ='ECTS BN'!B7 -> 1
A101: 10 | B101: D.4.12 | C101: ='NOWY II st. plan VIII'!B301 -> Wspomaganie komputerowe w budownictwie energooszczędnym | G101: =SUM('NOWY II st. plan VIII'!Q301:S301) -> 8 | H101: ='ECTS BN'!B15 -> 1
A102: 11 | B102: D.4.14 | C102: ='NOWY II st. plan VIII'!B303 -> Termomodernizacja i racjonalizacja użytkowania energii w budynkach | F102: ='NOWY II st. plan VIII'!P303 -> 16 | G102: =SUM('NOWY II st. plan VIII'!Q303:S303) -> 8 | H102: ='ECTS BN'!B14 -> 3
A103: 12 | B103: D.4.15 | C103: ='NOWY II st. plan VIII'!B304 -> Bezpieczeństwo i niezawodność konstrukcji | F103: ='NOWY II st. plan VIII'!P304 -> 8 | H103: ='ECTS BN'!B16 -> 1
A104: 13 | B104: D.4.16 | C104: ='NOWY II st. plan VIII'!B305 -> Seminarium dyplomowe | G104: =SUM('NOWY II st. plan VIII'!Q305:S305) -> 8 | H104: ='ECTS BN'!B13 -> 1
A105: Suma punktów kredytowych ECTS | H105: =SUM(H92:H104) -> 30
...

Sheet ECTS kierunkowe
B1: ECTS
A2: Budownictwo ogólne z fizyką budowli | B2: 3
A3: Ekonomika budownictwa | B3: 2
A4: Geotechnika | B4: 3
A5: Matematyka zaawansowana | B5: 2
A6: Miernictwo budowlane | B6: 3
A7: Teoria sprężystości i plastyczności | B7: 3
A8: Zarządzanie przedsięwzięciami budowlanymi | B8: 3
A9: Complex concrete structures/ Złożone konstrukcje betonowe | B9: 3
A10: Konstrukcje metalowe II | B10: 3
A11: Betony nowej generacji | B11: 2
A12: Zaawansowane metody komputerowe | B12: 3
B14: =SUM(B2:B12) -> 30

Sheet ECTS DUL,BEA
B1: ECTS
A2: Semestr 2
A3: Bezpieczeństwo i niezawodność konstrukcji | B3: 1
A4: Bezpieczeństwo ruchu drogowego | B4: 3
A5: Budowa i utrzymanie dróg | B5: 3
A6: Budowle geotechniczne w drogownictwie | B6: 2
A7: Drogowe budowle inżynierskie II | B7: 1
A8: Komputerowe projektowanie dróg | B8: 1
A9: Nawierzchnie drogowe | B9: 3
A10: Organizacja robót drogowych | B10: 2
A11: Organizacja ruchu drogowego | B11: 2
A12: Projektowanie dróg i ulic | B12: 2
A13: Projektowanie układów komunikacyjnych | B13: 2
A14: Seminarium dyplomowe | B14: 1
... A17: Węzły drogowe | B17: 2
A18: Diagnostyka obiektów budowlanych | B18: 1 | C18: =SUM(B3:B18) -> 30
A19: Semestr 3
A20: Budowa lotnisk | B20: 3
A21: Komputerowe projektowanie dróg | B21: 2
A22: Organizacja ruchu drogowego | B22: 2
A23: Przygotowanie i złożenie pracy dyplomowej oraz przygotowanie do egzaminu dyplomowego | B23: 20
A24: Seminarium dyplomowe | B24: 1
A25: Teoria ruchu drogowego | B25: 2

Sheet ECTS KBI
B2: ECTS
A3: Semestr 2
A4: Betonowe konstrukcje sprężone | B4: 2
A5: Bezpieczeństwo i niezawodność konstrukcji | B5: 2
A6: Budownictwo przemysłowe | B6: 2
A7: Dynamika budowli | B7: 2
A8: Konstrukcje drewniane | B8: 2
A9: Konstrukcje zespolone | B9: 2
A10: Mechanika konstrukcji | B10: 2
A11: Metoda elementów skończonych | B11: 3
A12: Przedmiot wybieralny 3.I | B12: 3
A13: Seminarium dyplomowe | B13: 1
A14: Złożone konstrukcje betonowe II | B14: 2
A15: BIM w projektowaniu konstrukcji | B15: 3
... A17: Wybrane elementy infrastruktury drogowej | B17: 2
A18: Semestr3
A19: Mosty | B19: 3
A20: Przedmiot wybieralny 3.II | B20: 3
A21: Przygotowanie i złożenie pracy dyplomowej oraz przygotowanie do egzaminu dyplomowego | B21: 20
A22: Seminarium dyplomowe | B22: 1
A23: Diagnostyka obiektów budowlanych | B23: 2
A24: Projektowanie termiczne węzów konstrukcyjnych | B24: 1

Sheet ECTS Mosty
B2: ECTS
A3: Semestr 2
A4: Dynamika budowli | B4: 2
A5: Mechanika konstrukcji | B5: 3
A6: Metoda elementów skończonych | B6: 2
A7: Mosty betonowe | B7: 5
A8: Mosty metalowe | B8: 5
A9: Podstawy projektowania dróg | B9: 2
A10: Posadowienie obiektów inżynierskich | B10: 5
A11: Seminarium dyplomowe | B11: 1
A12: Złożone konstrukcje betonowe II | B12: 2
A13: Stalowe konstrukcje specjalne | B13: 2
A14: BIM w projektowaniu mostów | B14: 1
A15: Semestr 3
A16: Bezpieczeństwo i niezawodność konstrukcji | B16: 2
A17: Diagnostyka i utrzymanie mostów | B17: 2
A18: Przedmiot wybieralny 3.III | B18: 2
A19: Przygotowanie i złożenie pracy dyplomowej oraz przygotowanie do egzaminu dyplomowego | B19: 20
A20: Seminarium dyplomowe | B20: 1
A21: Technologia robót mostowych | B21: 3

Sheet ECTS BN
A2: Etykiety wierszy | B2: ECTS
A3: Semestr 2
A4: Aspekty prawne w budownictwie energooszczędnym | B4: 1
A5: Budownictwo energooszczędne i pasywne | B5: 4
A6: Eksploatacja budynków | B6: 1
A7: Energooszczędne instalacje elektryczne | B7: 1
A8: Nowoczesne materiały i technologie energooszczędne | B8: 4
A9: Ochrona cieplna i diagnostyka budynków | B9: 5
A10: Odnawialne źródła energii | B10: 2
A11: Projektowanie architektoniczne budynków energooszczędnych | B11: 2
A12: Rozwiązania instalacyjne w budynkach niskoenergetycznych | B12: 4
A13: Seminarium dyplomowe | B13: 1
A14: Termomodernizacja i racjonalizacja użytkowania energii w budynkach | B14: 3
A15: Wspomaganie komputerowe w budownictwie energooszczędnym | B15: 1
A16: Diagnostyka obiektów budowlanych | B16: 1
A17: Semestr 3
A18: Charakterystyka energetyczna budynków | B18: 4
A19: Eksploatacja budynków | B19: 2
A20: Kosztorysowanie robót termomodernizacyjnych | B20: 1
A21: Przygotowanie i złożenie pracy dyplomowej oraz przygotowanie do egzaminu dyplomowego | B21: 20
A22: Seminarium dyplomowe | B22: 1
A23: Utylizacja i recykling w budownictwie | B23: 1
A24: Wspomaganie komputerowe w budownictwie energooszczędnym | B24: 1
