Workbook

Sheet NOWY II st. plan VIII
R3: Załącznik nr 2 do uchwały nr 6/444 Senatu UTP z dnia 27 maja 2020 r.
B4: Informacje ogólne o programie studiów
B6: KIERUNEK: | C6: BUDOWNICTWO
B7: PROFIL: | C7: PROFIL OGÓLNOAKADEMICKI
B8: POZIOM STUDIÓW: | C8: STUDIA DRUGIEGO STOPNIA (1,5-letnie)
B9: FORMA STUDIÓW: | C9: STUDIA NIESTACJONARNE
B12: łączna liczba godzin zajęć dydaktycznych | G12: =(G150) -> 574 | H12: godz.
B13: łączna liczba pkt. ECTS jaką student musi uzyskać w ramach zajęć prowadzonych z bezpośrednim udziałem NA lub innych osób prowadzących zajęcia (w przypadku studiów niestacjonarnych ponad 0,6x50%=30% z ogólnej liczby pkt. ECTS) | G13: =G12/25+(15+1+10)*4/25+8 -> 35.12 | H13: pkt. ECTS
B14: liczba pkt. ECTS jaką student musi uzyskać w ramach zajęć z dziedziny nauk humanistycznych lub nauk społecznych (nie mniej niż 5 pkt. ECTS, nie dotyczy kierunków przyporządkowanych do dziedziny nauk humanistycznych lub nauk społecznych) | G14: 5 | H14: pkt. ECTS
B15: liczba pkt. ECTS za zajęcia do wyboru (nie mniej niż 30% z ogólnej liczby pkt. ECTS) | G15: 60 | H15: pkt. ECTS
B16: zajęcia związane z prowadzoną w uczelni działalnością naukową w dyscyplinie / dyscyplinach, do których przyporządkowano kierunek studiów wskazać wyłącznie dla kierunku o profilu ogólnoakademickim (ponad 50% z ogólnej liczby pkt. ECTS) | G16: 83 | H16: pkt. ECTS
B17: zajęcia kształtujące umiejętności praktyczne wskazać wyłacznie dla kierunku o profilu praktycznym (ponad 50% z ogólnej liczby pkt. ECTS) | G17: x | H17: pkt. ECTS
D20: PLAN STUDIÓW NR VIII
A22: WYDZIAŁ BUDOWNICTWA ARCHITEKTURY I INŻYNIERII ŚRODOWISKA
D23: PROFIL: | H23: =(C7) -> PROFIL OGÓLNOAKADEMICKI
D24: POZIOM STUDIÓW: | H24: =(C8) -> STUDIA DRUGIEGO STOPNIA (1,5-letnie)
A25: UNIWERSYTET TECHNOLOGICZNO - PRZYRODNICZY | D25: FORMA STUDIÓW: | H25: =(C9) -> STUDIA NIESTACJONARNE | T25: ……………………………..
A26: IM. J. i J. ŚNIADECKICH | D26: KIERUNEK: | H26: =(C6) -> BUDOWNICTWO | T26: pieczątka uczelni
B27: w BYDGOSZCZY | D27: SPECJALNOŚĆ: | H27: 1. BUDOWA I EKSPLOATACJA AUTOSTRAD
H28: 2. KONSTRUKCJE BUDOWLANE I INŻYNIERSKIE
H29: 3. MOSTY
H30: 4. BUDOWNICTWO NISKOENERGETYCZNE
A32: Pozycja planu | B32: NAZWA PRZEDMIOTU / ZAJĘĆ | D32: Liczba | G32: GODZINY | L32: ROZKŁAD ZAJĘĆ W SEMESTRZE
G33: Razem | H33: w tym | L33: sem. I | P33: sem. II | T33: sem. III | X33: sem. IV
D34: egza-mi-nów | E34: zali-czeń | F34: pkt. ECTS | H34: W | I34: Ć | J34: L | K34: P / S | L34: Liczba godzin w semestrze
L35: W | M35: Ć | N35: L | O35: P | P35: W | Q35: Ć | R35: L | S35: P | T35: W | U35: Ć | V35: L | W35: P | X35: W | Y35: Ć | Z35: L | AA35: P
O36: S | S36: S | W36: S | AA36: S
A37: B. | B37: PRZEDMIOTY PODSTAWOWE
A38: 1. | B38: Matematyka zaawansowana | E38: 1 | F38: 2 | G38: =SUM(H38:K38) -> 20 | H38: =L38+P38+T38+X38 -> 10 | I38: =M38+Q38+U38+Y38 -> 10 | J38: =N38+R38+V38+Z38 -> 0 | K38: =O38+S38+W38+AA38 -> 0 | L38: 10 | M38: 10
B40: RAZEM | D40: =SUM(D38:D39) -> 0 | E40: =SUM(E38:E39) -> 1 | F40: =SUM(F38:F39) -> 2 | G40: =SUM(G38:G39) -> 20 | H40: =SUM(H38:H39) -> 10 | I40: =SUM(I38:I39) -> 10 | J40: =SUM(J38:J39) -> 0 | K40: =SUM(K38:K39) -> 0 | ... AA40: =SUM(AA38:AA39) -> 0
L41: =SUM(L40:O40) -> 20 | P41: =SUM(P40:S40) -> 0 | T41: =SUM(T40:W40) -> 0 | X41: =SUM(X40:AA40) -> 0
A42: PODSUMOWANIE ARKUSZA 1 | D42: egza-mi-nów | E42: zali-czeń | F42: pkt. ECTS | G42: Razem | H42: W | I42: Ć | J42: L | K42: P / S | L42: sem. I | P42: sem. II | T42: sem. III | X42: sem. IV
L43: W | M43: Ć | N43: L | O43: P | P43: W | Q43: Ć | R43: L | S43: P | T43: W | U43: Ć | V43: L | W43: P | X43: W | Y43: Ć | Z43: L | AA43: P
O44: S | S44: S | W44: S | AA44: S
D45: =D40 -> 0 | E45: =E40 -> 1 | F45: =F40 -> 2 | G45: =G40 -> 20 | H45: =H40 -> 10 | I45: =I40 -> 10 | J45: =J40 -> 0 | K45: =K40 -> 0 | ... AA45: =AA40 -> 0 | AC45: SUMA
L46: =SUM(L45:O45) -> 20 | P46: =SUM(P45:S45) -> 0 | T46: =SUM(T45:W45) -> 0 | X46: =SUM(X45:AA45) -> 0 | AC46: =SUM(L46:AA46) -> 20
D47: Liczba: | G47: egzaminów | L47: 0 | P47: 0 | T47: 0 | AC47: =SUM(L47:AA47) -> 0
G48: zaliczeń | L48: 1 | P48: 0 | T48: 0 | AC48: =SUM(L48:AA48) -> 1
G49: pkt. ECTS | L49: 2 | P49: 0 | T49: 0 | AC49: =SUM(L49:AA49) -> 2
A51: Uwagi: | Q51: Obowiązuje od roku akademickiego: 2020/2021
...

Sheet ECTS
A1: PLAN STUDIÓW NR VIII
A2: POZIOM STUDIÓW: | D2: STUDIA II STOPNIA (MAGISTERSKIE)
A3: FORMA STUDIÓW: | D3: STACJONARNE
A4: KIERUNEK: | D4: BUDOWNICTWO
A6: Plan studiów według semestrów
A7: SPECJALNOŚĆ: | C7: BEA, KBI, MOSTY, BN
B8: Zestaw | F8: Liczba godzin | H8: Punkty
A9: L.p. | B9: przedmiotów | C9: Nazwa przedmiotu | F9: w semestrze | H9: kredytowe | I9: Strona
B10: (kod) | F10: wykłady | G10: ćwiczenia | H10: ECTS
A11: Rok 1 Semestr 1
A12: 1 | B12: B.1 | C12: ='NOWY II st. plan VIII'!B38 -> Matematyka zaawansowana | F12: ='NOWY II st. plan VIII'!L38 -> 10 | G12: =SUM('NOWY II st. plan VIII'!M38:O38) -> 10 | H12: ='ECTS kierunkowe'!B5 -> 2
A13: 2 | B13: C.1 | C13: ='NOWY II st. plan VIII'!B79 -> Teoria sprężystości i plastyczności | F13: ='NOWY II st. plan VIII'!L79 -> 8 | G13: =SUM('NOWY II st. plan VIII'!M79:O79) -> 12 | H13: ='ECTS kierunkowe'!B7 -> 3
A14: 3 | B14: C.2 | C14: ='NOWY II st. plan VIII'!B80 -> Metody numeryczne w budownictwie | F14: ='NOWY II st. plan VIII'!L80 -> 8 | G14: =SUM('NOWY II st. plan VIII'!M80:O80) -> 16 | H14: ='ECTS kierunkowe'!B12 -> 3
A15: 4 | B15: C.3 | C15: ='NOWY II st. plan VIII'!B81 -> Complex concrete structures Złożone konstrukcje betonowe | F15: ='NOWY II st. plan VIII'!L81 -> 16 | G15: =SUM('NOWY II st. plan VIII'!M81:O81) -> 16 | H15: ='ECTS kierunkowe'!B9 -> 3
A16: 5 | B16: C.4 | C16: ='NOWY II st. plan VIII'!B82 -> Konstrukcje metalowe II | F16: ='NOWY II st. plan VIII'!L82 -> 16 | G16: =SUM('NOWY II st. plan VIII'!M82:O82) -> 16 | H16: ='ECTS kierunkowe'!B10 -> 3
A17: 6 | B17: C.5 | C17: ='NOWY II st. plan VIII'!B83 -> Zarządzanie przedsięwzięciami budowlanymi | F17: ='NOWY II st. plan VIII'!L83 -> 8 | G17: =SUM('NOWY II st. plan VIII'!M83:O83) -> 8 | H17: ='ECTS kierunkowe'!B8 -> 3
A18: 7 | B18: C.6 | C18: ='NOWY II st. plan VIII'!B84 -> Zaawansowane problemy ekonomiki budownictwa | F18: ='NOWY II st. plan VIII'!L84 -> 8 | G18: =SUM('NOWY II st. plan VIII'!M84:O84) -> 8 | H18: ='ECTS kierunkowe'!B3 -> 2
A19: 8 | B19: C.7 | C19: ='NOWY II st. plan VIII'!B85 -> Budownictwo ogólne z fizyką budowli | F19: ='NOWY II st. plan VIII'!L85 -> 16 | G19: =SUM('NOWY II st. plan VIII'!M85:O85) -> 16 | H19: ='ECTS kierunkowe'!B2 -> 3
A20: 9 | B20: C.8 | C20: ='NOWY II st. plan VIII'!B86 -> Geotechnika | F20: ='NOWY II st. plan VIII'!L86 -> 16 | G20: =SUM('NOWY II st. plan VIII'!M86:O86) -> 16 | H20: ='ECTS kierunkowe'!B4 -> 3
A21: 10 | B21: C.9 | C21: ='NOWY II st. plan VIII'!B87 -> Miernictwo budowlane | F21: ='NOWY II st. plan VIII'!L87 -> 8 | G21: =SUM('NOWY II st. plan VIII'!M87:O87) -> 16 | H21: ='ECTS kierunkowe'!B6 -> 3
A22: 11 | B22: C.10 | C22: ='NOWY II st. plan VIII'!B88 -> Betony nowej generacji | F22: ='NOWY II st. plan VIII'!L88 -> 8 | G22: =SUM('NOWY II st. plan VIII'!M88:O88) -> 12 | H22: ='ECTS kierunkowe'!B11 -> 2
A23: Suma punktów kredytowych ECTS | H23: =SUM(H12:H22) -> 30
A25: SPECJALNOŚĆ: | C25: BUDOWA I EKSPLOATACJA AUTOSTRAD
B26: Zestaw | F26: Liczba godzin | H26: Punkty
A27: L.p. | B27: przedmiotów | C27: Nazwa przedmiotu | F27: w semestrze | H27: kredytowe | I27: Strona
B28: (kod) | F28: wykłady | G28: ćwiczenia | H28: ECTS
A29: Rok 1 Semestr 2
A30: 1 | B30: D.1.1 | C30: ='NOWY II st. plan VIII'!B127 -> Projektowanie dróg i ulic | F30: ='NOWY II st. plan VIII'!P127 -> 8 | G30: =SUM('NOWY II st. plan VIII'!Q127:S127) -> 16 | H30: ='ECTS DUL,BEA'!B12 -> 2
A31: 2 | B31: D.1.2 | C31: ='NOWY II st. plan VIII'!B128 -> Skrzyżowania | F31: ='NOWY II st. plan VIII'!P128 -> 8 | G31: =SUM('NOWY II st. plan VIII'!Q128:S128) -> 16 | H31: ='ECTS DUL,BEA'!B15 -> 3
A32: 3 | B32: D.1.3 | C32: ='NOWY II st. plan VIII'!B129 -> Budowa i utrzymanie dróg | F32: ='NOWY II st. plan VIII'!P129 -> 16 | G32: =SUM('NOWY II st. plan VIII'!Q129:S129) -> 8 | H32: ='ECTS DUL,BEA'!B5 -> 3
A33: 4 | B33: D.1.5 | C33: ='NOWY II st. plan VIII'!B131 -> Nawierzchnie drogowe | F33: ='NOWY II st. plan VIII'!P131 -> 8 | G33: =SUM('NOWY II st. plan VIII'!Q131:S131) -> 16 | H33: ='ECTS DUL,BEA'!B9 -> 3
A34: 5 | B34: D.1.6 | C34: ='NOWY II st. plan VIII'!B132 -> Organizacja ruchu drogowego | F34: ='NOWY II st. plan VIII'!P132 -> 8 | G34: =SUM('NOWY II st. plan VIII'!Q132:S132) -> 8 | H34: ='ECTS DUL,BEA'!B11 -> 2
A35: 6 | B35: D.1.7 | C35: ='NOWY II st. plan VIII'!B133 -> Bezpieczeństwo ruchu drogowego | F35: ='NOWY II st. plan VIII'!P133 -> 8 | G35: =SUM('NOWY II st. plan VIII'!Q133:S133) -> 8 | H35: ='ECTS DUL,BEA'!B4 -> 3
A36: 7 | B36: D.1.8 | C36: ='NOWY II st. plan VIII'!B134 -> Teoria ruchu drogowego | F36: ='NOWY II st. plan VIII'!P134 -> 8 | H36: ='ECTS DUL,BEA'!B16 -> 1
A37: 8 | B37: D.1.9 | C37: ='NOWY II st. plan VIII'!B135 -> Komputerowe projektowanie dróg | G37: =SUM('NOWY II st. plan VIII'!Q135:S135) -> 8 | H37: ='ECTS DUL,BEA'!B8 -> 1
A38: 9 | B38: D.1.10 | C38: ='NOWY II st. plan VIII'!B136 -> Węzły drogowe | F38: ='NOWY II st. plan VIII'!P136 -> 16 | G38: =SUM('NOWY II st. plan VIII'!Q136:S136) -> 8 | H38: ='ECTS DUL,BEA'!B17 -> 2
A39: 10 | B39: D.1.11 | C39: ='NOWY II st. plan VIII'!B137 -> Projektowanie układów komunikacyjnych | F39: ='NOWY II st. plan VIII'!P137 -> 8 | G39: =SUM('NOWY II st. plan VIII'!Q137:S137) -> 8 | H39: ='ECTS DUL,BEA'!B13 -> 2
A40: 11 | B40: D.1.12 | C40: ='NOWY II st. plan VIII'!B138 -> Organizacja robót drogowych | F40: ='NOWY II st. plan VIII'!P138 -> 8 | H40: ='ECTS DUL,BEA'!B10 -> 2
A41: 12 | B41: D.1.13 | C41: ='NOWY II st. plan VIII'!B139 -> Drogowe budowle inżynierskie | F41: ='NOWY II st. plan VIII'!P139 -> 8 | H41: ='ECTS DUL,BEA'!B7 -> 1
A42: 13 | B42: D.1.14 | C42: ='NOWY II st. plan VIII'!B140 -> Seminarium dyplomowe | G42: =SUM('NOWY II st. plan VIII'!Q140:S140) -> 8 | H42: ='ECTS DUL,BEA'!B14 -> 1
...

Sheet ECTS kierunkowe
B1: ECTS
A2: Budownictwo ogólne z fizyką budowli | B2: 3
A3: Ekonomika budownictwa | B3: 2
A4: Geotechnika | B4: 3
A5: Matematyka zaawansowana | B5: 2
A6: Miernictwo budowlane | B6: 3
A7: Teoria sprężystości i plastyczności | B7: 3
A8: Zarządzanie przedsięwzięciami budowlanymi | B8: 3
A9: Complex concrete structures/ Złożone konstrukcje betonowe | B9: 3
A10: Konstrukcje metalowe II | B10: 3
A11: Betony nowej generacji | B11: 2
A12: Zaawansowane metody komputerowe | B12: 3
B14: =SUM(B2:B12) -> 30

Sheet ECTS DUL,BEA
B1: ECTS
A2: Semestr 2
A3: Bezpieczeństwo i niezawodność konstrukcji | B3: 1
A4: Bezpieczeństwo ruchu drogowego | B4: 3
A5: Budowa i utrzymanie dróg | B5: 3
A6: Budowle geotechniczne w drogownictwie | B6: 2
A7: Drogowe budowle inżynierskie II | B7: 1
A8: Komputerowe projektowanie dróg | B8: 1
A9: Nawierzchnie drogowe | B9: 3
A10: Organizacja robót drogowych | B10: 2
A11: Organizacja ruchu drogowego | B11: 2
A12: Projektowanie dróg i ulic | B12: 2
A13: Projektowanie układów komunikacyjnych | B13: 2
A14: Seminarium dyplomowe | B14: 1
... A17: Węzły drogowe | B17: 2
A18: Diagnostyka obiektów budowlanych | B18: 1 | C18: =SUM(B3:B18) -> 30
A19: Semestr 3
A20: Budowa lotnisk | B20: 3
A21: Komputerowe projektowanie dróg | B21: 2
A22: Organizacja ruchu drogowego | B22: 2
A23: Przygotowanie i złożenie pracy dyplomowej oraz przygotowanie do egzaminu dyplomowego | B23: 20
A24: Seminarium dyplomowe | B24: 1
A25: Teoria ruchu drogowego | B25: 2

Sheet ECTS KBI
B2: ECTS
A3: Semestr 2
A4: Betonowe konstrukcje sprężone | B4: 2
A5: Bezpieczeństwo i niezawodność konstrukcji | B5: 2
A6: Budownictwo przemysłowe | B6: 2
A7: Dynamika budowli | B7: 2
A8: Konstrukcje drewniane | B8: 2
A9: Konstrukcje zespolone | B9: 2
A10: Mechanika konstrukcji | B10: 2
A11: Metoda elementów skończonych | B11: 3
A12: Przedmiot wybieralny 3.I | B12: 3
A13: Seminarium dyplomowe | B13: 1
A14: Złożone konstrukcje betonowe II | B14: 2
A15: BIM w projektowaniu konstrukcji | B15: 3
... A17: Wybrane elementy infrastruktury drogowej | B17: 2
A18: Semestr3
A19: Mosty | B19: 3
A20: Przedmiot wybieralny 3.II | B20: 3
A21: Przygotowanie i złożenie pracy dyplomowej oraz przygotowanie do egzaminu dyplomowego | B21: 20
A22: Seminarium dyplomowe | B22: 1
A23: Diagnostyka obiektów budowlanych | B23: 2
A24: Projektowanie termiczne węzów konstrukcyjnych | B24: 1

Sheet ECTS Mosty
B2: ECTS
A3: Semestr 2
A4: Dynamika budowli | B4: 2
A5: Mechanika konstrukcji | B5: 3
A6: Metoda elementów skończonych | B6: 2
A7: Mosty betonowe | B7: 5
A8: Mosty metalowe | B8: 5
A9: Podstawy projektowania dróg | B9: 2
A10: Posadowienie obiektów inżynierskich | B10: 5
A11: Seminarium dyplomowe | B11: 1
A12: Złożone konstrukcje betonowe II | B12: 2
A13: Stalowe konstrukcje specjalne | B13: 2
A14: BIM w projektowaniu mostów | B14: 1
A15: Semestr 3
A16: Bezpieczeństwo i niezawodność konstrukcji | B16: 2
A17: Diagnostyka i utrzymanie mostów | B17: 2
A18: Przedmiot wybieralny 3.III | B18: 2
A19: Przygotowanie i złożenie pracy dyplomowej oraz przygotowanie do egzaminu dyplomowego | B19: 20
A20: Seminarium dyplomowe | B20: 1
A21: Technologia robót mostowych | B21: 3

Sheet ECTS BN
A2: Etykiety wierszy | B2: ECTS
A3: Semestr 2
A4: Aspekty prawne w budownictwie energooszczędnym | B4: 1
A5: Budownictwo energooszczędne i pasywne | B5: 4
A6: Eksploatacja budynków | B6: 1
A7: Energooszczędne instalacje elektryczne | B7: 1
A8: Nowoczesne materiały i technologie energooszczędne | B8: 4
A9: Ochrona cieplna i diagnostyka budynków | B9: 5
A10: Odnawialne źródła energii | B10: 2
A11: Projektowanie architektoniczne budynków energooszczędnych | B11: 2
A12: Rozwiązania instalacyjne w budynkach niskoenergetycznych | B12: 4
A13: Seminarium dyplomowe | B13: 1
A14: Termomodernizacja i racjonalizacja użytkowania energii w budynkach | B14: 3
A15: Wspomaganie komputerowe w budownictwie energooszczędnym | B15: 1
A16: Diagnostyka obiektów budowlanych | B16: 1
A17: Semestr 3
A18: Charakterystyka energetyczna budynków | B18: 4
A19: Eksploatacja budynków | B19: 2
A20: Kosztorysowanie robót termomodernizacyjnych | B20: 1
A21: Przygotowanie i złożenie pracy dyplomowej oraz przygotowanie do egzaminu dyplomowego | B21: 20
A22: Seminarium dyplomowe | B22: 1
A23: Utylizacja i recykling w budownictwie | B23: 1
A24: Wspomaganie komputerowe w budownictwie energooszczędnym | B24: 1
