Workbook

Sheet Plan VIII
V2: Załącznik nr 1 do uchwały nr 6/444 Senatu UTP z dnia 27 maja 2020 r.
B3: Informacje ogólne o programie studiów
B5: KIERUNEK: | C5: BUDOWNICTWO
B6: PROFIL: | C6: PROFIL OGÓLNOAKADEMICKI
B7: POZIOM STUDIÓW: | C7: STUDIA PIERWSZEGO STOPNIA (4-letnie inżynierskie)
B8: FORMA STUDIÓW: | C8: STUDIA NIESTACJONARNE
B11: łączna liczba godzin zajęć dydaktycznych | G11: 1394 | H11: godz.
B12: łączna liczba pkt. ECTS jaką student musi uzyskać w ramach zajęć prowadzonych z bezpośrednim udziałem NA lub innych osób prowadzących zajęcia (w przypadku studiów niestacjonarnych ponad 0,6x50%=30% z ogólnej liczby pkt. ECTS) | G12: =ROUNDDOWN(G11/25+62*4/25+7,0) -> 72 | H12: pkt. ECTS
B13: liczba pkt. ECTS jaką student musi uzyskać w ramach zajęć z dziedziny nauk humanistycznych lub nauk społecznych (nie mniej niż 5 pkt. ECTS, nie dotyczy kierunków przyporządkowanych do dziedziny nauk humanistycznych lub nauk społecznych) | G13: 6 | H13: pkt. ECTS
B14: liczba pkt. ECTS za zajęcia do wyboru (nie mniej niż 30% z ogólnej liczby pkt. ECTS) | G14: 63 | H14: pkt. ECTS
B15: zajęcia związane z prowadzoną w uczelni działalnością naukową w dyscyplinie / dyscyplinach, do których przyporządkowano kierunek studiów wskazać wyłącznie dla kierunku o profilu ogólnoakademickim (ponad 50% z ogólnej liczby pkt. ECTS) | G15: 180 | H15: pkt. ECTS
B16: zajęcia kształtujące umiejętności praktyczne wskazać wyłacznie dla kierunku o profilu praktycznym (ponad 50% z ogólnej liczby pkt. ECTS) | G16: - | H16: pkt. ECTS
D26: PLAN STUDIÓW NR VIII | AU26: KMKiMB | AV26: KKB
A27: WYDZIAŁ BUDOWNICTWA, ARCHITEKTURY
A28: I INŻYNIERII ŚRODOWISKA
D29: PROFIL: | H29: PROFIL OGÓLNOAKADEMICKI
A30: UNIWERSYTET TECHNOLOGICZNO-PRZYRODNICZY | D30: POZIOM STUDIÓW: | H30: STUDIA PIERWSZEGO STOPNIA (4-LETNIE INŻYNIERSKIE)
A31: IM. J. i J. ŚNIADECKICH | D31: FORMA STUDIÓW: | H31: STUDIA NIESTACJONARNE
A32: w BYDGOSZCZY | D32: KIERUNEK: | H32: BUDOWNICTWO
AF33: …………………..
AF34: pieczątka uczelni
A37: Pozycja planu | B37: NAZWA PRZEDMIOTU | D37: Liczba | G37: GODZINY | L37: ROZKŁAD ZAJĘĆ w SEMESTRZE
G38: Razem | H38: w tym | L38: sem. I | P38: sem. II | T38: sem. III | X38: sem. IV | AB38: sem. V | AF38: sem. VI | AJ38: sem. VII | AN38: sem. VIII
D39: egza-mi-nów | E39: zali-czeń | F39: pkt. ECTS | H39: W | I39: Ć | J39: L | K39: P / S | L39: Liczba godzin w semestrze
L40: W | M40: Ć | N40: L | O40: P/S | P40: W | Q40: Ć | R40: L | S40: P/S | T40: W | U40: Ć | V40: L | W40: P/S | X40: W | Y40: Ć | Z40: L | AA40: P/S | AB40: W | AC40: Ć | AD40: L | AE40: P/S | AF40: W | AG40: Ć | AH40: L | AI40: P/S | AJ40: W | AK40: Ć | AL40: L | AM40: P/S | AN40: W | AO40: Ć | AP40: L | AQ40: P/S
A42: A. | B42: PRZEDMIOTY OGÓLNE
A43: 1. | B43: Język obcy 3) | E43: 4 | F43: 5 | G43: =SUM(H43:K43) -> 72 | H43: =L43+P43+T43+X43+AB43+AF43+AJ43+AN43 -> 0 | I43: =M43+Q43+U43+Y43+AC43+AG43+AK43+AO43 -> 0 | J43: =N43+R43+V43+Z43+AD43+AH43+AL43+AP43 -> 72 | K43: =O43+S43+W43+AA43+AE43+AI43+AM43+AQ43 -> 0 | L43: 0 | M43: 0 | N43: 0 | O43: 0 | P43: 0 | Q43: 0 | R43: 0 | S43: 0 | T43: 0 | U43: 0 | V43: 16 | W43: 0 | X43: 0 | Y43: 0 | Z43: 16 | AA43: 0 | AB43: 0 | AC43: 0 | AD43: 16 | AE43: 0 | AF43: 0 | AG43: 0 | AH43: 24 | AI43: 0 | AJ43: 0 | AK43: 0 | AL43: 0 | AM43: 0 | AN43: 0 | AO43: 0 | AP43: 0 | AQ43: 0
A44: 2. | B44: Psychospołeczne aspekty sukcesu zawodowego | E44: 1 | F44: 1 | G44: =SUM(H44:K44) -> 8 | H44: =L44+P44+T44+X44+AB44+AF44+AJ44+AN44 -> 8 | I44: =M44+Q44+U44+Y44+AC44+AG44+AK44+AO44 -> 0 | J44: =N44+R44+V44+Z44+AD44+AH44+AL44+AP44 -> 0 | K44: =O44+S44+W44+AA44+AE44+AI44+AM44+AQ44 -> 0 | M44: 0 | O44: 0 | P44: 0 | Q44: 0 | R44: 0 | S44: 0 | T44: 0 | U44: 0 | V44: 0 | W44: 0 | X44: 0 | Y44: 0 | Z44: 0 | AA44: 0 | AB44: 0 | AC44: 0 | AD44: 0 | AE44: 0 | AF44: 0 | AG44: 0 | AH44: 0 | AI44: 0 | AJ44: 0 | AK44: 0 | AL44: 0 | AM44: 0 | AN44: 8 | AO44: 0 | AP44: 0
A45: 3. | B45: Bezpieczeństwo pracy i ergonomia | E45: 1 | F45: 1 | G45: =SUM(H45:K45) -> 16 | H45: =L45+P45+T45+X45+AB45+AF45+AJ45+AN45 -> 16 | I45: =M45+Q45+U45+Y45+AC45+AG45+AK45+AO45 -> 0 | J45: =N45+R45+V45+Z45+AD45+AH45+AL45+AP45 -> 0 | K45: =O45+S45+W45+AA45+AE45+AI45+AM45+AQ45 -> 0 | M45: 0 | N45: 0 | O45: 0 | Q45: 0 | R45: 0 | S45: 0 | T45: 16 | U45: 0 | V45: 0 | W45: 0 | X45: 0 | Y45: 0 | Z45: 0 | AA45: 0 | AB45: 0 | AC45: 0 | AD45: 0 | AE45: 0 | AF45: 0 | AG45: 0 | AH45: 0 | AI45: 0 | AJ45: 0 | AK45: 0 | AL45: 0 | AM45: 0 | AO45: 0 | AP45: 0 | AQ45: 0
A46: 4. | B46: Prawo w budownictwie | E46: 1 | F46: 2 | G46: =SUM(H46:K46) -> 16 | H46: =L46+P46+T46+X46+AB46+AF46+AJ46+AN46 -> 16 | I46: =M46+Q46+U46+Y46+AC46+AG46+AK46+AO46 -> 0 | J46: =N46+R46+V46+Z46+AD46+AH46+AL46+AP46 -> 0 | K46: =O46+S46+W46+AA46+AE46+AI46+AM46+AQ46 -> 0 | L46: 0 | M46: 0 | N46: 0 | O46: 0 | P46: 0 | Q46: 0 | R46: 0 | S46: 0 | T46: 0 | U46: 0 | V46: 0 | W46: 0 | X46: 0 | Y46: 0 | Z46: 0 | AA46: 0 | AB46: 0 | AC46: 0 | AD46: 0 | AE46: 0 | AF46: 0 | AG46: 0 | AH46: 0 | AI46: 0 | AJ46: 0 | AK46: 0 | AL46: 0 | AM46: 0 | AN46: 16 | AO46: 0 | AP46: 0 | AQ46: 0 | AV46: 16
A47: 5. | B47: Podstawy przedsiębiorczości | E47: 1 | F47: 1 | G47: =SUM(H47:K47) -> 16 | H47: =L47+P47+T47+X47+AB47+AF47+AJ47+AN47 -> 16 | I47: =M47+Q47+U47+Y47+AC47+AG47+AK47+AO47 -> 0 | J47: =N47+R47+V47+Z47+AD47+AH47+AL47+AP47 -> 0 | K47: =O47+S47+W47+AA47+AE47+AI47+AM47+AQ47 -> 0 | L47: 0 | M47: 0 | N47: 0 | O47: 0 | P47: 0 | Q47: 0 | R47: 0 | S47: 0 | T47: 0 | U47: 0 | V47: 0 | W47: 0 | X47: 0 | Y47: 0 | Z47: 0 | AA47: 0 | AB47: 0 | AC47: 0 | AD47: 0 | AE47: 0 | AF47: 16 | AG47: 0 | AH47: 0 | AI47: 0 | AJ47: 0 | AK47: 0 | AL47: 0 | AM47: 0 | AO47: 0 | AP47: 0 | AQ47: 0
B48: RAZEM | D48: =SUM(D43:D47) -> 0 | E48: =SUM(E43:E47) -> 8 | F48: =SUM(F43:F47) -> 10 | G48: =SUM(G43:G47) -> 128 | H48: =SUM(H43:H47) -> 56 | I48: =SUM(I43:I47) -> 0 | J48: =SUM(J43:J47) -> 72 | K48: =SUM(K43:K47) -> 0 | ... AQ48: =SUM(AQ43:AQ47) -> 0
L49: =SUM(L48:O48) -> 0 | P49: =SUM(P48:S48) -> 0 | T49: =SUM(T48:W48) -> 32 | X49: =SUM(X48:AA48) -> 16 | AB49: =SUM(AB48:AE48) -> 16 | AF49: =SUM(AF48:AI48) -> 40 | AJ49: =SUM(AJ48:AM48) -> 0 | AN49: =SUM(AN48:AQ48) -> 24
A50: PODSUMOWANIE ARKUSZA 1 | D50: egza-mi-nów | E50: zali-czeń | F50: pkt. ECTS | G50: Razem | H50: W | I50: Ć | J50: L | K50: P / S | L50: sem. I | P50: sem. II | T50: sem. III | X50: sem. IV | AB50: sem. V | AF50: sem. VI | AJ50: sem. VII | AN50: sem. VIII
L51: W | M51: Ć | N51: L | O51: P/S | P51: W | Q51: Ć | R51: L | S51: P/S | T51: W | U51: Ć | V51: L | W51: P/S | X51: W | Y51: Ć | Z51: L | AA51: P/S | AB51: W | AC51: Ć | AD51: L | AE51: P/S | AF51: W | AG51: Ć | AH51: L | AI51: P/S | AJ51: W | AK51: Ć | AL51: L | AM51: P/S | AN51: W | AO51: Ć | AP51: L | AQ51: P/S
D53: =SUM(D48) -> 0 | E53: =SUM(E48) -> 8 | F53: =SUM(F48) -> 10 | G53: =SUM(G48) -> 128 | H53: =SUM(H48) -> 56 | I53: =SUM(I48) -> 0 | J53: =SUM(J48) -> 72 | K53: =SUM(K48) -> 0 | ... AQ53: =SUM(AQ48) -> 0 | AS53: SUMA
L54: =SUM(L53:O53) -> 0 | P54: =SUM(P53:S53) -> 0 | T54: =SUM(T53:W53) -> 32 | X54: =SUM(X53:AA53) -> 16 | AB54: =SUM(AB53:AE53) -> 16 | AF54: =SUM(AF53:AI53) -> 40 | AJ54: =SUM(AJ53:AM53) -> 0 | AN54: =SUM(AN53:AQ53) -> 24 | AS54: =SUM(L54:AQ54) -> 128
D55: Liczba: | G55: egzaminów | L55: 0 | P55: 0 | T55: 0 | X55: 0 | AB55: 0 | AF55: 0 | AJ55: 0 | AN55: 0 | AS55: =SUM(L55:AQ55) -> 0
G56: zaliczeń | L56: 0 | P56: 0 | T56: 2 | X56: 1 | AB56: 1 | AF56: 2 | AJ56: 0 | AN56: 2 | AS56: =SUM(L56:AQ56) -> 8
G57: pkt. ECTS | L57: 0 | P57: 0 | T57: 3 | X57: 1 | AB57: 1 | AF57: 2 | AJ57: 0 | AN57: 3 | AS57: =SUM(L57:AQ57) -> 10
A59: UWAGI: | AF59: Obowiązuje od roku akademickiego: 2020/2021
B60: 1. Studentów obowiązuje zaliczenie na ocenę wszystkich przedmiotów i praktyk oraz zdanie wszystkich egzaminów przewidzianych planem studiów
B61: 2. Studentów obowiązuje odbycie: 1. 4-tygodniowej praktyki zawodowej po II roku studiów (3 punkty ECTS) oraz 2. 4-tygodniowej praktyki przeddyplomowej po III roku studiów (2 punkty ECTS). | AG61: Legenda:
B62: 3. Język obcy kontynuowany do wyboru: 1. Język angielski, 2. Język niemiecki. | AG62: W | AH62: - wykład
B63: 4. Przedmioty obieralne z grupy D - studenci realizują dwa z wybranych modułów przedmiotów: D1.1 lub D1.2, D2.1 lub D2.1 | AG63: Ć | AH63: - ćwiczenia audytoryjne
B64: 5. Przedmioty obieralne z grupy E - studenci realizująjeden z wybranych modułów przedmiotów: E1 lub E2 lub E3 | AG64: L | AH64: - ćwiczenia laboratoryjne, lektorat języków obcych
B65: 6. Studentów obowiązuje napisanie i obrona pracy dyplomowej (15 punktów ECTS). | AG65: P | AH65: - ćwiczenia projektowe
AG66: S | AH66: - seminarium
AG67: T | AH67: - zajęcia terenowe
AH68: - egzamin
AF69: ARKUSZ 1
D70: =D26 -> PLAN STUDIÓW NR VIII
A71: WYDZIAŁ BUDOWNICTWA, ARCHITEKTURY
A72: I INŻYNIERII ŚRODOWISKA
D73: PROFIL: | H73: PROFIL OGÓLNOAKADEMICKI
A74: UNIWERSYTET TECHNOLOGICZNO-PRZYRODNICZY | D74: POZIOM STUDIÓW: | H74: STUDIA PIERWSZEGO STOPNIA (4-LETNIE INŻYNIERSKIE)
A75: IM. J. i J. ŚNIADECKICH | D75: FORMA STUDIÓW: | H75: STUDIA NIESTACJONARNE
A76: w BYDGOSZCZY | D76: KIERUNEK: | H76: BUDOWNICTWO
AF77: …………………..
AF78: pieczątka uczelni
A81: Pozycja planu | B81: NAZWA PRZEDMIOTU | D81: Liczba | G81: GODZINY | L81: ROZKŁAD ZAJĘĆ w SEMESTRZE
G82: Razem | H82: w tym | L82: sem. I | P82: sem. II | T82: sem. III | X82: sem. IV | AB82: sem. V | AF82: sem. VI | AJ82: sem. VII | AN82: sem. VIII
D83: egza-mi-nów | E83: zali-czeń | F83: pkt. ECTS | H83: W | I83: Ć | J83: L | K83: P / S | L83: Liczba godzin w semestrze
L84: W | M84: Ć | N84: L | O84: P/S | P84: W | Q84: Ć | R84: L | S84: P/S | T84: W | U84: Ć | V84: L | W84: P/S | X84: W | Y84: Ć | Z84: L | AA84: P/S | AB84: W | AC84: Ć | AD84: L | AE84: P/S | AF84: W | AG84: Ć | AH84: L | AI84: P/S | AJ84: W | AK84: Ć | AL84: L | AM84: P/S | AN84: W | AO84: Ć | AP84: L | AQ84: P/S
A86: B. | B86: PRZEDMIOTY PODSTAWOWE
A87: 1. | B87: Matematyka | D87: 2 | E87: 2 | F87: 12 | G87: =SUM(H87:K87) -> 80 | H87: =L87+P87+T87+X87+AB87+AF87+AJ87+AN87 -> 40 | I87: =M87+Q87+U87+Y87+AC87+AG87+AK87+AO87 -> 40 | J87: =N87+R87+V87+Z87+AD87+AH87+AL87+AP87 -> 0 | K87: =O87+S87+W87+AA87+AE87+AI87+AM87+AQ87 -> 0 | L87: 16 | M87: 16 | N87: 0 | O87: 0 | P87: 24 | Q87: 24 | R87: 0 | S87: 0 | T87: 0 | U87: 0 | V87: 0 | W87: 0 | X87: 0 | Y87: 0 | Z87: 0 | AA87: 0 | AB87: 0 | AC87: 0 | AD87: 0 | AE87: 0 | AF87: 0 | AG87: 0 | AH87: 0 | AI87: 0 | AJ87: 0 | AK87: 0 | AL87: 0 | AM87: 0 | AN87: 0 | AO87: 0 | AP87: 0 | AQ87: 0 | AU87: ZMIANA - MATEMATYKA -8 WYK.
A88: 2. | B88: Statystyka stosowana | E88: 2 | F88: 2 | G88: =SUM(H88:K88) -> 16 | H88: =L88+P88+T88+X88+AB88+AF88+AJ88+AN88 -> 8 | I88: =M88+Q88+U88+Y88+AC88+AG88+AK88+AO88 -> 8 | J88: =N88+R88+V88+Z88+AD88+AH88+AL88+AP88 -> 0 | K88: =O88+S88+W88+AA88+AE88+AI88+AM88+AQ88 -> 0 | L88: 0 | M88: 0 | N88: 0 | O88: 0 | P88: 8 | Q88: 8 | R88: 0 | S88: 0 | V88: 0 | W88: 0 | X88: 0 | Y88: 0 | Z88: 0 | AA88: 0 | AB88: 0 | AC88: 0 | AD88: 0 | AE88: 0 | AF88: 0 | AG88: 0 | AH88: 0 | AI88: 0 | AJ88: 0 | AK88: 0 | AL88: 0 | AM88: 0 | AN88: 0 | AO88: 0 | AP88: 0 | AQ88: 0
A89: 3. | B89: Fizyka | E89: 1 | F89: 1 | G89: =SUM(H89:K89) -> 16 | H89: =L89+P89+T89+X89+AB89+AF89+AJ89+AN89 -> 16 | I89: =M89+Q89+U89+Y89+AC89+AG89+AK89+AO89 -> 0 | J89: =N89+R89+V89+Z89+AD89+AH89+AL89+AP89 -> 0 | K89: =O89+S89+W89+AA89+AE89+AI89+AM89+AQ89 -> 0 | L89: 16 | M89: 0 | N89: 0 | O89: 0 | P89: 0 | Q89: 0 | R89: 0 | S89: 0 | T89: 0 | U89: 0 | V89: 0 | W89: 0 | X89: 0 | Y89: 0 | Z89: 0 | AA89: 0 | AB89: 0 | AC89: 0 | AD89: 0 | AE89: 0 | AF89: 0 | AG89: 0 | AH89: 0 | AI89: 0 | AJ89: 0 | AK89: 0 | AL89: 0 | AM89: 0 | AN89: 0 | AO89: 0 | AP89: 0 | AQ89: 0 | AU89: ZMIANA - FIZYKA +8 WYK.
A90: 4. | B90: Chemia | E90: 2 | F90: 2 | G90: =SUM(H90:K90) -> 16 | H90: =L90+P90+T90+X90+AB90+AF90+AJ90+AN90 -> 8 | I90: =M90+Q90+U90+Y90+AC90+AG90+AK90+AO90 -> 0 | J90: =N90+R90+V90+Z90+AD90+AH90+AL90+AP90 -> 8 | K90: =O90+S90+W90+AA90+AE90+AI90+AM90+AQ90 -> 0 | L90: 8 | M90: 0 | N90: 8 | O90: 0 | Q90: 0 | S90: 0 | T90: 0 | U90: 0 | V90: 0 | W90: 0 | X90: 0 | Y90: 0 | Z90: 0 | AA90: 0 | AB90: 0 | AC90: 0 | AD90: 0 | AE90: 0 | AF90: 0 | AG90: 0 | AH90: 0 | AI90: 0 | AJ90: 0 | AK90: 0 | AL90: 0 | AM90: 0 | AN90: 0 | AO90: 0 | AP90: 0 | AQ90: 0
A91: 5. | B91: Geologia | D91: 1 | E91: 1 | F91: 3 | G91: =SUM(H91:K91) -> 24 | H91: =L91+P91+T91+X91+AB91+AF91+AJ91+AN91 -> 16 | I91: =M91+Q91+U91+Y91+AC91+AG91+AK91+AO91 -> 0 | J91: =N91+R91+V91+Z91+AD91+AH91+AL91+AP91 -> 8 | K91: =O91+S91+W91+AA91+AE91+AI91+AM91+AQ91 -> 0 | M91: 0 | O91: 0 | P91: 16 | Q91: 0 | R91: 8 | S91: 0 | T91: 0 | U91: 0 | V91: 0 | W91: 0 | X91: 0 | Y91: 0 | Z91: 0 | AA91: 0 | AB91: 0 | AC91: 0 | AD91: 0 | AE91: 0 | AF91: 0 | AG91: 0 | AH91: 0 | AI91: 0 | AJ91: 0 | AK91: 0 | AL91: 0 | AM91: 0 | AN91: 0 | AO91: 0 | AP91: 0 | AQ91: 0
A92: 6. | B92: Mechanika teoretyczna | D92: 1 | E92: 1 | F92: 4 | G92: =SUM(H92:K92) -> 32 | H92: =L92+P92+T92+X92+AB92+AF92+AJ92+AN92 -> 16 | I92: =M92+Q92+U92+Y92+AC92+AG92+AK92+AO92 -> 16 | J92: =N92+R92+V92+Z92+AD92+AH92+AL92+AP92 -> 0 | K92: =O92+S92+W92+AA92+AE92+AI92+AM92+AQ92 -> 0 | L92: 16 | M92: 16 | N92: 0 | O92: 0 | R92: 0 | S92: 0 | T92: 0 | U92: 0 | V92: 0 | W92: 0 | X92: 0 | Y92: 0 | Z92: 0 | AA92: 0 | AB92: 0 | AC92: 0 | AD92: 0 | AE92: 0 | AF92: 0 | AG92: 0 | AH92: 0 | AI92: 0 | AJ92: 0 | AK92: 0 | AL92: 0 | AM92: 0 | AN92: 0 | AO92: 0 | AP92: 0 | AQ92: 0 | AU92: 32
A93: 7. | B93: Metody obliczeniowe | E93: 2 | F93: 4 | G93: =SUM(H93:K93) -> 24 | H93: =L93+P93+T93+X93+AB93+AF93+AJ93+AN93 -> 8 | I93: =M93+Q93+U93+Y93+AC93+AG93+AK93+AO93 -> 0 | J93: =N93+R93+V93+Z93+AD93+AH93+AL93+AP93 -> 16 | K93: =O93+S93+W93+AA93+AE93+AI93+AM93+AQ93 -> 0 | L93: 0 | M93: 0 | N93: 0 | O93: 0 | P93: 0 | Q93: 0 | R93: 0 | S93: 0 | T93: 8 | U93: 0 | V93: 16 | W93: 0 | X93: 0 | Y93: 0 | Z93: 0 | AA93: 0 | AB93: 0 | AC93: 0 | AD93: 0 | AE93: 0 | AF93: 0 | AG93: 0 | AH93: 0 | AI93: 0 | AJ93: 0 | AK93: 0 | AL93: 0 | AM93: 0 | AN93: 0 | AO93: 0 | AP93: 0 | AQ93: 0 | AU93: 24
H94: =L94+P94+T94+X94+AB94+AF94+AJ94+AN94 -> 0 | I94: =M94+Q94+U94+Y94+AC94+AG94+AK94+AO94 -> 0 | J94: =N94+R94+V94+Z94+AD94+AH94+AL94+AP94 -> 0 | K94: =O94+S94+W94+AA94+AE94+AI94+AM94+AQ94 -> 0 | L94: 0 | M94: 0 | N94: 0 | O94: 0 | P94: 0 | Q94: 0 | R94: 0 | S94: 0 | T94: 0 | U94: 0 | V94: 0 | W94: 0 | X94: 0 | Y94: 0 | Z94: 0 | AA94: 0 | AB94: 0 | AC94: 0 | AD94: 0 | AE94: 0 | AF94: 0 | AG94: 0 | AH94: 0 | AI94: 0 | AJ94: 0 | AK94: 0 | AL94: 0 | AM94: 0 | AN94: 0 | AO94: 0 | AP94: 0 | AQ94: 0 | AS94: =SUM(L87:AQ94) -> 208
B95: RAZEM | D95: =SUM(D87:D94) -> 4 | E95: =SUM(E87:E94) -> 11 | F95: =SUM(F87:F94) -> 28 | G95: =SUM(G87:G94) -> 208 | H95: =SUM(H87:H94) -> 112 | I95: =SUM(I87:I94) -> 64 | J95: =SUM(J87:J94) -> 32 | K95: =SUM(K87:K94) -> 0 | ... AQ95: =SUM(AQ87:AQ94) -> 0
L96: =SUM(L95:O95) -> 96 | P96: =SUM(P95:S95) -> 88 | T96: =SUM(T95:W95) -> 24 | X96: =SUM(X95:AA95) -> 0 | AB96: =SUM(AB95:AE95) -> 0 | AF96: =SUM(AF95:AI95) -> 0 | AJ96: =SUM(AJ95:AM95) -> 0 | AN96: =SUM(AN95:AQ95) -> 0
A97: PODSUMOWANIE ARKUSZA 1+2 | D97: egza-mi-nów | E97: zali-czeń | F97: pkt. ECTS | G97: Razem | H97: W | I97: Ć | J97: L | K97: P / S | L97: sem. I | P97: sem. II | T97: sem. III | X97: sem. IV | AB97: sem. V | AF97: sem. VI | AJ97: sem. VII | AN97: sem. VIII
L98: W | M98: Ć | N98: L | O98: P/S | P98: W | Q98: Ć | R98: L | S98: P/S | T98: W | U98: Ć | V98: L | W98: P/S | X98: W | Y98: Ć | Z98: L | AA98: P/S | AB98: W | AC98: Ć | AD98: L | AE98: P/S | AF98: W | AG98: Ć | AH98: L | AI98: P/S | AJ98: W | AK98: Ć | AL98: L | AM98: P/S | AN98: W | AO98: Ć | AP98: L | AQ98: P/S
D100: =SUM(D48+D95) -> 4 | E100: =SUM(E48+E95) -> 19 | F100: =SUM(F48+F95) -> 38 | G100: =SUM(G48+G95) -> 336 | H100: =SUM(H48+H95) -> 168 | I100: =SUM(I48+I95) -> 64 | J100: =SUM(J48+J95) -> 104 | K100: =SUM(K48+K95) -> 0 | ... S100: =SUM(S48+S95) -> 0 | T100: =SUM(T95,T53) -> 24 | U100: =SUM(U95,U53) -> 0 | V100: =SUM(V95,V53) -> 32 | W100: =SUM(W95,W53) -> 0 | X100: =SUM(X48+X95) -> 0 | Y100: =SUM(Y48+Y95) -> 0 | Z100: =SUM(Z48+Z95) -> 16 | AA100: =SUM(AA48+AA95) -> 0 | AB100: =SUM(AB48+AB95) -> 0 | AC100: =SUM(AC48+AC95) -> 0 | AD100: =SUM(AD48+AD95) -> 16 | AE100: =SUM(AE48+AE95) -> 0 | ... AQ100: =SUM(AQ48+AQ95) -> 0 | AS100: SUMA
L101: =SUM(L100:O100) -> 96 | P101: =SUM(P100:S100) -> 88 | T101: =SUM(T100:W100) -> 56 | X101: =SUM(X100:AA100) -> 16 | AB101: =SUM(AB100:AE100) -> 16 | AF101: =SUM(AF100:AI100) -> 40 | AJ101: =SUM(AJ100:AM100) -> 0 | AN101: =SUM(AN100:AQ100) -> 24 | AS101: =SUM(L101:AQ101) -> 336
D102: Liczba: | G102: egzaminów | L102: =L55+2 -> 2 | P102: =P55+2 -> 2 | T102: =T55 -> 0 | X102: =X55 -> 0 | AB102: =AB55 -> 0 | AF102: =AF55 -> 0 | AJ102: =AJ55 -> 0 | AN102: =AN55 -> 0 | AS102: =SUM(L102:AQ102) -> 4
G103: zaliczeń | L103: 5 | P103: 4 | T103: =T56+2 -> 4 | X103: =X56 -> 1 | AB103: =AB56 -> 1 | AF103: =AF56 -> 2 | AJ103: =AJ56 -> 0 | AN103: =AN56 -> 2 | AS103: =SUM(L103:AQ103) -> 19
G104: pkt. ECTS | L104: =L57+8+1+2+4 -> 15 | P104: =P57+4+2+3 -> 9 | T104: =T57+4 -> 7 | X104: =X57 -> 1 | AB104: =AB57 -> 1 | AF104: =AF57 -> 2 | AJ104: =AJ57 -> 0 | AN104: =AN57 -> 3 | AS104: =SUM(L104:AQ104) -> 38
A106: UWAGI: | AF106: =AF59 -> Obowiązuje od roku akademickiego: 2020/2021
B107: 1. Studentów obowiązuje zaliczenie na ocenę wszystkich przedmiotów i praktyk oraz zdanie wszystkich egzaminów przewidzianych planem studiów
B108: 2. Studentów obowiązuje odbycie: 1. 4-tygodniowej praktyki zawodowej po II roku studiów (3 punkty ECTS) oraz 2. 4-tygodniowej praktyki przeddyplomowej po III roku studiów (2 punkty ECTS). | AG108: Legenda:
B109: 3. Język obcy kontynuowany do wyboru: 1. Język angielski, 2. Język niemiecki. | AG109: W | AH109: - wykład
B110: 4. Przedmioty obieralne z grupy D - studenci realizują dwa z wybranych modułów przedmiotów: D1.1 lub D1.2, D2.1 lub D2.1 | AG110: Ć | AH110: - ćwiczenia audytoryjne
B111: 5. Przedmioty obieralne z grupy E - studenci realizująjeden z wybranych modułów przedmiotów: E1 lub E2 lub E3 | AG111: L | AH111: - ćwiczenia laboratoryjne, lektorat języków obcych
B112: 6. Studentów obowiązuje napisanie i obrona pracy dyplomowej (15 punktów ECTS). | AG112: P | AH112: - ćwiczenia projektowe
AG113: S | AH113: - seminarium
AG114: T | AH114: - zajęcia terenowe
AH115: - egzamin
AF116: ARKUSZ 2
D117: =D70 -> PLAN STUDIÓW NR VIII
A118: WYDZIAŁ BUDOWNICTWA, ARCHITEKTURY
A119: I INŻYNIERII ŚRODOWISKA
D120: PROFIL: | H120: PROFIL OGÓLNOAKADEMICKI
A121: UNIWERSYTET TECHNOLOGICZNO-PRZYRODNICZY | D121: POZIOM STUDIÓW: | H121: STUDIA PIERWSZEGO STOPNIA (4-LETNIE INŻYNIERSKIE)
A122: IM. J. i J. ŚNIADECKICH | D122: FORMA STUDIÓW: | H122: STUDIA NIESTACJONARNE
A123: w BYDGOSZCZY | D123: KIERUNEK: | H123: BUDOWNICTWO
...

Sheet ECTS
A1: PLAN STUDIÓW NR VIII
A2: POZIOM STUDIÓW: | D2: STUDIA I STOPNIA (INŻYNIERSKIE)
A3: FORMA STUDIÓW: | D3: NIESTACJONARNE
A4: KIERUNEK: | D4: BUDOWNICTWO
A6: 1. Plan studiów według semestrów
B7: Zestaw | F7: Liczba godzin | H7: Punkty
A8: L.p. | B8: przedmiotów | C8: Nazwa przedmiotu | F8: w semestrze | H8: kredytowe | I8: Strona
B9: (kod) | F9: wykłady | G9: ćwiczenia | H9: ECTS
A10: Rok 1 Semestr 1
A11: 1 | B11: B.1 | C11: ='Plan VIII'!B87 -> Matematyka | F11: ='Plan VIII'!L87 -> 16 | G11: =SUM('Plan VIII'!M87:O87) -> 16 | H11: ='ECTS roboczy aktualny'!D5 -> 8
A12: 2 | B12: B.3 | C12: ='Plan VIII'!B89 -> Fizyka | F12: ='Plan VIII'!L89 -> 16 | H12: ='ECTS roboczy aktualny'!D6 -> 1
A13: 3 | B13: B.4 | C13: ='Plan VIII'!B90 -> Chemia | F13: ='Plan VIII'!L90 -> 8 | G13: =SUM('Plan VIII'!M90:O90) -> 8 | H13: ='ECTS roboczy aktualny'!D7 -> 2
A14: 4 | B14: B.6 | C14: ='Plan VIII'!B92 -> Mechanika teoretyczna | F14: ='Plan VIII'!L92 -> 16 | G14: =SUM('Plan VIII'!M92:O92) -> 16 | H14: ='ECTS roboczy aktualny'!D8 -> 4
A15: 5 | B15: C.1 | C15: ='Plan VIII'!B134 -> Geometria wykreślna | F15: ='Plan VIII'!L134 -> 16 | G15: =SUM('Plan VIII'!M134:O134) -> 16 | H15: ='ECTS roboczy aktualny'!D9 -> 3
A16: 7 | B16: C.2 | C16: ='Plan VIII'!B135 -> Rysunek techniczny | G16: =SUM('Plan VIII'!M135:O135) -> 8 | H16: ='ECTS roboczy aktualny'!D10 -> 1
A17: 8 | B17: C.7 | C17: ='Plan VIII'!B140 -> Wyroby budowlane | F17: ='Plan VIII'!L140 -> 16 | G17: =SUM('Plan VIII'!M140:O140) -> 16 | H17: ='ECTS roboczy aktualny'!D12 -> 5
A18: 9 | B18: C.22 | C18: ='Plan VIII'!B155 -> Budownictwo komunikacyjne | F18: ='Plan VIII'!L155 -> 8 | G18: =SUM('Plan VIII'!M155:O155) -> 16 | H18: ='ECTS roboczy aktualny'!D11 -> 3
A19: Suma punktów kredytowych ECTS | H19: =SUM(H11:H18) -> 27
B21: Zestaw | F21: Liczba godzin | H21: Punkty
A22: L.p. | B22: przedmiotów | C22: Nazwa przedmiotu | F22: w semestrze | H22: kredytowe | I22: Strona
B23: (kod) | F23: wykłady | G23: ćwiczenia | H23: ECTS
A24: Rok 1 Semestr 2
A25: 1 | B25: B.1 | C25: ='Plan VIII'!B87 -> Matematyka | F25: ='Plan VIII'!P87 -> 24 | G25: =SUM('Plan VIII'!Q87:S87) -> 24 | H25: ='ECTS roboczy aktualny'!D14 -> 4
A26: 2 | B26: B.2 | C26: ='Plan VIII'!B88 -> Statystyka stosowana | F26: ='Plan VIII'!P88 -> 8 | G26: =SUM('Plan VIII'!Q88:S88) -> 8 | H26: ='ECTS roboczy aktualny'!D15 -> 2
A27: 3 | B27: B.5 | C27: ='Plan VIII'!B91 -> Geologia | F27: ='Plan VIII'!P91 -> 16 | G27: =SUM('Plan VIII'!Q91:S91) -> 8 | H27: ='ECTS roboczy aktualny'!D16 -> 3
A28: 4 | B28: C.2 | C28: ='Plan VIII'!B135 -> Rysunek techniczny | G28: =SUM('Plan VIII'!Q135:S135) -> 16 | H28: ='ECTS roboczy aktualny'!D17 -> 2
A29: 5 | B29: C.4 | C29: ='Plan VIII'!B137 -> Metody komputerowe I | F29: ='Plan VIII'!P137 -> 8 | G29: =SUM('Plan VIII'!Q137:S137) -> 8 | H29: ='ECTS roboczy aktualny'!D22 -> 2
A30: 6 | B30: C.8 | C30: ='Plan VIII'!B141 -> Technologia betonów i zapraw | F30: ='Plan VIII'!P141 -> 8 | G30: =SUM('Plan VIII'!Q141:S141) -> 16 | H30: ='ECTS roboczy aktualny'!D18 -> 3
A31: 7 | B31: C.9 | C31: ='Plan VIII'!B142 -> Wytrzymałość materiałów I | F31: ='Plan VIII'!P142 -> 16 | G31: =SUM('Plan VIII'!Q142:S142) -> 24 | H31: ='ECTS roboczy aktualny'!D19 -> 6
A32: 8 | B32: C.12 | C32: ='Plan VIII'!B145 -> Budownictwo ogólne | F32: ='Plan VIII'!P145 -> 8 | H32: ='ECTS roboczy aktualny'!D20 -> 2
A33: 9 | B33: C.15 | C33: ='Plan VIII'!B148 -> Podstawy projektowania konstrukcji | F33: ='Plan VIII'!P148 -> 8 | H33: ='ECTS roboczy aktualny'!D21 -> 1
A34: Suma punktów kredytowych ECTS | H34: =SUM(H25:H33) -> 25
B36: Zestaw | F36: Liczba godzin | H36: Punkty
A37: L.p. | B37: przedmiotów | C37: Nazwa przedmiotu | F37: w semestrze | H37: kredytowe | I37: Strona
B38: (kod) | F38: wykłady | G38: ćwiczenia | H38: ECTS
A39: Rok 2 Semestr 3
A40: 1 | B40: A.1 | C40: ='Plan VIII'!B43 -> Język obcy 3) | G40: =SUM('Plan VIII'!U43:W43) -> 16 | H40: ='ECTS roboczy aktualny'!D25 -> 2
A41: 2 | B41: A.3 | C41: ='Plan VIII'!B45 -> Bezpieczeństwo pracy i ergonomia | F41: ='Plan VIII'!T45 -> 16 | H41: ='ECTS roboczy aktualny'!D24 -> 1
A42: 3 | B42: B.7 | C42: ='Plan VIII'!B93 -> Metody obliczeniowe | F42: ='Plan VIII'!T93 -> 8 | G42: =SUM('Plan VIII'!U93:W93) -> 16 | H42: ='ECTS roboczy aktualny'!D26 -> 4
A43: 4 | B43: C.3 | C43: ='Plan VIII'!B136 -> Geodezja | F43: ='Plan VIII'!T136 -> 8 | G43: =SUM('Plan VIII'!U136:W136) -> 16 | H43: ='ECTS roboczy aktualny'!D27 -> 3
A44: 5 | B44: C.9 | C44: ='Plan VIII'!B142 -> Wytrzymałość materiałów I | F44: ='Plan VIII'!T142 -> 8 | G44: =SUM('Plan VIII'!U142:W142) -> 16 | H44: ='ECTS roboczy aktualny'!D28 -> 4
A45: 6 | B45: C.12 | C45: ='Plan VIII'!B145 -> Budownictwo ogólne | F45: ='Plan VIII'!T145 -> 8 | G45: =SUM('Plan VIII'!U145:W145) -> 24 | H45: ='ECTS roboczy aktualny'!D29 -> 4
A46: 7 | B46: C.16 | C46: ='Plan VIII'!B149 -> Konstrukcje betonowe - podstawy | F46: ='Plan VIII'!T149 -> 16 | G46: =SUM('Plan VIII'!U149:W149) -> 8 | H46: ='ECTS roboczy aktualny'!D31 -> 3
A47: 8 | B47: C.23 | C47: ='Plan VIII'!B156 -> Fizyka budowli | F47: ='Plan VIII'!T156 -> 16 | G47: =SUM('Plan VIII'!U156:W156) -> 16 | H47: ='ECTS roboczy aktualny'!D30 -> 4
A48: Suma punktów kredytowych ECTS | H48: =SUM(H40:H47) -> 25
B50: Zestaw | F50: Liczba godzin | H50: Punkty
A51: L.p. | B51: przedmiotów | C51: Nazwa przedmiotu | F51: w semestrze | H51: kredytowe | I51: Strona
B52: (kod) | F52: wykłady | G52: ćwiczenia | H52: ECTS
A53: Rok 2 Semestr 4
A54: 1 | B54: A.1 | C54: ='Plan VIII'!B43 -> Język obcy 3) | G54: =SUM('Plan VIII'!Y43:AA43) -> 16 | H54: ='ECTS roboczy aktualny'!D43 -> 1
A55: 2 | B55: C.5 | C55: ='Plan VIII'!B138 -> Metody komputerowe II | G55: =SUM('Plan VIII'!Y138:AA138) -> 16 | H55: ='ECTS roboczy aktualny'!D39 -> 2
A56: 3 | B56: C.11 | C56: ='Plan VIII'!B144 -> Mechanika budowli | F56: ='Plan VIII'!X144 -> 16 | G56: =SUM('Plan VIII'!Y144:AA144) -> 24 | H56: ='ECTS roboczy aktualny'!D34 -> 6
A57: 4 | B57: C.12 | C57: ='Plan VIII'!B145 -> Budownictwo ogólne | F57: ='Plan VIII'!X145 -> 16 | G57: =SUM('Plan VIII'!Y145:AA145) -> 8 | H57: ='ECTS roboczy aktualny'!D35 -> 4
A58: 5 | B58: C.13 | C58: Mechanika gruntów | F58: ='Plan VIII'!X146 -> 16 | G58: =SUM('Plan VIII'!Y146:AA146) -> 16 | H58: ='ECTS roboczy aktualny'!D36 -> 6
A59: 6 | B59: C.17 | C59: ='Plan VIII'!B150 -> Konstrukcje betonowe - elementy | F59: ='Plan VIII'!X150 -> 16 | G59: =SUM('Plan VIII'!Y150:AA150) -> 8 | H59: ='ECTS roboczy aktualny'!D40 -> 3
A60: 7 | B60: C.21 | C60: ='Plan VIII'!B154 -> Instalacje budowlane i OZE | F60: ='Plan VIII'!X154 -> 16 | G60: =SUM('Plan VIII'!Y154:AA154) -> 8 | H60: ='ECTS roboczy aktualny'!D41 -> 3
A61: 8 | B61: C.25 | C61: ='Plan VIII'!B158 -> Hydraulika i hydrologia | F61: ='Plan VIII'!X158 -> 8 | H61: ='ECTS roboczy aktualny'!D37 -> 1
A62: 9 | B62: C.32 | C62: ='Plan VIII'!B165 -> Praktyka zawodowa | H62: ='ECTS roboczy aktualny'!D38 -> 3
A63: Suma punktów kredytowych ECTS | H63: =SUM(H54:H62) -> 29
B65: Zestaw | F65: Liczba godzin | H65: Punkty
A66: L.p. | B66: przedmiotów | C66: Nazwa przedmiotu | F66: w semestrze | H66: kredytowe | I66: Strona
B67: (kod) | F67: wykłady | G67: ćwiczenia | H67: ECTS
A68: Rok 3 Semestr 5
A69: 1 | B69: A.1 | C69: ='Plan VIII'!B43 -> Język obcy 3) | G69: =SUM('Plan VIII'!AC43:AE43) -> 16 | H69: ='ECTS roboczy aktualny'!D52 -> 1
A70: 2 | B70: C.6 | C70: ='Plan VIII'!B139 -> Podstawy BIM | F70: ='Plan VIII'!AB139 -> 8 | G70: =SUM('Plan VIII'!AC139:AE139) -> 16 | H70: ='ECTS roboczy aktualny'!D49 -> 2
A71: 3 | B71: C.11 | C71: ='Plan VIII'!B144 -> Mechanika budowli | F71: ='Plan VIII'!AB144 -> 8 | G71: =SUM('Plan VIII'!AC144:AE144) -> 16 | H71: ='ECTS roboczy aktualny'!D44 -> 4
A72: 4 | B72: C.14 | C72: ='Plan VIII'!B147 -> Fundamentowanie | F72: ='Plan VIII'!AB147 -> 8 | G72: =SUM('Plan VIII'!AC147:AE147) -> 16 | H72: ='ECTS roboczy aktualny'!D45 -> 4
A73: 5 | B73: C.19 | C73: ='Plan VIII'!B152 -> Konstrukcje metalowe - podstawy | F73: ='Plan VIII'!AB152 -> 16 | G73: =SUM('Plan VIII'!AC152:AE152) -> 8 | H73: ='ECTS roboczy aktualny'!D50 -> 2
A74: 6 | B74: D.1.1.1/D.1.2.1 | C74: ='Plan VIII'!B206 -> Planowanie i projektowanie drogowej infrastruktury miejskiej | D74: ='Plan VIII'!C206 -> Planowanie i projektowanie drogowej infrastruktury zamiejskiej | F74: ='Plan VIII'!AB206 -> 8 | G74: =SUM('Plan VIII'!AC206:AE206) -> 8 | H74: ='ECTS roboczy aktualny'!D46 -> 3
A75: 7 | B75: D.1.1.2/D.1.2.2 | C75: ='Plan VIII'!B207 -> Budowa i utrzymanie drogowej infrastuktury miejskiej | D75: ='Plan VIII'!C207 -> Budowa i utrzymanie drogowej infrastuktury zamiejskiej | F75: ='Plan VIII'!AB207 -> 8 | G75: =SUM('Plan VIII'!AC207:AE207) -> 8 | H75: ='ECTS roboczy aktualny'!D47 -> 4
A76: 8 | B76: D.2.1.4/D.2.2.4 | C76: ='Plan VIII'!B253 -> Konstrukcje betonowe - obiekty | D76: ='Plan VIII'!C253 -> Konstrukcje betonowe - hale | F76: ='Plan VIII'!AB253 -> 16 | G76: =SUM('Plan VIII'!AC253:AE253) -> 16 | H76: ='ECTS roboczy aktualny'!D48 -> 5
A77: Suma punktów kredytowych ECTS | H77: =SUM(H69:H76) -> 25
B79: Zestaw | F79: Liczba godzin | H79: Punkty
A80: L.p. | B80: przedmiotów | C80: Nazwa przedmiotu | F80: w semestrze | H80: kredytowe | I80: Strona
B81: (kod) | F81: wykłady | G81: ćwiczenia | H81: ECTS
A82: Rok 3 Semestr 6
A83: 1 | B83: A.1 | C83: ='Plan VIII'!B43 -> Język obcy 3) | G83: =SUM('Plan VIII'!AG43:AI43) -> 24 | H83: ='ECTS roboczy aktualny'!D52 -> 1
A84: 2 | B84: A.5 | C84: ='Plan VIII'!B47 -> Podstawy przedsiębiorczości | F84: ='Plan VIII'!AF47 -> 16 | H84: ='ECTS roboczy aktualny'!D53 -> 1
A85: 3 | B85: C.20 | C85: ='Plan VIII'!B153 -> Konstrukcje metalowe - elementy | F85: ='Plan VIII'!AF153 -> 16 | G85: =SUM('Plan VIII'!AG153:AI153) -> 8 | H85: ='ECTS roboczy aktualny'!D62 -> 3
A86: 4 | B86: C.26 | C86: ='Plan VIII'!B159 -> Technologia robót budowlanych | F86: ='Plan VIII'!AF159 -> 16 | G86: =SUM('Plan VIII'!AG159:AI159) -> 16 | H86: ='ECTS roboczy aktualny'!D61 -> 4
A87: 5 | B87: C.28 | C87: ='Plan VIII'!B161 -> Podstawy kierowania procesem inwestycyjnym | F87: ='Plan VIII'!AF161 -> 8 | H87: ='ECTS roboczy aktualny'!D54 -> 1
A88: 6 | B88: C.31 | C88: ='Plan VIII'!B164 -> Ekonomika budownictwa | F88: ='Plan VIII'!AF164 -> 8 | H88: ='ECTS roboczy aktualny'!D55 -> 1
A89: 8 | B89: D.1.1.3/D.1.2.3 | C89: ='Plan VIII'!B208 -> Organizacja i zarządzanie drogami i ruchem drogowym w miastach | D89: ='Plan VIII'!C208 -> Organizacja i zarządzanie drogami i ruchem drogowym na drogach zamiejskich | F89: ='Plan VIII'!AF208 -> 8 | G89: =SUM('Plan VIII'!AG208:AI208) -> 16 | H89: ='ECTS roboczy aktualny'!D57 -> 2
A90: 9 | B90: D.2.1.1/D.2.2.1 | C90: ='Plan VIII'!B250 -> Fundamentowanie II | D90: ='Plan VIII'!C250 -> Inżynieria geotechniczna | F90: ='Plan VIII'!AF250 -> 8 | G90: =SUM('Plan VIII'!AG250:AI250) -> 8 | H90: ='ECTS roboczy aktualny'!D58 -> 3
A91: 10 | B91: D.2.1.2/D.2.2.2 | C91: ='Plan VIII'!B251 -> Pomiary inżynierskie | D91: ='Plan VIII'!C251 -> Geodezja inżynieryjna | F91: ='Plan VIII'!AF251 -> 8 | G91: =SUM('Plan VIII'!AG251:AI251) -> 8 | H91: ='ECTS roboczy aktualny'!D59 -> 2
A92: 11 | B92: D.2.1.3/D.2.2.3 | C92: ='Plan VIII'!B252 -> Eksploatacja obiektów budowlanych | D92: ='Plan VIII'!C252 -> Utrzymanie obiektów budowlanych | F92: ='Plan VIII'!AF252 -> 8 | H92: ='ECTS roboczy aktualny'!D63 -> 2
A93: 12 | B93: D.2.1.6/D.2.2.6 | C93: ='Plan VIII'!B255 -> Budownictwo drewniane | D93: ='Plan VIII'!C255 -> Szkieletowe konstrukcje drewniane | F93: ='Plan VIII'!AF255 -> 8 | G93: =SUM('Plan VIII'!AK254:AM254) -> 16 | H93: ='ECTS roboczy aktualny'!D60 -> 3
B94: C.33 | C94: Praktyka przedyplomowa (4 tygodnie) | H94: ='ECTS roboczy aktualny'!D56 -> 2
A95: Suma punktów kredytowych ECTS | H95: =SUM(H83:H94) -> 25
A97: DLA STUDENTÓW, KTÓRZY WYBRALI PRZEDMIOTY OBIERALNE - BLOK E1
B98: Zestaw | F98: Liczba godzin | H98: Punkty
A99: L.p. | B99: przedmiotów | C99: Nazwa przedmiotu | F99: w semestrze | H99: kredytowe | I99: Strona
B100: (kod) | F100: wykłady | G100: ćwiczenia | H100: ECTS
A101: Rok 4 Semestr 7
A102: 1 | B102: C.10 | C102: ='Plan VIII'!B143 -> Wytrzymałość materiałów II | F102: ='Plan VIII'!AJ143 -> 16 | G102: =SUM('Plan VIII'!AK143:AM143) -> 8 | H102: ='ECTS roboczy aktualny'!D72 -> 2
A103: 2 | B103: C.18 | C103: ='Plan VIII'!B151 -> Prefabrykacja w budownictwie | F103: ='Plan VIII'!AJ151 -> 8 | G103: =SUM('Plan VIII'!AK151:AM151) -> 8 | H103: ='ECTS roboczy aktualny'!D74 -> 2
A104: 3 | B104: C.24 | C104: ='Plan VIII'!B157 -> Elementy charakterystyki energetycznej budynków | F104: ='Plan VIII'!AJ157 -> 8 | G104: =SUM('Plan VIII'!AK157:AM157) -> 8 | H104: ='ECTS roboczy aktualny'!D70 -> 2
A105: 4 | B105: C.27 | C105: ='Plan VIII'!B160 -> Organizacja robót budowlanych | F105: ='Plan VIII'!AJ160 -> 16 | G105: =SUM('Plan VIII'!AK160:AM160) -> 16 | H105: ='ECTS roboczy aktualny'!D69 -> 4
A106: 5 | B106: C.29 | C106: ='Plan VIII'!B162 -> Procedury projektowania i realizacji obiektów budowlanych | F106: ='Plan VIII'!AJ162 -> 8 | H106: ='ECTS roboczy aktualny'!D75 -> 1
A107: 6 | B107: C.30 | C107: ='Plan VIII'!B163 -> Kosztorysowanie w budownictwie | G107: =SUM('Plan VIII'!AK163:AM163) -> 8 | H107: ='ECTS roboczy aktualny'!D71 -> 1
...

Sheet ECTS roboczy aktualny
B3: ECTS
B4: Semestr | C4: Przedmioty | D4: Suma
B5: 1 | C5: Matematyka | D5: 8
C6: Fizyka | D6: 1
C7: Chemia | D7: 2
C8: Mechanika teoretyczna | D8: 4
C9: Geometria wykreślna | D9: 3
C10: Rysunek techniczny | D10: 1
C11: Budownictwo komunikacyjne | D11: 3
C12: Wyroby budowlane | D12: 5
B13: 1 Suma | D13: 27
B14: 2 | C14: Matematyka | D14: 4
C15: Statystyka stosowana | D15: 2
C16: Geologia | D16: 3
C17: Rysunek techniczny | D17: 2
C18: Technologia betonów i zapraw | D18: 3
C19: Wytrzymałość materiałów | D19: 6
C20: Budownictwo ogólne | D20: 2
C21: Podstawy projektowania konstrukcji | D21: 1
C22: Metody komputerowe I | D22: 2
B23: 2 Suma | D23: 25
B24: 3 | C24: Bezpieczeństwo pracy i ergonomia | D24: 1
C25: Język obcy 3) | D25: 2
C26: Metody obliczeniowe | D26: 4
C27: Geodezja | D27: 3
C28: Wytrzymałość materiałów | D28: 4
C29: Budownictwo ogólne | D29: 4
C30: Fizyka budowli | D30: 4
C31: Podstawy konstrukcji betonowych | D31: 3
B32: 3 Suma | D32: 25
B33: 4 | C33: Język obcy 3) | D33: 1
C34: Mechanika budowli | D34: 6
C35: Budownictwo ogólne | D35: 4
C36: Mechanika gruntów | D36: 6
C37: Hydraulika i hydrologia | D37: 1
C38: Praktyka zawodowa | D38: 3
C39: Metody komputerowe | D39: 2
C40: Konstrukcje betonowe - elementy | D40: 3
C41: Instalacje budowlane i OZE | D41: 3
B42: 4 Suma | D42: 29
B43: 5 | C43: Język obcy 3) | D43: 1
C44: Mechanika budowli | D44: 4
C45: Fundamentowanie | D45: 4
C46: Planowanie i projektowanie drogowej infrastruktury miejskiej/Planowanie i projektowanie drogowej infrastruktury zamiejskiej | D46: 3
C47: Budowa i utrzymanie drogowej infrastuktury miejskiej/Budowa i utrzymanie drogowej infrastuktury zamiejskiej | D47: 4
C48: Konstrukcje betonowe II/Kubaturowe konstrukcje betonowe | D48: 5
C49: Podstawy BIM | D49: 2
C50: Konstrukcje metalowe - podstawy | D50: 2
B51: 5 Suma | D51: 25
B52: 6 | C52: Język obcy 3) | D52: 1
C53: Podstawy przedsiębiorczości | D53: 1
C54: Podstawy kierowania procesem inwestycyjnym | D54: 1
C55: Ekonomika budownictwa | D55: 1
C56: Praktyka przeddyplomowa | D56: 2
C57: Organizacja i zarządzanie drogami i ruchem drogowym w miastach/Organizacja i zarządzanie drogami i ruchem drogowym na drogach zamiejskich | D57: 2
C58: Fundamentowanie II/Inżynieria geotechniczna | D58: 3
C59: Pomiary inżynierskie/Geodezja inżynieryjna | D59: 2
C60: Budownictwo drewniane/Szkieletowe konstrukcje drewniane | D60: 3
C61: Technologia robót budowlanych | D61: 4
C62: Konstrukcje metalowe - elementy | D62: 3
C63: Eksploatacja obiektów budowlanych / Utrzymanie obiektów budowlanych | D63: 2
B64: 6 Suma | D64: 25
B65: 7 | C65: Inżynieria drogowego ruchu miejskiego/Inżynieria drogowego ruchu zamiejskiego | D65: 2
C66: Planowanie i projektowanie infrastruktury drogowej II | D66: 3
C67: Lotniska | D67: 2
C68: Nawierzchnie drogowe | D68: 3
C69: Organizacja robót budowlanych | D69: 4
C70: Elementy charakterystyki energetycznej budynków | D70: 2
C71: Kosztorysownie w budownictwie | D71: 1
C72: Wytrzymałość materiałów II | D72: 2
C73: Konstrukcje metalowe - obiekty/Kubaturowe konstrukcje stalowe | D73: 3
C74: Prefabrykacja w budownictwie | D74: 2
C75: Procedury projektowania i realizacji obiektów budowlanych | D75: 1
B76: 7 Suma | D76: 25
B77: 8 | C77: Prawo w budownictwie | D77: 2
C78: Inżynieria ruchu drogowego II | D78: 2
C79: Seminarium dyplomowe | D79: 9
C80: Przygotowanie i złożenie pracy dyplomowej oraz przygotowanie do egzaminu dyplomowego | D80: 15
C81: Psychospołeczne aspekty sukcesu zawodowego | D81: 1
B82: 8 Suma | D82: 29
B83: Suma końcowa | D83: 210
