Workbook

Sheet Plan VIII
V2: Załącznik nr 1 do uchwały nr 6/444 Senatu UTP z dnia 27 maja 2020 r.
B3: Informacje ogólne o programie studiów
B5: KIERUNEK: | C5: BUDOWNICTWO
B6: PROFIL: | C6: PROFIL OGÓLNOAKADEMICKI
B7: POZIOM STUDIÓW: | C7: STUDIA PIERWSZEGO STOPNIA (4-letnie inżynierskie)
B8: FORMA STUDIÓW: | C8: STUDIA NIESTACJONARNE
B11: łączna liczba godzin zajęć dydaktycznych | G11: 1394 | H11: godz.
B12: łączna liczba pkt. ECTS jaką student musi uzyskać w ramach zajęć prowadzonych z bezpośrednim udziałem NA lub innych osób prowadzących zajęcia (w przypadku studiów niestacjonarnych ponad 0,6x50%=30% z ogólnej liczby pkt. ECTS) | G12: =ROUNDDOWN(G11/25+62*4/25+7,0) -> 72 | H12: pkt. ECTS
B13: liczba pkt. ECTS jaką student musi uzyskać w ramach zajęć z dziedziny nauk humanistycznych lub nauk społecznych (nie mniej niż 5 pkt. ECTS, nie dotyczy kierunków przyporządkowanych do dziedziny nauk humanistycznych lub nauk społecznych) | G13: 6 | H13: pkt. ECTS
B14: liczba pkt. ECTS za zajęcia do wyboru (nie mniej niż 30% z ogólnej liczby pkt. ECTS) | G14: 63 | H14: pkt. ECTS
B15: zajęcia związane z prowadzoną w uczelni działalnością naukową w dyscyplinie / dyscyplinach, do których przyporządkowano kierunek studiów wskazać wyłącznie dla kierunku o profilu ogólnoakademickim (ponad 50% z ogólnej liczby pkt. ECTS) | G15: 180 | H15: pkt. ECTS
B16: zajęcia kształtujące umiejętności praktyczne wskazać wyłacznie dla kierunku o profilu praktycznym (ponad 50% z ogólnej liczby pkt. ECTS) | G16: - | H16: pkt. ECTS
D26: PLAN STUDIÓW NR VIII | AU26: KMKiMB | AV26: KKB
A27: WYDZIAŁ BUDOWNICTWA, ARCHITEKTURY
A28: I INŻYNIERII ŚRODOWISKA
D29: PROFIL: | H29: PROFIL OGÓLNOAKADEMICKI
A30: UNIWERSYTET TECHNOLOGICZNO-PRZYRODNICZY | D30: POZIOM STUDIÓW: | H30: STUDIA PIERWSZEGO STOPNIA (4-LETNIE INŻYNIERSKIE)
A31: IM. J. i J. ŚNIADECKICH | D31: FORMA STUDIÓW: | H31: STUDIA NIESTACJONARNE
A32: w BYDGOSZCZY | D32: KIERUNEK: | H32: BUDOWNICTWO
AF33: …………………..
AF34: pieczątka uczelni
A37: Pozycja planu | B37: NAZWA PRZEDMIOTU | D37: Liczba | G37: GODZINY | L37: ROZKŁAD ZAJĘĆ w SEMESTRZE
G38: Razem | H38: w tym | L38: sem. I | P38: sem. II | T38: sem. III | X38: sem. IV | AB38: sem. V | AF38: sem. VI | AJ38: sem. VII | AN38: sem. VIII
D39: egza-mi-nów | E39: zali-czeń | F39: pkt. ECTS | H39: W | I39: Ć | J39: L | K39: P / S | L39: Liczba godzin w semestrze
L40: W | M40: Ć | N40: L | O40: P/S | P40: W | Q40: Ć | R40: L | S40: P/S | T40: W | U40: Ć | V40: L | W40: P/S | X40: W | Y40: Ć | Z40: L | AA40: P/S | AB40: W | AC40: Ć | AD40: L | AE40: P/S | AF40: W | AG40: Ć | AH40: L | AI40: P/S | AJ40: W | AK40: Ć | AL40: L | AM40: P/S | AN40: W | AO40: Ć | AP40: L | AQ40: P/S
A42: A. | B42: PRZEDMIOTY OGÓLNE
A43: 1. | B43: Język obcy 3) | E43: 4 | F43: 5 | G43: =SUM(H43:K43) -> 72 | H43: =L43+P43+T43+X43+AB43+AF43+AJ43+AN43 -> 0 | I43: =M43+Q43+U43+Y43+AC43+AG43+AK43+AO43 -> 0 | J43: =N43+R43+V43+Z43+AD43+AH43+AL43+AP43 -> 72 | K43: =O43+S43+W43+AA43+AE43+AI43+AM43+AQ43 -> 0 | L43: 0 | M43: 0 | N43: 0 | O43: 0 | P43: 0 | Q43: 0 | R43: 0 | S43: 0 | T43: 0 | U43: 0 | V43: 16 | W43: 0 | X43: 0 | Y43: 0 | Z43: 16 | AA43: 0 | AB43: 0 | AC43: 0 | AD43: 16 | AE43: 0 | AF43: 0 | AG43: 0 | AH43: 24 | AI43: 0 | AJ43: 0 | AK43: 0 | AL43: 0 | AM43: 0 | AN43: 0 | AO43: 0 | AP43: 0 | AQ43: 0
A44: 2. | B44: Psychospołeczne aspekty sukcesu zawodowego | E44: 1 | F44: 1 | G44: =SUM(H44:K44) -> 8 | H44: =L44+P44+T44+X44+AB44+AF44+AJ44+AN44 -> 8 | I44: =M44+Q44+U44+Y44+AC44+AG44+AK44+AO44 -> 0 | J44: =N44+R44+V44+Z44+AD44+AH44+AL44+AP44 -> 0 | K44: =O44+S44+W44+AA44+AE44+AI44+AM44+AQ44 -> 0 | M44: 0 | O44: 0 | P44: 0 | Q44: 0 | R44: 0 | S44: 0 | T44: 0 | U44: 0 | V44: 0 | W44: 0 | X44: 0 | Y44: 0 | Z44: 0 | AA44: 0 | AB44: 0 | AC44: 0 | AD44: 0 | AE44: 0 | AF44: 0 | AG44: 0 | AH44: 0 | AI44: 0 | AJ44: 0 | AK44: 0 | AL44: 0 | AM44: 0 | AN44: 8 | AO44: 0 | AP44: 0
A45: 3. | B45: Bezpieczeństwo pracy i ergonomia | E45: 1 | F45: 1 | G45: =SUM(H45:K45) -> 16 | H45: =L45+P45+T45+X45+AB45+AF45+AJ45+AN45 -> 16 | I45: =M45+Q45+U45+Y45+AC45+AG45+AK45+AO45 -> 0 | J45: =N45+R45+V45+Z45+AD45+AH45+AL45+AP45 -> 0 | K45: =O45+S45+W45+AA45+AE45+AI45+AM45+AQ45 -> 0 | M45: 0 | N45: 0 | O45: 0 | Q45: 0 | R45: 0 | S45: 0 | T45: 16 | U45: 0 | V45: 0 | W45: 0 | X45: 0 | Y45: 0 | Z45: 0 | AA45: 0 | AB45: 0 | AC45: 0 | AD45: 0 | AE45: 0 | AF45: 0 | AG45: 0 | AH45: 0 | AI45: 0 | AJ45: 0 | AK45: 0 | AL45: 0 | AM45: 0 | AO45: 0 | AP45: 0 | AQ45: 0
A46: 4. | B46: Prawo w budownictwie | E46: 1 | F46: 2 | G46: =SUM(H46:K46) -> 16 | H46: =L46+P46+T46+X46+AB46+AF46+AJ46+AN46 -> 16 | I46: =M46+Q46+U46+Y46+AC46+AG46+AK46+AO46 -> 0 | J46: =N46+R46+V46+Z46+AD46+AH46+AL46+AP46 -> 0 | K46: =O46+S46+W46+AA46+AE46+AI46+AM46+AQ46 -> 0 | L46: 0 | M46: 0 | N46: 0 | O46: 0 | P46: 0 | Q46: 0 | R46: 0 | S46: 0 | T46: 0 | U46: 0 | V46: 0 | W46: 0 | X46: 0 | Y46: 0 | Z46: 0 | AA46: 0 | AB46: 0 | AC46: 0 | AD46: 0 | AE46: 0 | AF46: 0 | AG46: 0 | AH46: 0 | AI46: 0 | AJ46: 0 | AK46: 0 | AL46: 0 | AM46: 0 | AN46: 16 | AO46: 0 | AP46: 0 | AQ46: 0 | AV46: 16
A47: 5. | B47: Podstawy przedsiębiorczości | E47: 1 | F47: 1 | G47: =SUM(H47:K47) -> 16 | H47: =L47+P47+T47+X47+AB47+AF47+AJ47+AN47 -> 16 | I47: =M47+Q47+U47+Y47+AC47+AG47+AK47+AO47 -> 0 | J47: =N47+R47+V47+Z47+AD47+AH47+AL47+AP47 -> 0 | K47: =O47+S47+W47+AA47+AE47+AI47+AM47+AQ47 -> 0 | L47: 0 | M47: 0 | N47: 0 | O47: 0 | P47: 0 | Q47: 0 | R47: 0 | S47: 0 | T47: 0 | U47: 0 | V47: 0 | W47: 0 | X47: 0 | Y47: 0 | Z47: 0 | AA47: 0 | AB47: 0 | AC47: 0 | AD47: 0 | AE47: 0 | AF47: 16 | AG47: 0 | AH47: 0 | AI47: 0 | AJ47: 0 | AK47: 0 | AL47: 0 | AM47: 0 | AO47: 0 | AP47: 0 | AQ47: 0
B48: RAZEM | D48: =SUM(D43:D47) -> 0 | E48: =SUM(E43:E47) -> 8 | F48: =SUM(F43:F47) -> 10 | G48: =SUM(G43:G47) -> 128 | H48: =SUM(H43:H47) -> 56 | I48: =SUM(I43:I47) -> 0 | J48: =SUM(J43:J47) -> 72 | K48: =SUM(K43:K47) -> 0 | ... AQ48: =SUM(AQ43:AQ47) -> 0
L49: =SUM(L48:O48) -> 0 | P49: =SUM(P48:S48) -> 0 | T49: =SUM(T48:W48) -> 32 | X49: =SUM(X48:AA48) -> 16 | AB49: =SUM(AB48:AE48) -> 16 | AF49: =SUM(AF48:AI48) -> 40 | AJ49: =SUM(AJ48:AM48) -> 0 | AN49: =SUM(AN48:AQ48) -> 24
A50: PODSUMOWANIE ARKUSZA 1 | D50: egza-mi-nów | E50: zali-czeń | F50: pkt. ECTS | G50: Razem | H50: W | I50: Ć | J50: L | K50: P / S | L50: sem. I | P50: sem. II | T50: sem. III | X50: sem. IV | AB50: sem. V | AF50: sem. VI | AJ50: sem. VII | AN50: sem. VIII
L51: W | M51: Ć | N51: L | O51: P/S | P51: W | Q51: Ć | R51: L | S51: P/S | T51: W | U51: Ć | V51: L | W51: P/S | X51: W | Y51: Ć | Z51: L | AA51: P/S | AB51: W | AC51: Ć | AD51: L | AE51: P/S | AF51: W | AG51: Ć | AH51: L | AI51: P/S | AJ51: W | AK51: Ć | AL51: L | AM51: P/S | AN51: W | AO51: Ć | AP51: L | AQ51: P/S
D53: =SUM(D48) -> 0 | E53: =SUM(E48) -> 8 | F53: =SUM(F48) -> 10 | G53: =SUM(G48) -> 128 | H53: =SUM(H48) -> 56 | I53: =SUM(I48) -> 0 | J53: =SUM(J48) -> 72 | K53: =SUM(K48) -> 0 | ... AQ53: =SUM(AQ48) -> 0 | AS53: SUMA
L54: =SUM(L53:O53) -> 0 | P54: =SUM(P53:S53) -> 0 | T54: =SUM(T53:W53) -> 32 | X54: =SUM(X53:AA53) -> 16 | AB54: =SUM(AB53:AE53) -> 16 | AF54: =SUM(AF53:AI53) -> 40 | AJ54: =SUM(AJ53:AM53) -> 0 | AN54: =SUM(AN53:AQ53) -> 24 | AS54: =SUM(L54:AQ54) -> 128
D55: Liczba: | G55: egzaminów | L55: 0 | P55: 0 | T55: 0 | X55: 0 | AB55: 0 | AF55: 0 | AJ55: 0 | AN55: 0 | AS55: =SUM(L55:AQ55) -> 0
G56: zaliczeń | L56: 0 | P56: 0 | T56: 2 | X56: 1 | AB56: 1 | AF56: 2 | AJ56: 0 | AN56: 2 | AS56: =SUM(L56:AQ56) -> 8
G57: pkt. ECTS | L57: 0 | P57: 0 | T57: 3 | X57: 1 | AB57: 1 | AF57: 2 | AJ57: 0 | AN57: 3 | AS57: =SUM(L57:AQ57) -> 10
...

Sheet ECTS
A1: PLAN STUDIÓW NR VIII
A2: POZIOM STUDIÓW: | D2: STUDIA I STOPNIA (INŻYNIERSKIE)
A3: FORMA STUDIÓW: | D3: NIESTACJONARNE
A4: KIERUNEK: | D4: BUDOWNICTWO
A6: 1. Plan studiów według semestrów
B7: Zestaw | F7: Liczba godzin | H7: Punkty
A8: L.p. | B8: przedmiotów | C8: Nazwa przedmiotu | F8: w semestrze | H8: kredytowe | I8: Strona
B9: (kod) | F9: wykłady | G9: ćwiczenia | H9: ECTS
A10: Rok 1 Semestr 1
A11: 1 | B11: B.1 | C11: ='Plan VIII'!B87 -> Matematyka | F11: ='Plan VIII'!L87 -> 16 | G11: =SUM('Plan VIII'!M87:O87) -> 16 | H11: ='ECTS roboczy aktualny'!D5 -> 8
A12: 2 | B12: B.3 | C12: ='Plan VIII'!B89 -> Fizyka | F12: ='Plan VIII'!L89 -> 16 | H12: ='ECTS roboczy aktualny'!D6 -> 1
A13: 3 | B13: B.4 | C13: ='Plan VIII'!B90 -> Chemia | F13: ='Plan VIII'!L90 -> 8 | G13: =SUM('Plan VIII'!M90:O90) -> 8 | H13: ='ECTS roboczy aktualny'!D7 -> 2
A14: 4 | B14: B.6 | C14: ='Plan VIII'!B92 -> Mechanika teoretyczna | F14: ='Plan VIII'!L92 -> 16 | G14: =SUM('Plan VIII'!M92:O92) -> 16 | H14: ='ECTS roboczy aktualny'!D8 -> 4
A15: 5 | B15: C.1 | C15: ='Plan VIII'!B134 -> Geometria wykreślna | F15: ='Plan VIII'!L134 -> 16 | G15: =SUM('Plan VIII'!M134:O134) -> 16 | H15: ='ECTS roboczy aktualny'!D9 -> 3
A16: 7 | B16: C.2 | C16: ='Plan VIII'!B135 -> Rysunek techniczny | G16: =SUM('Plan VIII'!M135:O135) -> 8 | H16: ='ECTS roboczy aktualny'!D10 -> 1
A17: 8 | B17: C.7 | C17: ='Plan VIII'!B140 -> Wyroby budowlane | F17: ='Plan VIII'!L140 -> 16 | G17: =SUM('Plan VIII'!M140:O140) -> 16 | H17: ='ECTS roboczy aktualny'!D12 -> 5
A18: 9 | B18: C.22 | C18: ='Plan VIII'!B155 -> Budownictwo komunikacyjne | F18: ='Plan VIII'!L155 -> 8 | G18: =SUM('Plan VIII'!M155:O155) -> 16 | H18: ='ECTS roboczy aktualny'!D11 -> 3
A19: Suma punktów kredytowych ECTS | H19: =SUM(H11:H18) -> 27
B21: Zestaw | F21: Liczba godzin | H21: Punkty
A22: L.p. | B22: przedmiotów | C22: Nazwa przedmiotu | F22: w semestrze | H22: kredytowe | I22: Strona
B23: (kod) | F23: wykłady | G23: ćwiczenia | H23: ECTS
A24: Rok 1 Semestr 2
A25: 1 | B25: B.1 | C25: ='Plan VIII'!B87 -> Matematyka | F25: ='Plan VIII'!P87 -> 24 | G25: =SUM('Plan VIII'!Q87:S87) -> 24 | H25: ='ECTS roboczy aktualny'!D14 -> 4
A26: 2 | B26: B.2 | C26: ='Plan VIII'!B88 -> Statystyka stosowana | F26: ='Plan VIII'!P88 -> 8 | G26: =SUM('Plan VIII'!Q88:S88) -> 8 | H26: ='ECTS roboczy aktualny'!D15 -> 2
A27: 3 | B27: B.5 | C27: ='Plan VIII'!B91 -> Geologia | F27: ='Plan VIII'!P91 -> 16 | G27: =SUM('Plan VIII'!Q91:S91) -> 8 | H27: ='ECTS roboczy aktualny'!D16 -> 3
A28: 4 | B28: C.2 | C28: ='Plan VIII'!B135 -> Rysunek techniczny | G28: =SUM('Plan VIII'!Q135:S135) -> 16 | H28: ='ECTS roboczy aktualny'!D17 -> 2
A29: 5 | B29: C.4 | C29: ='Plan VIII'!B137 -> Metody komputerowe I | F29: ='Plan VIII'!P137 -> 8 | G29: =SUM('Plan VIII'!Q137:S137) -> 8 | H29: ='ECTS roboczy aktualny'!D22 -> 2
A30: 6 | B30: C.8 | C30: ='Plan VIII'!B141 -> Technologia betonów i zapraw | F30: ='Plan VIII'!P141 -> 8 | G30: =SUM('Plan VIII'!Q141:S141) -> 16 | H30: ='ECTS roboczy aktualny'!D18 -> 3
A31: 7 | B31: C.9 | C31: ='Plan VIII'!B142 -> Wytrzymałość materiałów I | F31: ='Plan VIII'!P142 -> 16 | G31: =SUM('Plan VIII'!Q142:S142) -> 24 | H31: ='ECTS roboczy aktualny'!D19 -> 6
A32: 8 | B32: C.12 | C32: ='Plan VIII'!B145 -> Budownictwo ogólne | F32: ='Plan VIII'!P145 -> 8 | H32: ='ECTS roboczy aktualny'!D20 -> 2
A33: 9 | B33: C.15 | C33: ='Plan VIII'!B148 -> Podstawy projektowania konstrukcji | F33: ='Plan VIII'!P148 -> 8 | H33: ='ECTS roboczy aktualny'!D21 -> 1
A34: Suma punktów kredytowych ECTS | H34: =SUM(H25:H33) -> 25
B36: Zestaw | F36: Liczba godzin | H36: Punkty
A37: L.p. | B37: przedmiotów | C37: Nazwa przedmiotu | F37: w semestrze | H37: kredytowe | I37: Strona
B38: (kod) | F38: wykłady | G38: ćwiczenia | H38: ECTS
A39: Rok 2 Semestr 3
A40: 1 | B40: A.1 | C40: ='Plan VIII'!B43 -> Język obcy 3) | G40: =SUM('Plan VIII'!U43:W43) -> 16 | H40: ='ECTS roboczy aktualny'!D25 -> 2
A41: 2 | B41: A.3 | C41: ='Plan VIII'!B45 -> Bezpieczeństwo pracy i ergonomia | F41: ='Plan VIII'!T45 -> 16 | H41: ='ECTS roboczy aktualny'!D24 -> 1
A42: 3 | B42: B.7 | C42: ='Plan VIII'!B93 -> Metody obliczeniowe | F42: ='Plan VIII'!T93 -> 8 | G42: =SUM('Plan VIII'!U93:W93) -> 16 | H42: ='ECTS roboczy aktualny'!D26 -> 4
A43: 4 | B43: C.3 | C43: ='Plan VIII'!B136 -> Geodezja | F43: ='Plan VIII'!T136 -> 8 | G43: =SUM('Plan VIII'!U136:W136) -> 16 | H43: ='ECTS roboczy aktualny'!D27 -> 3
...

Sheet ECTS roboczy aktualny
B3: ECTS
B4: Semestr | C4: Przedmioty | D4: Suma
B5: 1 | C5: Matematyka | D5: 8
C6: Fizyka | D6: 1
C7: Chemia | D7: 2
C8: Mechanika teoretyczna | D8: 4
C9: Geometria wykreślna | D9: 3
C10: Rysunek techniczny | D10: 1
C11: Budownictwo komunikacyjne | D11: 3
C12: Wyroby budowlane | D12: 5
B13: 1 Suma | D13: 27
B14: 2 | C14: Matematyka | D14: 4
C15: Statystyka stosowana | D15: 2
C16: Geologia | D16: 3
C17: Rysunek techniczny | D17: 2
C18: Technologia betonów i zapraw | D18: 3
C19: Wytrzymałość materiałów | D19: 6
C20: Budownictwo ogólne | D20: 2
C21: Podstawy projektowania konstrukcji | D21: 1
C22: Metody komputerowe I | D22: 2
B23: 2 Suma | D23: 25
B24: 3 | C24: Bezpieczeństwo pracy i ergonomia | D24: 1
C25: Język obcy 3) | D25: 2
C26: Metody obliczeniowe | D26: 4
C27: Geodezja | D27: 3
C28: Wytrzymałość materiałów | D28: 4
C29: Budownictwo ogólne | D29: 4
C30: Fizyka budowli | D30: 4
C31: Podstawy konstrukcji betonowych | D31: 3
B32: 3 Suma | D32: 25
B33: 4 | C33: Język obcy 3) | D33: 1
C34: Mechanika budowli | D34: 6
C35: Budownictwo ogólne | D35: 4
C36: Mechanika gruntów | D36: 6
C37: Hydraulika i hydrologia | D37: 1
C38: Praktyka zawodowa | D38: 3
C39: Metody komputerowe | D39: 2
C40: Konstrukcje betonowe - elementy | D40: 3
C41: Instalacje budowlane i OZE | D41: 3
B42: 4 Suma | D42: 29
...
