Workbook

Sheet st stacj I st plan VIII
Y2: Załącznik nr 1 do uchwały nr 6/444 Senatu UTP z dnia 27 maja 2020 r.
B3: Informacje ogólne o programie studiów
B5: KIERUNEK: | D5: BUDOWNICTWO
B6: PROFIL: | D6: PROFIL OGÓLNOAKADEMICKI
B7: POZIOM STUDIÓW: | D7: STUDIA PIERWSZEGO STOPNIA (3,5-letnie inżynierskie)
B8: FORMA STUDIÓW: | D8: STUDIA STACJONARNE
B11: łączna liczba godzin zajęć dydaktycznych | G11: =G310 -> 2310 | H11: godz. | AW11: =(G11/25)+55*4/25+5 -> 106.2
B12: łączna liczba pkt. ECTS jaką student musi uzyskać w ramach zajęć prowadzonych z bezpośrednim udziałem NA lub innych osób prowadzących zajęcia (w przypadku studiów stacjonarnych ponad 50% z ogólnej liczby pkt. ECTS) | G12: =G11/25+62*4/25+7 -> 109.32 | H12: pkt. ECTS
B13: liczba pkt. ECTS jaką student musi uzyskać w ramach zajęć z dziedziny nauk humanistycznych lub nauk społecznych (nie mniej niż 5 pkt. ECTS, nie dotyczy kierunków przyporządkowanych do dziedziny nauk humanistycznych lub nauk społecznych) | G13: 6 | H13: pkt. ECTS
B14: liczba pkt. ECTS za zajęcia do wyboru (nie mniej niż 30% z ogólnej liczby pkt. ECTS) | G14: 63 | H14: pkt. ECTS
B15: zajęcia związane z prowadzoną w uczelni działalnością naukową w dyscyplinie / dyscyplinach, do których przyporządkowano kierunek studiów wskazać wyłącznie dla kierunku o profilu ogólnoakademickim (ponad 50% z ogólnej liczby pkt. ECTS) | G15: 180 | H15: pkt. ECTS
B16: zajęcia kształtujące umiejętności praktyczne wskazać wyłacznie dla kierunku o profilu praktycznym (ponad 50% z ogólnej liczby pkt. ECTS) | G16: - | H16: pkt. ECTS
AR25: KMKiMB | AS25: KKB
D26: PLAN STUDIÓW NR VIII
A27: WYDZIAŁ BUDOWNICTWA, ARCHITEKTURY I INŻYNIERII ŚRODOWISKA
D29: PROFIL: | H29: OGÓLNOAKADEMICKI
A30: UNIWERSYTET TECHNOLOGICZNO-PRZYRODNICZY | D30: POZIOM STUDIÓW: | H30: STUDIA PIERWSZEGO STOPNIA (3,5-LETNIE INŻYNIERSKIE)
A31: IM. J. i J. ŚNIADECKICH | D31: FORMA STUDIÓW: | H31: STUDIA STACJONARNE
A32: w BYDGOSZCZY | D32: KIERUNEK: | H32: BUDOWNICTWO
AB33: …………………..
AB34: pieczątka uczelni
A37: Pozycja planu | B37: NAZWA PRZEDMIOTU | D37: Liczba | G37: GODZINY | L37: ROZKŁAD ZAJĘĆ w SEMESTRZE
G38: Razem | H38: w tym | L38: sem. I | P38: sem. II | T38: sem. III | X38: sem. IV | AB38: sem. V | AF38: sem. VI | AJ38: sem. VII
D39: egza-mi-nów | E39: zali-czeń | F39: pkt. ECTS | H39: W | I39: Ć | J39: L | K39: P / S | L39: Liczba godzin w semestrze
L40: W | M40: Ć | N40: L | O40: P/S | P40: W | Q40: Ć | R40: L | S40: P/S | T40: W | U40: Ć | V40: L | W40: P/S | X40: W | Y40: Ć | Z40: L | AA40: P/S | AB40: W | AC40: Ć | AD40: L | AE40: P/S | AF40: W | AG40: Ć | AH40: L | AI40: P/S | AJ40: W | AK40: Ć | AL40: L | AM40: P/S
A42: A. | B42: PRZEDMIOTY OGÓLNE
A43: 1. | B43: Język obcy 3) | E43: 4 | F43: 5 | G43: =SUM(H43:K43) -> 120 | H43: =SUM(L43,P43,T43,X43,AB43,AF43,AJ43) -> 0 | I43: =SUM(M43,Q43,U43,Y43,AC43,AG43,AK43) -> 0 | J43: =SUM(N43,R43,V43,Z43,AD43,AH43,AL43) -> 120 | K43: =SUM(O43,S43,W43,AA43,AE43,AI43,AM43) -> 0 | V43: 30 | Z43: 30 | AD43: 30 | AH43: 30
A44: 2. | B44: Wychowanie fizyczne | E44: 2 | F44: 0 | G44: =SUM(H44:K44) -> 60 | H44: =SUM(L44,P44,T44,X44,AB44,AF44,AJ44) -> 0 | I44: =SUM(M44,Q44,U44,Y44,AC44,AG44,AK44) -> 60 | J44: =SUM(N44,R44,V44,Z44,AD44,AH44,AL44) -> 0 | K44: =SUM(O44,S44,W44,AA44,AE44,AI44,AM44) -> 0 | U44: 30 | Y44: 30
A45: 3. | B45: Psychospołeczne aspekty sukcesu zawodowego | E45: 1 | F45: 1 | G45: =SUM(H45:K45) -> 15 | H45: =SUM(L45,P45,T45,X45,AB45,AF45,AJ45) -> 15 | I45: =SUM(M45,Q45,U45,Y45,AC45,AG45,AK45) -> 0 | J45: =SUM(N45,R45,V45,Z45,AD45,AH45,AL45) -> 0 | K45: =SUM(O45,S45,W45,AA45,AE45,AI45,AM45) -> 0 | AJ45: 15
A46: 4. | B46: Bezpieczeństwo pracy i ergonomia | E46: 1 | F46: 1 | G46: =SUM(H46:K46) -> 15 | H46: =SUM(L46,P46,T46,X46,AB46,AF46,AJ46) -> 15 | I46: =SUM(M46,Q46,U46,Y46,AC46,AG46,AK46) -> 0 | J46: =SUM(N46,R46,V46,Z46,AD46,AH46,AL46) -> 0 | K46: =SUM(O46,S46,W46,AA46,AE46,AI46,AM46) -> 0 | T46: 15
A47: 5. | B47: Prawo w budownictwie | E47: 1 | F47: 2 | G47: =SUM(H47:K47) -> 15 | H47: =SUM(L47,P47,T47,X47,AB47,AF47,AJ47) -> 15 | I47: =SUM(M47,Q47,U47,Y47,AC47,AG47,AK47) -> 0 | J47: =SUM(N47,R47,V47,Z47,AD47,AH47,AL47) -> 0 | K47: =SUM(O47,S47,W47,AA47,AE47,AI47,AM47) -> 0 | AJ47: 15 | AS47: 15
A48: 6. | B48: Podstawy przedsiębiorczości | E48: 1 | F48: 1 | G48: =SUM(H48:K48) -> 15 | H48: =SUM(L48,P48,T48,X48,AB48,AF48,AJ48) -> 15 | I48: =SUM(M48,Q48,U48,Y48,AC48,AG48,AK48) -> 0 | J48: =SUM(N48,R48,V48,Z48,AD48,AH48,AL48) -> 0 | K48: =SUM(O48,S48,W48,AA48,AE48,AI48,AM48) -> 0 | AJ48: 15
G49: =SUM(H49:K49) -> 0 | H49: =SUM(L49,P49,T49,X49,AB49,AF49,AJ49) -> 0 | I49: =SUM(M49,Q49,U49,Y49,AC49,AG49,AK49) -> 0 | J49: =SUM(N49,R49,V49,Z49,AD49,AH49,AL49) -> 0 | K49: =SUM(O49,S49,W49,AA49,AE49,AI49,AM49) -> 0
B50: RAZEM | D50: =SUM(D43:D49) -> 0 | E50: =SUM(E43:E49) -> 10 | F50: =SUM(F43:F49) -> 10 | G50: =SUM(G43:G49) -> 240 | H50: =SUM(H43:H49) -> 60 | I50: =SUM(I43:I49) -> 60 | J50: =SUM(J43:J49) -> 120 | K50: =SUM(K43:K49) -> 0 | ... AM50: =SUM(AM43:AM49) -> 0
L51: =SUM(L50:O50) -> 0 | P51: =SUM(P50:S50) -> 0 | T51: =SUM(T50:W50) -> 75 | X51: =SUM(X50:AA50) -> 60 | AB51: =SUM(AB50:AE50) -> 30 | AF51: =SUM(AF50:AI50) -> 30 | AJ51: =SUM(AJ50:AM50) -> 45
A52: PODSUMOWANIE ARKUSZA 1 | D52: egza-mi-nów | E52: zali-czeń | F52: pkt. ECTS | G52: Razem | H52: W | I52: Ć | J52: L | K52: P / S | L52: sem. I | P52: sem. II | T52: sem. III | X52: sem. IV | AB52: sem. V | AF52: sem. VI | AJ52: sem. VII
L53: W | M53: Ć | N53: L | O53: P/S | P53: W | Q53: Ć | R53: L | S53: P/S | T53: W | U53: Ć | V53: L | W53: P/S | X53: W | Y53: Ć | Z53: L | AA53: P/S | AB53: W | AC53: Ć | AD53: L | AE53: P/S | AF53: W | AG53: Ć | AH53: L | AI53: P/S | AJ53: W | AK53: Ć | AL53: L | AM53: P/S
D55: =SUM(D50) -> 0 | E55: =SUM(E50) -> 10 | F55: =SUM(F50) -> 10 | G55: =SUM(G50) -> 240 | H55: =SUM(H50) -> 60 | I55: =SUM(I50) -> 60 | J55: =SUM(J50) -> 120 | K55: =SUM(K50) -> 0 | ... AM55: =SUM(AM50) -> 0 | AO55: SUMA
L56: =SUM(L55:O55) -> 0 | P56: =SUM(P55:S55) -> 0 | T56: =SUM(T55:W55) -> 75 | X56: =SUM(X55:AA55) -> 60 | AB56: =SUM(AB55:AE55) -> 30 | AF56: =SUM(AF55:AI55) -> 30 | AJ56: =SUM(AJ55:AM55) -> 45 | AO56: =SUM(L56:AI56)+AJ56 -> 240
D57: Liczba: | G57: egzaminów | L57: 0 | P57: 0 | T57: 0 | X57: 0 | AB57: 0 | AF57: 0 | AJ57: 0 | AO57: =SUM(L57:AM57) -> 0
...

Sheet PKT ECTS
A1: PLAN STUDIÓW NR VIII
A2: POZIOM STUDIÓW: | D2: STUDIA I STOPNIA (INŻYNIERSKIE)
A3: FORMA STUDIÓW: | D3: STACJONARNE
A4: KIERUNEK: | D4: BUDOWNICTWO
A7: Plan studiów według semestrów
B8: Zestaw | E8: Liczba godzin | G8: Punkty
A9: L.p. | B9: przedmiotów | C9: Nazwa przedmiotu | E9: w semestrze | G9: kredytowe | H9: Strona
B10: (kod) | E10: wykłady | F10: ćwiczenia | G10: ECTS
A11: Rok 1 Semestr 1
A12: 1 | B12: B.1 | C12: ='st stacj I st plan VIII'!B89 -> Matematyka | E12: ='st stacj I st plan VIII'!L89 -> 30 | F12: ='st stacj I st plan VIII'!M89 -> 30 | G12: ='ECTS roboczy aktualny'!D4 -> 8
A13: 2 | B13: B.3 | C13: ='st stacj I st plan VIII'!B91 -> Fizyka | E13: ='st stacj I st plan VIII'!L91 -> 15 | G13: ='ECTS roboczy aktualny'!D5 -> 1
A14: 3 | B14: B.4 | C14: ='st stacj I st plan VIII'!B92 -> Chemia | E14: ='st stacj I st plan VIII'!L92 -> 15 | F14: =SUM('st stacj I st plan VIII'!M92:O92) -> 15 | G14: ='ECTS roboczy aktualny'!D6 -> 2
A15: 4 | B15: B.5 | C15: ='st stacj I st plan VIII'!B93 -> Geologia | E15: ='st stacj I st plan VIII'!L93 -> 15 | F15: =SUM('st stacj I st plan VIII'!M93:O93) -> 15 | G15: ='ECTS roboczy aktualny'!D7 -> 3
A16: 5 | B16: B.6 | C16: ='st stacj I st plan VIII'!B94 -> Mechanika teoretyczna | E16: ='st stacj I st plan VIII'!L94 -> 15 | F16: =SUM('st stacj I st plan VIII'!M94:O94) -> 30 | G16: ='ECTS roboczy aktualny'!D8 -> 4
A17: 6 | B17: C.1 | C17: ='st stacj I st plan VIII'!B135 -> Geometria wykreślna | E17: ='st stacj I st plan VIII'!L135 -> 15 | F17: 30 | G17: ='ECTS roboczy aktualny'!D9 -> 3
A18: 7 | B18: C.2 | C18: ='st stacj I st plan VIII'!B136 -> Rysunek techniczny | F18: =SUM('st stacj I st plan VIII'!Q136:S136) -> 30 | G18: ='ECTS roboczy aktualny'!D10 -> 1
A19: 8 | B19: C.7 | C19: ='st stacj I st plan VIII'!B141 -> Wyroby budowlane | E19: ='st stacj I st plan VIII'!L141 -> 30 | F19: =SUM('st stacj I st plan VIII'!M141:O141) -> 30 | G19: ='ECTS roboczy aktualny'!D12 -> 5
A20: 9 | B20: C.22 | C20: ='st stacj I st plan VIII'!B156 -> Budownictwo komunikacyjne | E20: ='st stacj I st plan VIII'!L156 -> 15 | F20: =SUM('st stacj I st plan VIII'!M156:O156) -> 30 | G20: ='ECTS roboczy aktualny'!D11 -> 3
A21: Suma punktów kredytowych ECTS | G21: =SUM(G12:G20) -> 30
B23: Zestaw | E23: Liczba godzin | G23: Punkty
A24: L.p. | B24: przedmiotów | C24: Nazwa przedmiotu | E24: w semestrze | G24: kredytowe | H24: Strona
B25: (kod) | E25: wykłady | F25: ćwiczenia | G25: ECTS
A26: Rok 1 Semestr 2
A27: 1 | B27: B.1 | C27: ='st stacj I st plan VIII'!B89 -> Matematyka | E27: ='st stacj I st plan VIII'!P89 -> 30 | F27: =SUM('st stacj I st plan VIII'!Q89:S89) -> 15 | G27: ='ECTS roboczy aktualny'!D14 -> 4
A28: 2 | B28: B.2 | C28: ='st stacj I st plan VIII'!B90 -> Statystyka stosowana | E28: ='st stacj I st plan VIII'!P90 -> 15 | F28: =SUM('st stacj I st plan VIII'!Q90:S90) -> 15 | G28: ='ECTS roboczy aktualny'!D15 -> 2
A29: 3 | B29: C.2 | C29: ='st stacj I st plan VIII'!B136 -> Rysunek techniczny | F29: =SUM('st stacj I st plan VIII'!Q136:S136) -> 30 | G29: ='ECTS roboczy aktualny'!D16 -> 2
A30: 4 | B30: C.3 | C30: ='st stacj I st plan VIII'!B137 -> Geodezja | E30: ='st stacj I st plan VIII'!P137 -> 15 | F30: =SUM('st stacj I st plan VIII'!Q137:S137) -> 30 | G30: ='ECTS roboczy aktualny'!D17 -> 3
A31: 5 | B31: C.4 | C31: ='st stacj I st plan VIII'!B138 -> Metody komputerowe I | E31: ='st stacj I st plan VIII'!P138 -> 15 | F31: =SUM('st stacj I st plan VIII'!Q138:S138) -> 15 | G31: ='ECTS roboczy aktualny'!D23 -> 2
A32: 6 | B32: C.8 | C32: ='st stacj I st plan VIII'!B142 -> Technologia betonów i zapraw | E32: ='st stacj I st plan VIII'!P142 -> 15 | F32: =SUM('st stacj I st plan VIII'!Q142:S142) -> 15 | G32: ='ECTS roboczy aktualny'!D18 -> 3
A33: 7 | B33: C.9 | C33: ='st stacj I st plan VIII'!B143 -> Wytrzymałość materiałów I | E33: ='st stacj I st plan VIII'!P143 -> 30 | F33: =SUM('st stacj I st plan VIII'!Q143:S143) -> 30 | G33: ='ECTS roboczy aktualny'!D24 -> 6
A34: 8 | B34: C.12 | C34: ='st stacj I st plan VIII'!B146 -> Budownictwo ogólne | E34: ='st stacj I st plan VIII'!P146 -> 15 | G34: ='ECTS roboczy aktualny'!D19 -> 2
A35: 9 | B35: C.15 | C35: ='st stacj I st plan VIII'!B149 -> Podstawy projektowania konstrukcji | E35: ='st stacj I st plan VIII'!P149 -> 15 | G35: ='ECTS roboczy aktualny'!D22 -> 1
A36: 10 | B36: C.23 | C36: ='st stacj I st plan VIII'!B157 -> Fizyka budowli | E36: ='st stacj I st plan VIII'!P157 -> 15 | F36: =SUM('st stacj I st plan VIII'!Q157:S157) -> 30 | G36: ='ECTS roboczy aktualny'!D20 -> 4
A37: 11 | B37: C.25 | C37: ='st stacj I st plan VIII'!B159 -> Hydraulika i hydrologia | E37: ='st stacj I st plan VIII'!P159 -> 15 | G37: ='ECTS roboczy aktualny'!D21 -> 1
A38: Suma punktów kredytowych ECTS | G38: =SUM(G27:G37) -> 30
B40: Zestaw | E40: Liczba godzin | G40: Punkty
A41: L.p. | B41: przedmiotów | C41: Nazwa przedmiotu | E41: w semestrze | G41: kredytowe | H41: Strona
B42: (kod) | E42: wykłady | F42: ćwiczenia | G42: ECTS
A43: Rok 2 Semestr 3
A44: 1 | B44: A.1 | C44: ='st stacj I st plan VIII'!B43 -> Język obcy 3) | F44: =SUM('st stacj I st plan VIII'!U43:W43) -> 30 | G44: ='ECTS roboczy aktualny'!D27 -> 2
...

Sheet ECTS roboczy aktualny
B2: ECTS
B3: Semestr | C3: Przedmioty | D3: Suma
B4: 1 | C4: Matematyka | D4: 8
C5: Fizyka | D5: 1
C6: Chemia | D6: 2
C7: Geologia | D7: 3
C8: Mechanika teoretyczna | D8: 4
C9: Geometria wykreślna | D9: 3
C10: Rysunek techniczny | D10: 1
C11: Budownictwo komunikacyjne | D11: 3
C12: Wyroby budowlane | D12: 5
B13: 1 Suma | D13: 30
B14: 2 | C14: Matematyka | D14: 4
C15: Statystyka stosowana | D15: 2
C16: Rysunek techniczny | D16: 2
C17: Geodezja | D17: 3
C18: Technologia betonów i zapraw | D18: 3
C19: Budownictwo ogólne | D19: 2
C20: Fizyka budowli | D20: 4
C21: Hydraulika i hydrologia | D21: 1
C22: Podstawy projektowania konstrukcji | D22: 1
C23: Metody komputerowe I | D23: 2
C24: Wytrzymałość materiałów I | D24: 6
B25: 2 Suma | D25: 30
B26: 3 | C26: Bezpieczeństwo pracy i ergonomia | D26: 1
C27: Język obcy | D27: 2
C28: Wychowanie fizyczne | D28: 0
C29: Metody obliczeniowe | D29: 4
C30: Mechanika budowli | D30: 6
C31: Budownictwo ogólne | D31: 4
C32: Mechanika gruntów | D32: 6
C33: Konstrukcje betonowe - podstawy | D33: 3
C34: Wytrzymałość materiałów I | D34: 4
B35: 3 Suma | D35: 30
B36: 4 | C36: Język obcy | D36: 1
C37: Wychowanie fizyczne | D37: 0
C38: Mechanika budowli | D38: 4
C39: Budownictwo ogólne | D39: 4
C40: Fundamentowanie | D40: 4
C41: Podstawy kierowania procesem inwestycyjnym | D41: 1
...
