Workbook

Sheet st stacj I st plan VIII
Y2: Załącznik nr 1 do uchwały nr 6/444 Senatu UTP z dnia 27 maja 2020 r.
B3: Informacje ogólne o programie studiów
B5: KIERUNEK: | D5: BUDOWNICTWO
B6: PROFIL: | D6: PROFIL OGÓLNOAKADEMICKI
B7: POZIOM STUDIÓW: | D7: STUDIA PIERWSZEGO STOPNIA (3,5-letnie inżynierskie)
B8: FORMA STUDIÓW: | D8: STUDIA STACJONARNE
B11: łączna liczba godzin zajęć dydaktycznych | G11: =G310 -> 2310 | H11: godz. | AW11: =(G11/25)+55*4/25+5 -> 106.2
B12: łączna liczba pkt. ECTS jaką student musi uzyskać w ramach zajęć prowadzonych z bezpośrednim udziałem NA lub innych osób prowadzących zajęcia (w przypadku studiów stacjonarnych ponad 50% z ogólnej liczby pkt. ECTS) | G12: =G11/25+62*4/25+7 -> 109.32 | H12: pkt. ECTS
B13: liczba pkt. ECTS jaką student musi uzyskać w ramach zajęć z dziedziny nauk humanistycznych lub nauk społecznych (nie mniej niż 5 pkt. ECTS, nie dotyczy kierunków przyporządkowanych do dziedziny nauk humanistycznych lub nauk społecznych) | G13: 6 | H13: pkt. ECTS
B14: liczba pkt. ECTS za zajęcia do wyboru (nie mniej niż 30% z ogólnej liczby pkt. ECTS) | G14: 63 | H14: pkt. ECTS
B15: zajęcia związane z prowadzoną w uczelni działalnością naukową w dyscyplinie / dyscyplinach, do których przyporządkowano kierunek studiów wskazać wyłącznie dla kierunku o profilu ogólnoakademickim (ponad 50% z ogólnej liczby pkt. ECTS) | G15: 180 | H15: pkt. ECTS
B16: zajęcia kształtujące umiejętności praktyczne wskazać wyłacznie dla kierunku o profilu praktycznym (ponad 50% z ogólnej liczby pkt. ECTS) | G16: - | H16: pkt. ECTS
AR25: KMKiMB | AS25: KKB
D26: PLAN STUDIÓW NR VIII
A27: WYDZIAŁ BUDOWNICTWA, ARCHITEKTURY I INŻYNIERII ŚRODOWISKA
D29: PROFIL: | H29: OGÓLNOAKADEMICKI
A30: UNIWERSYTET TECHNOLOGICZNO-PRZYRODNICZY | D30: POZIOM STUDIÓW: | H30: STUDIA PIERWSZEGO STOPNIA (3,5-LETNIE INŻYNIERSKIE)
A31: IM. J. i J. ŚNIADECKICH | D31: FORMA STUDIÓW: | H31: STUDIA STACJONARNE
A32: w BYDGOSZCZY | D32: KIERUNEK: | H32: BUDOWNICTWO
AB33: …………………..
AB34: pieczątka uczelni
A37: Pozycja planu | B37: NAZWA PRZEDMIOTU | D37: Liczba | G37: GODZINY | L37: ROZKŁAD ZAJĘĆ w SEMESTRZE
G38: Razem | H38: w tym | L38: sem. I | P38: sem. II | T38: sem. III | X38: sem. IV | AB38: sem. V | AF38: sem. VI | AJ38: sem. VII
D39: egza-mi-nów | E39: zali-czeń | F39: pkt. ECTS | H39: W | I39: Ć | J39: L | K39: P / S | L39: Liczba godzin w semestrze
L40: W | M40: Ć | N40: L | O40: P/S | P40: W | Q40: Ć | R40: L | S40: P/S | T40: W | U40: Ć | V40: L | W40: P/S | X40: W | Y40: Ć | Z40: L | AA40: P/S | AB40: W | AC40: Ć | AD40: L | AE40: P/S | AF40: W | AG40: Ć | AH40: L | AI40: P/S | AJ40: W | AK40: Ć | AL40: L | AM40: P/S
A42: A. | B42: PRZEDMIOTY OGÓLNE
A43: 1. | B43: Język obcy 3) | E43: 4 | F43: 5 | G43: =SUM(H43:K43) -> 120 | H43: =SUM(L43,P43,T43,X43,AB43,AF43,AJ43) -> 0 | I43: =SUM(M43,Q43,U43,Y43,AC43,AG43,AK43) -> 0 | J43: =SUM(N43,R43,V43,Z43,AD43,AH43,AL43) -> 120 | K43: =SUM(O43,S43,W43,AA43,AE43,AI43,AM43) -> 0 | V43: 30 | Z43: 30 | AD43: 30 | AH43: 30
A44: 2. | B44: Wychowanie fizyczne | E44: 2 | F44: 0 | G44: =SUM(H44:K44) -> 60 | H44: =SUM(L44,P44,T44,X44,AB44,AF44,AJ44) -> 0 | I44: =SUM(M44,Q44,U44,Y44,AC44,AG44,AK44) -> 60 | J44: =SUM(N44,R44,V44,Z44,AD44,AH44,AL44) -> 0 | K44: =SUM(O44,S44,W44,AA44,AE44,AI44,AM44) -> 0 | U44: 30 | Y44: 30
A45: 3. | B45: Psychospołeczne aspekty sukcesu zawodowego | E45: 1 | F45: 1 | G45: =SUM(H45:K45) -> 15 | H45: =SUM(L45,P45,T45,X45,AB45,AF45,AJ45) -> 15 | I45: =SUM(M45,Q45,U45,Y45,AC45,AG45,AK45) -> 0 | J45: =SUM(N45,R45,V45,Z45,AD45,AH45,AL45) -> 0 | K45: =SUM(O45,S45,W45,AA45,AE45,AI45,AM45) -> 0 | AJ45: 15
A46: 4. | B46: Bezpieczeństwo pracy i ergonomia | E46: 1 | F46: 1 | G46: =SUM(H46:K46) -> 15 | H46: =SUM(L46,P46,T46,X46,AB46,AF46,AJ46) -> 15 | I46: =SUM(M46,Q46,U46,Y46,AC46,AG46,AK46) -> 0 | J46: =SUM(N46,R46,V46,Z46,AD46,AH46,AL46) -> 0 | K46: =SUM(O46,S46,W46,AA46,AE46,AI46,AM46) -> 0 | T46: 15
A47: 5. | B47: Prawo w budownictwie | E47: 1 | F47: 2 | G47: =SUM(H47:K47) -> 15 | H47: =SUM(L47,P47,T47,X47,AB47,AF47,AJ47) -> 15 | I47: =SUM(M47,Q47,U47,Y47,AC47,AG47,AK47) -> 0 | J47: =SUM(N47,R47,V47,Z47,AD47,AH47,AL47) -> 0 | K47: =SUM(O47,S47,W47,AA47,AE47,AI47,AM47) -> 0 | AJ47: 15 | AS47: 15
A48: 6. | B48: Podstawy przedsiębiorczości | E48: 1 | F48: 1 | G48: =SUM(H48:K48) -> 15 | H48: =SUM(L48,P48,T48,X48,AB48,AF48,AJ48) -> 15 | I48: =SUM(M48,Q48,U48,Y48,AC48,AG48,AK48) -> 0 | J48: =SUM(N48,R48,V48,Z48,AD48,AH48,AL48) -> 0 | K48: =SUM(O48,S48,W48,AA48,AE48,AI48,AM48) -> 0 | AJ48: 15
G49: =SUM(H49:K49) -> 0 | H49: =SUM(L49,P49,T49,X49,AB49,AF49,AJ49) -> 0 | I49: =SUM(M49,Q49,U49,Y49,AC49,AG49,AK49) -> 0 | J49: =SUM(N49,R49,V49,Z49,AD49,AH49,AL49) -> 0 | K49: =SUM(O49,S49,W49,AA49,AE49,AI49,AM49) -> 0
B50: RAZEM | D50: =SUM(D43:D49) -> 0 | E50: =SUM(E43:E49) -> 10 | F50: =SUM(F43:F49) -> 10 | G50: =SUM(G43:G49) -> 240 | H50: =SUM(H43:H49) -> 60 | I50: =SUM(I43:I49) -> 60 | J50: =SUM(J43:J49) -> 120 | K50: =SUM(K43:K49) -> 0 | ... AM50: =SUM(AM43:AM49) -> 0
L51: =SUM(L50:O50) -> 0 | P51: =SUM(P50:S50) -> 0 | T51: =SUM(T50:W50) -> 75 | X51: =SUM(X50:AA50) -> 60 | AB51: =SUM(AB50:AE50) -> 30 | AF51: =SUM(AF50:AI50) -> 30 | AJ51: =SUM(AJ50:AM50) -> 45
A52: PODSUMOWANIE ARKUSZA 1 | D52: egza-mi-nów | E52: zali-czeń | F52: pkt. ECTS | G52: Razem | H52: W | I52: Ć | J52: L | K52: P / S | L52: sem. I | P52: sem. II | T52: sem. III | X52: sem. IV | AB52: sem. V | AF52: sem. VI | AJ52: sem. VII
L53: W | M53: Ć | N53: L | O53: P/S | P53: W | Q53: Ć | R53: L | S53: P/S | T53: W | U53: Ć | V53: L | W53: P/S | X53: W | Y53: Ć | Z53: L | AA53: P/S | AB53: W | AC53: Ć | AD53: L | AE53: P/S | AF53: W | AG53: Ć | AH53: L | AI53: P/S | AJ53: W | AK53: Ć | AL53: L | AM53: P/S
D55: =SUM(D50) -> 0 | E55: =SUM(E50) -> 10 | F55: =SUM(F50) -> 10 | G55: =SUM(G50) -> 240 | H55: =SUM(H50) -> 60 | I55: =SUM(I50) -> 60 | J55: =SUM(J50) -> 120 | K55: =SUM(K50) -> 0 | ... AM55: =SUM(AM50) -> 0 | AO55: SUMA
L56: =SUM(L55:O55) -> 0 | P56: =SUM(P55:S55) -> 0 | T56: =SUM(T55:W55) -> 75 | X56: =SUM(X55:AA55) -> 60 | AB56: =SUM(AB55:AE55) -> 30 | AF56: =SUM(AF55:AI55) -> 30 | AJ56: =SUM(AJ55:AM55) -> 45 | AO56: =SUM(L56:AI56)+AJ56 -> 240
D57: Liczba: | G57: egzaminów | L57: 0 | P57: 0 | T57: 0 | X57: 0 | AB57: 0 | AF57: 0 | AJ57: 0 | AO57: =SUM(L57:AM57) -> 0
G58: zaliczeń | L58: 0 | P58: 0 | T58: 3 | X58: 2 | AB58: 1 | AF58: 1 | AJ58: 3 | AO58: =SUM(L58:AM58) -> 10
G59: pkt. ECTS | L59: 0 | P59: 0 | T59: 3 | X59: 1 | AB59: 1 | AF59: 1 | AJ59: 4 | AO59: =SUM(L59:AM59) -> 10
A61: UWAGI: | AC61: Obowiązuje od roku akademickiego: 2020/2021
A62: 1. Studentów obowiązuje na I roku udział we wszystkich zajęciach, na latach wyższych udział we wszystkich ćwiczeniach audytoryjnych, laboratoryjnych, projektowych i seminarium.
A63: 2. Studentów obowiązuje odbycie: 1. 4-tygodniowej praktyki zawodowej po II roku studiów (3 punkty ECTS) oraz 2. 4-tygodniowej praktyki przeddyplomowej po III roku studiów (2 punkty ECTS), zaliczenie na ocenę. | AC63: Legenda:
A64: 3. Język obcy kontynuowany do wyboru: 1. Język angielski, 2. Język niemiecki. | AC64: W | AD64: - wykład
A65: 4. Przedmioty obieralne z grupy D - studenci realizują dwa z wybranych modułów przedmiotów: D1.1 lub D1.2, D2.1 lub D2.2 | AC65: Ć | AD65: - ćwiczenia audytoryjne
A66: 5. Przedmioty obieralne z grupy E - studenci realizująjeden z wybranych modułów przedmiotów: E1 lub E2 lub E3 | AC66: L | AD66: - ćwiczenia laboratoryjne, lektorat języków obcych
A67: 6. Studentów obowiązuje napisanie i obrona pracy dyplomowej (15 punktów ECTS). | AC67: P | AD67: - ćwiczenia projektowe
AC68: S | AD68: - seminarium
AC69: T | AD69: - zajęcia terenowe
AD70: - egzamin
AB71: ARKUSZ 1
D72: =D26 -> PLAN STUDIÓW NR VIII
A73: WYDZIAŁ BUDOWNICTWA, ARCHITEKTURY I INŻYNIERII ŚRODOWISKA
D75: PROFIL: | H75: OGÓLNOAKADEMICKI
A76: UNIWERSYTET TECHNOLOGICZNO-PRZYRODNICZY | D76: POZIOM STUDIÓW: | H76: STUDIA PIERWSZEGO STOPNIA (3,5-LETNIE INŻYNIERSKIE)
A77: IM. J. i J. ŚNIADECKICH | D77: FORMA STUDIÓW: | H77: STUDIA STACJONARNE
A78: w BYDGOSZCZY | D78: KIERUNEK: | H78: BUDOWNICTWO
AB79: …………………..
AB80: pieczątka uczelni
A83: Pozycja planu | B83: NAZWA PRZEDMIOTU | D83: Liczba | G83: GODZINY | L83: ROZKŁAD ZAJĘĆ w SEMESTRZE
G84: Razem | H84: w tym | L84: sem. I | P84: sem. II | T84: sem. III | X84: sem. IV | AB84: sem. V | AF84: sem. VI | AJ84: sem. VII
D85: egza-mi-nów | E85: zali-czeń | F85: pkt. ECTS | H85: W | I85: Ć | J85: L | K85: P / S | L85: Liczba godzin w semestrze
L86: W | M86: Ć | N86: L | O86: P/S | P86: W | Q86: Ć | R86: L | S86: P/S | T86: W | U86: Ć | V86: L | W86: P/S | X86: W | Y86: Ć | Z86: L | AA86: P/S | AB86: W | AC86: Ć | AD86: L | AE86: P/S | AF86: W | AG86: Ć | AH86: L | AI86: P/S | AJ86: W | AK86: Ć | AL86: L | AM86: P/S
A88: B. | B88: PRZEDMIOTY PODSTAWOWE
A89: 1. | B89: Matematyka | D89: 2 | E89: 2 | F89: 12 | G89: =SUM(H89:K89) -> 105 | H89: =SUM(L89,P89,T89,X89,AB89,AF89,AJ89) -> 60 | I89: =SUM(M89,Q89,U89,Y89,AC89,AG89,AK89) -> 45 | J89: =SUM(N89,R89,V89,Z89,AD89,AH89,AL89) -> 0 | K89: =SUM(O89,S89,W89,AA89,AE89,AI89,AM89) -> 0 | L89: 30 | M89: 30 | P89: 30 | Q89: 15
A90: 2. | B90: Statystyka stosowana | E90: 1 | F90: 2 | G90: =SUM(H90:K90) -> 30 | H90: =SUM(L90,P90,T90,X90,AB90,AF90,AJ90) -> 15 | I90: =SUM(M90,Q90,U90,Y90,AC90,AG90,AK90) -> 15 | J90: =SUM(N90,R90,V90,Z90,AD90,AH90,AL90) -> 0 | K90: =SUM(O90,S90,W90,AA90,AE90,AI90,AM90) -> 0 | P90: 15 | Q90: 15
A91: 3. | B91: Fizyka | E91: 1 | F91: 1 | G91: =SUM(H91:K91) -> 15 | H91: =SUM(L91,P91,T91,X91,AB91,AF91,AJ91) -> 15 | I91: =SUM(M91,Q91,U91,Y91,AC91,AG91,AK91) -> 0 | J91: =SUM(N91,R91,V91,Z91,AD91,AH91,AL91) -> 0 | K91: =SUM(O91,S91,W91,AA91,AE91,AI91,AM91) -> 0 | L91: 15
A92: 4. | B92: Chemia | E92: 2 | F92: 2 | G92: =SUM(H92:K92) -> 30 | H92: =SUM(L92,P92,T92,X92,AB92,AF92,AJ92) -> 15 | I92: =SUM(M92,Q92,U92,Y92,AC92,AG92,AK92) -> 0 | J92: =SUM(N92,R92,V92,Z92,AD92,AH92,AL92) -> 15 | K92: =SUM(O92,S92,W92,AA92,AE92,AI92,AM92) -> 0 | L92: 15 | N92: 15
A93: 5. | B93: Geologia | D93: 1 | E93: 1 | F93: 3 | G93: =SUM(H93:K93) -> 30 | H93: =SUM(L93,P93,T93,X93,AB93,AF93,AJ93) -> 15 | I93: =SUM(M93,Q93,U93,Y93,AC93,AG93,AK93) -> 0 | J93: =SUM(N93,R93,V93,Z93,AD93,AH93,AL93) -> 15 | K93: =SUM(O93,S93,W93,AA93,AE93,AI93,AM93) -> 0 | L93: 15 | N93: 15
A94: 6. | B94: Mechanika teoretyczna | D94: 1 | E94: 1 | F94: 4 | G94: =SUM(H94:K94) -> 45 | H94: =SUM(L94,P94,T94,X94,AB94,AF94,AJ94) -> 15 | I94: =SUM(M94,Q94,U94,Y94,AC94,AG94,AK94) -> 30 | J94: =SUM(N94,R94,V94,Z94,AD94,AH94,AL94) -> 0 | K94: =SUM(O94,S94,W94,AA94,AE94,AI94,AM94) -> 0 | L94: 15 | M94: 30 | AR94: 45
A95: 7. | B95: Metody obliczeniowe | E95: 2 | F95: 4 | G95: =SUM(H95:K95) -> 45 | H95: =SUM(L95,P95,T95,X95,AB95,AF95,AJ95) -> 15 | I95: =SUM(M95,Q95,U95,Y95,AC95,AG95,AK95) -> 0 | J95: =SUM(N95,R95,V95,Z95,AD95,AH95,AL95) -> 30 | K95: =SUM(O95,S95,W95,AA95,AE95,AI95,AM95) -> 0 | T95: 15 | V95: 30 | AR95: 45
B96: RAZEM | D96: =SUM(D89:D95) -> 4 | E96: =SUM(E89:E95) -> 10 | F96: =SUM(F89:F95) -> 28 | G96: =SUM(G89:G95) -> 300 | H96: =SUM(H89:H95) -> 150 | I96: =SUM(I89:I95) -> 90 | J96: =SUM(J89:J95) -> 60 | K96: =SUM(K89:K95) -> 0 | ... AM96: =SUM(AM89:AM95) -> 0
L97: =SUM(L96:O96) -> 180 | P97: =SUM(P96:S96) -> 75 | U97: =SUM(T96:W96) -> 45 | X97: =SUM(X96:AA96) -> 0 | AB97: =SUM(AB96:AE96) -> 0 | AG97: =SUM(AF96:AI96) -> 0 | AK97: =SUM(AJ96:AM96) -> 0
A98: PODSUMOWANIE ARKUSZA 1+2 | D98: egza-mi-nów | E98: zali-czeń | F98: pkt. ECTS | G98: Razem | H98: W | I98: Ć | J98: L | K98: P / S | L98: sem. I | P98: sem. II | T98: sem. III | X98: sem. IV | AB98: sem. V | AF98: sem. VI | AJ98: sem. VII
L99: W | M99: Ć | N99: L | O99: P/S | P99: W | Q99: Ć | R99: L | S99: P/S | T99: W | U99: Ć | V99: L | W99: P/S | X99: W | Y99: Ć | Z99: L | AA99: P/S | AB99: W | AC99: Ć | AD99: L | AE99: P/S | AF99: W | AG99: Ć | AH99: L | AI99: P/S | AJ99: W | AK99: Ć | AL99: L | AM99: P/S
D101: =D55+D96 -> 4 | E101: =E55+E96 -> 20 | F101: =F55+F96 -> 38 | G101: =SUM(G50+G96) -> 540 | H101: =SUM(H50+H96) -> 210 | I101: =SUM(I50+I96) -> 150 | J101: =SUM(J50+J96) -> 180 | K101: =SUM(K50+K96) -> 0 | L101: =SUM(L50+L96) -> 90 | M101: =SUM(M50+M96) -> 60 | N101: =SUM(N50+N96) -> 30 | ... AM101: =SUM(AM50+AM96) -> 0 | AO101: SUMA
L102: =SUM(L101:O101) -> 180 | P102: =SUM(P101:S101) -> 75 | T102: =SUM(T101:W101) -> 120 | X102: =SUM(X101:AA101) -> 60 | AB102: =SUM(AB101:AE101) -> 30 | AF102: =SUM(AF101:AI101) -> 30 | AJ102: =SUM(AJ101:AM101) -> 45 | AO102: =SUM(L102:AI102)+AJ102 -> 540
D103: Liczba: | G103: egzaminów | L103: =L57+3 -> 3 | P103: =P57+1 -> 1 | T103: =T57+0 -> 0 | X103: =X57+0 -> 0 | AB103: =AB57+0 -> 0 | AF103: =AF57+0 -> 0 | AJ103: =AJ57+0 -> 0 | AO103: =SUM(L103:AM103) -> 4
G104: zaliczeń | L104: =L58+6 -> 6 | P104: =P58+3 -> 3 | T104: =T58+2 -> 5 | X104: =X58 -> 2 | AB104: =AB58 -> 1 | AF104: =AF58 -> 1 | AJ104: =AJ58 -> 3 | AO104: =SUM(L104:AM104) -> 21
G105: pkt. ECTS | L105: =L59+8+1+2+3+4 -> 18 | P105: =P59+4+2 -> 6 | T105: =T59+4 -> 7 | X105: =X59 -> 1 | AB105: =AB59 -> 1 | AF105: =AF59 -> 1 | AJ105: =AJ59 -> 4 | AO105: =SUM(L105:AM105) -> 38
A107: UWAGI: | AC107: =AC61 -> Obowiązuje od roku akademickiego: 2020/2021
A108: 1. Studentów obowiązuje na I roku udział we wszystkich zajęciach, na latach wyższych udział we wszystkich ćwiczeniach audytoryjnych, laboratoryjnych, projektowych i seminarium.
A109: 2. Studentów obowiązuje odbycie: 1. 4-tygodniowej praktyki zawodowej po II roku studiów (3 punkty ECTS) oraz 2. 4-tygodniowej praktyki przeddyplomowej po III roku studiów (2 punkty ECTS), zaliczenie na ocenę. | AC109: Legenda:
A110: 3. Język obcy kontynuowany do wyboru: 1. Język angielski, 2. Język niemiecki. | AC110: W | AD110: - wykład
A111: 4. Przedmioty obieralne z grupy D - studenci realizują dwa z wybranych modułów przedmiotów: D1.1 lub D1.2, D2.1 lub D2.2 | AC111: Ć | AD111: - ćwiczenia audytoryjne
A112: 5. Przedmioty obieralne z grupy E - studenci realizująjeden z wybranych modułów przedmiotów: E1 lub E2 lub E3 | AC112: L | AD112: - ćwiczenia laboratoryjne, lektorat języków obcych
A113: 6. Studentów obowiązuje napisanie i obrona pracy dyplomowej (15 punktów ECTS). | AC113: P | AD113: - ćwiczenia projektowe
AC114: S | AD114: - seminarium
AC115: T | AD115: - zajęcia terenowe
AD116: - egzamin
AB117: ARKUSZ 2
D118: =D26 -> PLAN STUDIÓW NR VIII
A119: WYDZIAŁ BUDOWNICTWA, ARCHITEKTURY I INŻYNIERII ŚRODOWISKA
D121: PROFIL: | H121: OGÓLNOAKADEMICKI
A122: UNIWERSYTET TECHNOLOGICZNO-PRZYRODNICZY | D122: POZIOM STUDIÓW: | H122: STUDIA PIERWSZEGO STOPNIA (3,5-LETNIE INŻYNIERSKIE)
A123: IM. J. i J. ŚNIADECKICH | D123: FORMA STUDIÓW: | H123: STUDIA STACJONARNE
A124: w BYDGOSZCZY | D124: KIERUNEK: | H124: BUDOWNICTWO
AB125: …………………..
...

Sheet PKT ECTS
A1: PLAN STUDIÓW NR VIII
A2: POZIOM STUDIÓW: | D2: STUDIA I STOPNIA (INŻYNIERSKIE)
A3: FORMA STUDIÓW: | D3: STACJONARNE
A4: KIERUNEK: | D4: BUDOWNICTWO
A7: Plan studiów według semestrów
B8: Zestaw | E8: Liczba godzin | G8: Punkty
A9: L.p. | B9: przedmiotów | C9: Nazwa przedmiotu | E9: w semestrze | G9: kredytowe | H9: Strona
B10: (kod) | E10: wykłady | F10: ćwiczenia | G10: ECTS
A11: Rok 1 Semestr 1
A12: 1 | B12: B.1 | C12: ='st stacj I st plan VIII'!B89 -> Matematyka | E12: ='st stacj I st plan VIII'!L89 -> 30 | F12: ='st stacj I st plan VIII'!M89 -> 30 | G12: ='ECTS roboczy aktualny'!D4 -> 8
A13: 2 | B13: B.3 | C13: ='st stacj I st plan VIII'!B91 -> Fizyka | E13: ='st stacj I st plan VIII'!L91 -> 15 | G13: ='ECTS roboczy aktualny'!D5 -> 1
A14: 3 | B14: B.4 | C14: ='st stacj I st plan VIII'!B92 -> Chemia | E14: ='st stacj I st plan VIII'!L92 -> 15 | F14: =SUM('st stacj I st plan VIII'!M92:O92) -> 15 | G14: ='ECTS roboczy aktualny'!D6 -> 2
A15: 4 | B15: B.5 | C15: ='st stacj I st plan VIII'!B93 -> Geologia | E15: ='st stacj I st plan VIII'!L93 -> 15 | F15: =SUM('st stacj I st plan VIII'!M93:O93) -> 15 | G15: ='ECTS roboczy aktualny'!D7 -> 3
A16: 5 | B16: B.6 | C16: ='st stacj I st plan VIII'!B94 -> Mechanika teoretyczna | E16: ='st stacj I st plan VIII'!L94 -> 15 | F16: =SUM('st stacj I st plan VIII'!M94:O94) -> 30 | G16: ='ECTS roboczy aktualny'!D8 -> 4
A17: 6 | B17: C.1 | C17: ='st stacj I st plan VIII'!B135 -> Geometria wykreślna | E17: ='st stacj I st plan VIII'!L135 -> 15 | F17: 30 | G17: ='ECTS roboczy aktualny'!D9 -> 3
A18: 7 | B18: C.2 | C18: ='st stacj I st plan VIII'!B136 -> Rysunek techniczny | F18: =SUM('st stacj I st plan VIII'!Q136:S136) -> 30 | G18: ='ECTS roboczy aktualny'!D10 -> 1
A19: 8 | B19: C.7 | C19: ='st stacj I st plan VIII'!B141 -> Wyroby budowlane | E19: ='st stacj I st plan VIII'!L141 -> 30 | F19: =SUM('st stacj I st plan VIII'!M141:O141) -> 30 | G19: ='ECTS roboczy aktualny'!D12 -> 5
A20: 9 | B20: C.22 | C20: ='st stacj I st plan VIII'!B156 -> Budownictwo komunikacyjne | E20: ='st stacj I st plan VIII'!L156 -> 15 | F20: =SUM('st stacj I st plan VIII'!M156:O156) -> 30 | G20: ='ECTS roboczy aktualny'!D11 -> 3
A21: Suma punktów kredytowych ECTS | G21: =SUM(G12:G20) -> 30
B23: Zestaw | E23: Liczba godzin | G23: Punkty
A24: L.p. | B24: przedmiotów | C24: Nazwa przedmiotu | E24: w semestrze | G24: kredytowe | H24: Strona
B25: (kod) | E25: wykłady | F25: ćwiczenia | G25: ECTS
A26: Rok 1 Semestr 2
A27: 1 | B27: B.1 | C27: ='st stacj I st plan VIII'!B89 -> Matematyka | E27: ='st stacj I st plan VIII'!P89 -> 30 | F27: =SUM('st stacj I st plan VIII'!Q89:S89) -> 15 | G27: ='ECTS roboczy aktualny'!D14 -> 4
A28: 2 | B28: B.2 | C28: ='st stacj I st plan VIII'!B90 -> Statystyka stosowana | E28: ='st stacj I st plan VIII'!P90 -> 15 | F28: =SUM('st stacj I st plan VIII'!Q90:S90) -> 15 | G28: ='ECTS roboczy aktualny'!D15 -> 2
A29: 3 | B29: C.2 | C29: ='st stacj I st plan VIII'!B136 -> Rysunek techniczny | F29: =SUM('st stacj I st plan VIII'!Q136:S136) -> 30 | G29: ='ECTS roboczy aktualny'!D16 -> 2
A30: 4 | B30: C.3 | C30: ='st stacj I st plan VIII'!B137 -> Geodezja | E30: ='st stacj I st plan VIII'!P137 -> 15 | F30: =SUM('st stacj I st plan VIII'!Q137:S137) -> 30 | G30: ='ECTS roboczy aktualny'!D17 -> 3
A31: 5 | B31: C.4 | C31: ='st stacj I st plan VIII'!B138 -> Metody komputerowe I | E31: ='st stacj I st plan VIII'!P138 -> 15 | F31: =SUM('st stacj I st plan VIII'!Q138:S138) -> 15 | G31: ='ECTS roboczy aktualny'!D23 -> 2
A32: 6 | B32: C.8 | C32: ='st stacj I st plan VIII'!B142 -> Technologia betonów i zapraw | E32: ='st stacj I st plan VIII'!P142 -> 15 | F32: =SUM('st stacj I st plan VIII'!Q142:S142) -> 15 | G32: ='ECTS roboczy aktualny'!D18 -> 3
A33: 7 | B33: C.9 | C33: ='st stacj I st plan VIII'!B143 -> Wytrzymałość materiałów I | E33: ='st stacj I st plan VIII'!P143 -> 30 | F33: =SUM('st stacj I st plan VIII'!Q143:S143) -> 30 | G33: ='ECTS roboczy aktualny'!D24 -> 6
A34: 8 | B34: C.12 | C34: ='st stacj I st plan VIII'!B146 -> Budownictwo ogólne | E34: ='st stacj I st plan VIII'!P146 -> 15 | G34: ='ECTS roboczy aktualny'!D19 -> 2
A35: 9 | B35: C.15 | C35: ='st stacj I st plan VIII'!B149 -> Podstawy projektowania konstrukcji | E35: ='st stacj I st plan VIII'!P149 -> 15 | G35: ='ECTS roboczy aktualny'!D22 -> 1
A36: 10 | B36: C.23 | C36: ='st stacj I st plan VIII'!B157 -> Fizyka budowli | E36: ='st stacj I st plan VIII'!P157 -> 15 | F36: =SUM('st stacj I st plan VIII'!Q157:S157) -> 30 | G36: ='ECTS roboczy aktualny'!D20 -> 4
A37: 11 | B37: C.25 | C37: ='st stacj I st plan VIII'!B159 -> Hydraulika i hydrologia | E37: ='st stacj I st plan VIII'!P159 -> 15 | G37: ='ECTS roboczy aktualny'!D21 -> 1
A38: Suma punktów kredytowych ECTS | G38: =SUM(G27:G37) -> 30
B40: Zestaw | E40: Liczba godzin | G40: Punkty
A41: L.p. | B41: przedmiotów | C41: Nazwa przedmiotu | E41: w semestrze | G41: kredytowe | H41: Strona
B42: (kod) | E42: wykłady | F42: ćwiczenia | G42: ECTS
A43: Rok 2 Semestr 3
A44: 1 | B44: A.1 | C44: ='st stacj I st plan VIII'!B43 -> Język obcy 3) | F44: =SUM('st stacj I st plan VIII'!U43:W43) -> 30 | G44: ='ECTS roboczy aktualny'!D27 -> 2
A45: 2 | B45: A.2 | C45: ='st stacj I st plan VIII'!B44 -> Wychowanie fizyczne | F45: =SUM('st stacj I st plan VIII'!U44:W44) -> 30 | G45: 0
A46: 3 | B46: A.4 | C46: ='st stacj I st plan VIII'!B46 -> Bezpieczeństwo pracy i ergonomia | E46: ='st stacj I st plan VIII'!T46 -> 15 | F46: 30 | G46: ='ECTS roboczy aktualny'!D26 -> 1
A47: 4 | B47: B.7 | C47: ='st stacj I st plan VIII'!B95 -> Metody obliczeniowe | E47: ='st stacj I st plan VIII'!T95 -> 15 | F47: =SUM('st stacj I st plan VIII'!U95:W95) -> 30 | G47: ='ECTS roboczy aktualny'!D29 -> 4
A48: 5 | B48: C.9 | C48: ='st stacj I st plan VIII'!B143 -> Wytrzymałość materiałów I | E48: ='st stacj I st plan VIII'!T143 -> 15 | F48: =SUM('st stacj I st plan VIII'!U143:W143) -> 30 | G48: ='ECTS roboczy aktualny'!D34 -> 4
A49: 6 | B49: C.11 | C49: ='st stacj I st plan VIII'!B145 -> Mechanika budowli | E49: ='st stacj I st plan VIII'!T145 -> 30 | F49: =SUM('st stacj I st plan VIII'!U145:W145) -> 30 | G49: ='ECTS roboczy aktualny'!D30 -> 6
A50: 7 | B50: C.12 | C50: ='st stacj I st plan VIII'!B146 -> Budownictwo ogólne | E50: ='st stacj I st plan VIII'!T146 -> 15 | F50: =SUM('st stacj I st plan VIII'!U146:W146) -> 30 | G50: ='ECTS roboczy aktualny'!D31 -> 4
A51: 8 | B51: C.13 | C51: ='st stacj I st plan VIII'!B147 -> Mechanika gruntów | E51: ='st stacj I st plan VIII'!T147 -> 30 | F51: =SUM('st stacj I st plan VIII'!U147:W147) -> 30 | G51: ='ECTS roboczy aktualny'!D32 -> 6
A52: 9 | B52: C.16 | C52: ='st stacj I st plan VIII'!B150 -> Konstrukcje betonowe - podstawy | E52: ='st stacj I st plan VIII'!T150 -> 15 | F52: =SUM('st stacj I st plan VIII'!U150:W150) -> 15 | G52: ='ECTS roboczy aktualny'!D33 -> 3
A53: Suma punktów kredytowych ECTS | G53: =SUM(G44:G52) -> 30
B55: Zestaw | E55: Liczba godzin | G55: Punkty
A56: L.p. | B56: przedmiotów | C56: Nazwa przedmiotu | E56: w semestrze | G56: kredytowe | H56: Strona
B57: (kod) | E57: wykłady | F57: ćwiczenia | G57: ECTS
A58: Rok 2 Semestr 4
A59: 1 | B59: A.1 | C59: ='st stacj I st plan VIII'!B43 -> Język obcy 3) | F59: =SUM('st stacj I st plan VIII'!Y43:AA43) -> 30 | G59: ='ECTS roboczy aktualny'!D36 -> 1
A60: 2 | B60: A.2 | C60: ='st stacj I st plan VIII'!B44 -> Wychowanie fizyczne | F60: =SUM('st stacj I st plan VIII'!Y44:AA44) -> 30 | G60: 0
B61: C.5 | C61: ='st stacj I st plan VIII'!B139 -> Metody komputerowe II | F61: =SUM('st stacj I st plan VIII'!Y139:AA139) -> 30 | G61: ='ECTS roboczy aktualny'!D48 -> 2
A62: 3 | B62: C.11 | C62: ='st stacj I st plan VIII'!B145 -> Mechanika budowli | E62: ='st stacj I st plan VIII'!X145 -> 15 | F62: =SUM('st stacj I st plan VIII'!Y145:AA145) -> 30 | G62: ='ECTS roboczy aktualny'!D38 -> 4
A63: 4 | B63: C.12 | C63: ='st stacj I st plan VIII'!B146 -> Budownictwo ogólne | E63: ='st stacj I st plan VIII'!X146 -> 30 | F63: =SUM('st stacj I st plan VIII'!Y146:AA146) -> 15 | G63: ='ECTS roboczy aktualny'!D39 -> 4
A64: 5 | B64: C.14 | C64: ='st stacj I st plan VIII'!B148 -> Fundamentowanie | E64: ='st stacj I st plan VIII'!X148 -> 15 | F64: =SUM('st stacj I st plan VIII'!Y148:AA148) -> 30 | G64: ='ECTS roboczy aktualny'!D40 -> 4
A65: 6 | B65: C.17 | C65: ='st stacj I st plan VIII'!B151 -> Konstrukcje betonowe - elementy | E65: ='st stacj I st plan VIII'!X151 -> 15 | F65: =SUM('st stacj I st plan VIII'!Y151:AA151) -> 15 | G65: ='ECTS roboczy aktualny'!D46 -> 3
A66: 7 | B66: C.19 | C66: ='st stacj I st plan VIII'!B153 -> Konstrukcje metalowe - podstawy | E66: ='st stacj I st plan VIII'!X153 -> 15 | F66: =SUM('st stacj I st plan VIII'!Y153:AA153) -> 15 | G66: ='ECTS roboczy aktualny'!D45 -> 2
A67: 8 | B67: C.21 | C67: ='st stacj I st plan VIII'!B155 -> Instalacje budowlane i OZE | E67: ='st stacj I st plan VIII'!X155 -> 15 | F67: =SUM('st stacj I st plan VIII'!Y155:AA155) -> 15 | G67: ='ECTS roboczy aktualny'!D47 -> 3
A68: 9 | B68: C.26 | C68: ='st stacj I st plan VIII'!B160 -> Technologia robót budowlanych | E68: ='st stacj I st plan VIII'!X160 -> 15 | F68: =SUM('st stacj I st plan VIII'!Y160:AA160) -> 15 | G68: ='ECTS roboczy aktualny'!D44 -> 2
A69: 10 | B69: C.28 | C69: ='st stacj I st plan VIII'!B162 -> Podstawy kierowania procesem inwestycyjnym | E69: ='st stacj I st plan VIII'!X162 -> 15 | G69: ='ECTS roboczy aktualny'!D41 -> 1
A70: 11 | B70: C.31 | C70: ='st stacj I st plan VIII'!B165 -> Ekonomika budownictwa | E70: ='st stacj I st plan VIII'!X165 -> 15 | G70: ='ECTS roboczy aktualny'!D42 -> 1
A71: 12 | B71: C.32 | C71: ='st stacj I st plan VIII'!B166 -> Praktyka zawodowa | G71: 3
A72: Suma punktów kredytowych ECTS | G72: =SUM(G59:G71) -> 30
B74: Zestaw | E74: Liczba godzin | G74: Punkty
A75: L.p. | B75: przedmiotów | C75: Nazwa przedmiotu | E75: w semestrze | G75: kredytowe | H75: Strona
B76: (kod) | E76: wykłady | F76: ćwiczenia | G76: ECTS
A77: Rok 3 Semestr 5
A78: 1 | B78: A.1 | C78: ='st stacj I st plan VIII'!B43 -> Język obcy 3) | F78: =SUM('st stacj I st plan VIII'!AC43:AE43) -> 30 | G78: ='ECTS roboczy aktualny'!D50 -> 1
A79: 2 | B79: C.6 | C79: ='st stacj I st plan VIII'!B140 -> Podstawy BIM | E79: ='st stacj I st plan VIII'!AB140 -> 15 | F79: 15 | G79: ='ECTS roboczy aktualny'!D58 -> 2
A80: 3 | B80: C.18 | C80: ='st stacj I st plan VIII'!B152 -> Prefabrykacja w budownictwie | E80: ='st stacj I st plan VIII'!AB152 -> 15 | F80: =SUM('st stacj I st plan VIII'!AC152:AE152) -> 15 | G80: ='ECTS roboczy aktualny'!D60 -> 2
A81: 4 | B81: C.20 | C81: ='st stacj I st plan VIII'!B154 -> Konstrukcje metalowe - elementy | E81: ='st stacj I st plan VIII'!AB154 -> 30 | F81: =SUM('st stacj I st plan VIII'!AC154:AE154) -> 15 | G81: ='ECTS roboczy aktualny'!D59 -> 3
A82: 5 | B82: C.26 | C82: ='st stacj I st plan VIII'!B160 -> Technologia robót budowlanych | E82: ='st stacj I st plan VIII'!AB160 -> 15 | F82: =SUM('st stacj I st plan VIII'!AC160:AE160) -> 15 | G82: ='ECTS roboczy aktualny'!D56 -> 2
A83: 6 | B83: C.27 | C83: ='st stacj I st plan VIII'!B161 -> Organizacja robót budowlanych | E83: ='st stacj I st plan VIII'!AB161 -> 15 | F83: =SUM('st stacj I st plan VIII'!AC161:AE161) -> 15 | G83: ='ECTS roboczy aktualny'!D57 -> 2
A84: 7 | B84: D.1.1.1/D.1.2.1 | C84: ='st stacj I st plan VIII'!B207 -> Planowanie i projektowanie drogowej infrastruktury miejskiej | D84: ='st stacj I st plan VIII'!C207 -> Planowanie i projektowanie drogowej infrastruktury zamiejskiej | E84: ='st stacj I st plan VIII'!AB207 -> 15 | F84: =SUM('st stacj I st plan VIII'!AC207:AE207) -> 15 | G84: ='ECTS roboczy aktualny'!D51 -> 3
A85: 8 | B85: D.1.1.2/D.1.2.2 | C85: ='st stacj I st plan VIII'!B208 -> Budowa i utrzymanie drogowej infrastuktury miejskiej | D85: ='st stacj I st plan VIII'!C208 -> Budowa i utrzymanie drogowej infrastuktury zamiejskiej | E85: ='st stacj I st plan VIII'!AB208 -> 15 | F85: =SUM('st stacj I st plan VIII'!AC208:AE208) -> 15 | G85: ='ECTS roboczy aktualny'!D52 -> 4
A86: 9 | B86: D.2.1.1/D.2.2.1 | C86: ='st stacj I st plan VIII'!B253 -> Fundamentowanie II | D86: ='st stacj I st plan VIII'!C253 -> Inżynieria geotechniczna | E86: ='st stacj I st plan VIII'!AB253 -> 15 | F86: =SUM('st stacj I st plan VIII'!AC253:AE253) -> 15 | G86: ='ECTS roboczy aktualny'!D53 -> 3
A87: 10 | B87: D.2.1.4/D.2.2.4 | C87: ='st stacj I st plan VIII'!B256 -> Konstrukcje betonowe - obiekty | D87: ='st stacj I st plan VIII'!C256 -> Konstrukcje betonowe - hale | E87: ='st stacj I st plan VIII'!AB256 -> 30 | F87: =SUM('st stacj I st plan VIII'!AC256:AE256) -> 30 | G87: ='ECTS roboczy aktualny'!D54 -> 5
A88: 11 | B88: D.2.1.6/D.2.2.6 | C88: ='st stacj I st plan VIII'!B258 -> Budownictwo drewniane | D88: ='st stacj I st plan VIII'!C258 -> Szkieletowe konstrukcje drewniane | E88: ='st stacj I st plan VIII'!AB258 -> 15 | F88: =SUM('st stacj I st plan VIII'!AC258:AE258) -> 15 | G88: ='ECTS roboczy aktualny'!D55 -> 3
A89: Suma punktów kredytowych ECTS | G89: =SUM(G78:G88) -> 30
A91: DLA STUDENTÓW, KTÓRZY WYBRALI PRZEDMIOTY OBIERALNE - BLOK E1
B92: Zestaw | E92: Liczba godzin | G92: Punkty
A93: L.p. | B93: przedmiotów | C93: Nazwa przedmiotu | E93: w semestrze | G93: kredytowe | H93: Strona
B94: (kod) | E94: wykłady | F94: ćwiczenia | G94: ECTS
A95: Rok 3 Semestr 6
A96: 1 | B96: A.1 | C96: ='st stacj I st plan VIII'!B43 -> Język obcy 3) | F96: =SUM('st stacj I st plan VIII'!AG43:AI43) -> 30 | G96: ='ECTS roboczy aktualny'!D62 -> 1
A97: 2 | B97: C.10 | C97: ='st stacj I st plan VIII'!B144 -> Wytrzymałość materiałów II | E97: ='st stacj I st plan VIII'!AF144 -> 15 | F97: =SUM('st stacj I st plan VIII'!AG144:AI144) -> 15 | G97: ='ECTS roboczy aktualny'!D73 -> 2
A98: 3 | B98: C.24 | C98: ='st stacj I st plan VIII'!B158 -> Elementy charakterystyki energetycznej budynków | E98: ='st stacj I st plan VIII'!AF158 -> 15 | F98: =SUM('st stacj I st plan VIII'!AG158:AI158) -> 15 | G98: ='ECTS roboczy aktualny'!D71 -> 2
A99: 4 | B99: C.27 | C99: ='st stacj I st plan VIII'!B161 -> Organizacja robót budowlanych | E99: ='st stacj I st plan VIII'!AF161 -> 15 | F99: =SUM('st stacj I st plan VIII'!AG161:AI161) -> 15 | G99: ='ECTS roboczy aktualny'!D70 -> 2
A100: 5 | B100: C.29 | C100: ='st stacj I st plan VIII'!B163 -> Procedury projektowania i realizacji obiektów budowlanych | E100: ='st stacj I st plan VIII'!AF163 -> 15 | G100: ='ECTS roboczy aktualny'!D76 -> 1
A101: 6 | B101: C.30 | C101: ='st stacj I st plan VIII'!B164 -> Kosztorysowanie w budownictwie | F101: =SUM('st stacj I st plan VIII'!AI164) -> 15 | G101: ='ECTS roboczy aktualny'!D72 -> 1
A102: 7 | B102: D1.1.3/D1.2.3 | C102: ='st stacj I st plan VIII'!B209 -> Organizacja i zarządzanie drogami i ruchem drogowym w miastach | D102: ='st stacj I st plan VIII'!C209 -> Organizacja i zarządzanie drogami i ruchem drogowym na drogach zamiejskich | E102: ='st stacj I st plan VIII'!AF209 -> 15 | F102: =SUM('st stacj I st plan VIII'!AG209:AI209) -> 30 | G102: ='ECTS roboczy aktualny'!D64 -> 2
A103: 8 | B103: D1.1.4/D1.2.4 | C103: ='st stacj I st plan VIII'!B210 -> Inżynieria drogowego ruchu miejskiego | D103: ='st stacj I st plan VIII'!C210 -> Inżynieria drogowego ruchu zamiejskiego | E103: ='st stacj I st plan VIII'!AF210 -> 15 | F103: =SUM('st stacj I st plan VIII'!AG210:AI210) -> 15 | G103: ='ECTS roboczy aktualny'!D65 -> 2
A104: 9 | B104: D2.1.2/D2.2.2 | C104: ='st stacj I st plan VIII'!B254 -> Pomiary inżynierskie | D104: ='st stacj I st plan VIII'!C254 -> Geodezja inżynieryjna | E104: ='st stacj I st plan VIII'!AF254 -> 15 | F104: =SUM('st stacj I st plan VIII'!AG254:AI254) -> 15 | G104: ='ECTS roboczy aktualny'!D66 -> 2
A105: 10 | B105: D.2.1.3/D2.2.3 | C105: ='st stacj I st plan VIII'!B255 -> Eksploatacja obiektów budowlanych | D105: ='st stacj I st plan VIII'!C255 -> Utrzymanie obiektów budowlanych | E105: ='st stacj I st plan VIII'!AF255 -> 15 | G105: ='ECTS roboczy aktualny'!D75 -> 2
A106: 11 | B106: D.2.1.5/D.2.2.5 | C106: ='st stacj I st plan VIII'!B257 -> Konstrukcje metalowe - obiekty | D106: ='st stacj I st plan VIII'!C257 -> Kubaturowe konstrukcje stalowe | E106: ='st stacj I st plan VIII'!AF257 -> 15 | F106: =SUM('st stacj I st plan VIII'!AG257:AI257) -> 30 | G106: ='ECTS roboczy aktualny'!D74 -> 3
A107: 12 | B107: E.1.1 | C107: ='st stacj I st plan VIII'!B298 -> Planowanie i projektowanie infrastruktury drogowej II | E107: ='st stacj I st plan VIII'!AF298 -> 15 | F107: =SUM('st stacj I st plan VIII'!AG298:AI298) -> 15 | G107: ='ECTS roboczy aktualny'!D67 -> 3
...

Sheet ECTS roboczy aktualny
B2: ECTS
B3: Semestr | C3: Przedmioty | D3: Suma
B4: 1 | C4: Matematyka | D4: 8
C5: Fizyka | D5: 1
C6: Chemia | D6: 2
C7: Geologia | D7: 3
C8: Mechanika teoretyczna | D8: 4
C9: Geometria wykreślna | D9: 3
C10: Rysunek techniczny | D10: 1
C11: Budownictwo komunikacyjne | D11: 3
C12: Wyroby budowlane | D12: 5
B13: 1 Suma | D13: 30
B14: 2 | C14: Matematyka | D14: 4
C15: Statystyka stosowana | D15: 2
C16: Rysunek techniczny | D16: 2
C17: Geodezja | D17: 3
C18: Technologia betonów i zapraw | D18: 3
C19: Budownictwo ogólne | D19: 2
C20: Fizyka budowli | D20: 4
C21: Hydraulika i hydrologia | D21: 1
C22: Podstawy projektowania konstrukcji | D22: 1
C23: Metody komputerowe I | D23: 2
C24: Wytrzymałość materiałów I | D24: 6
B25: 2 Suma | D25: 30
B26: 3 | C26: Bezpieczeństwo pracy i ergonomia | D26: 1
C27: Język obcy | D27: 2
C28: Wychowanie fizyczne | D28: 0
C29: Metody obliczeniowe | D29: 4
C30: Mechanika budowli | D30: 6
C31: Budownictwo ogólne | D31: 4
C32: Mechanika gruntów | D32: 6
C33: Konstrukcje betonowe - podstawy | D33: 3
C34: Wytrzymałość materiałów I | D34: 4
B35: 3 Suma | D35: 30
B36: 4 | C36: Język obcy | D36: 1
C37: Wychowanie fizyczne | D37: 0
C38: Mechanika budowli | D38: 4
C39: Budownictwo ogólne | D39: 4
C40: Fundamentowanie | D40: 4
C41: Podstawy kierowania procesem inwestycyjnym | D41: 1
C42: Ekonomika budownictwa | D42: 1
C43: Praktyka zawodowa | D43: 3
C44: Technologia robót budowlanych | D44: 2
C45: Konstrukcje metalowe - podstawy | D45: 2
C46: Konstrukcje betonowe - elementy | D46: 3
C47: Instalacje budowlane i OZE | D47: 3
C48: Metody komputerowe II | D48: 2
B49: 4 Suma | D49: 30
B50: 5 | C50: Język obcy 3) | D50: 1
C51: Planowanie i projektowanie drogowej infrastruktury miejskiej/Planowanie i projektowanie drogowej infrastruktury zamiejskiej | D51: 3
C52: Budowa i utrzymanie drogowej infrastuktury miejskiej/Budowa i utrzymanie drogowej infrastuktury zamiejskiej | D52: 4
C53: Fundamentowanie II/Inżynieria geotechniczna | D53: 3
C54: Konstrukcje betonowe II/Kubaturowe konstrukcje betonowe | D54: 5
C55: Budownictwo drewniane/Szkieletowe konstrukcje drewniane | D55: 3
C56: Technologia robót budowlanych | D56: 2
C57: Organizacja robót budowlanych | D57: 2
C58: Podstawy BIM | D58: 2
C59: Konstrukcje metalowe - elementy | D59: 3
C60: Prefabrykacja w budownictwie | D60: 2
B61: 5 Suma | D61: 30
B62: 6 | C62: Język obcy 3) | D62: 1
C63: Praktyka przeddyplomowa | D63: 2
C64: Organizacja i zarządzanie drogami i ruchem drogowym w miastach/Organizacja i zarządzanie drogami i ruchem drogowym na drogach zamiejskich | D64: 2
C65: Inżynieria drogowego ruchu miejskiego/Inżynieria drogowego ruchu zamiejskiego | D65: 2
C66: Pomiary inżynierskie/Geodezja inżynieryjna | D66: 2
C67: Planowanie i projektowanie infrastruktury drogowej II | D67: 3
C68: Lotniska | D68: 2
C69: Nawierzchnie drogowe | D69: 3
C70: Organizacja robót budowlanych | D70: 2
C71: Elementy charakterystyki energetycznej budynków | D71: 2
C72: Kosztorysownie w budownictwie | D72: 1
C73: Wytrzymałość materiałów II | D73: 2
C74: Konstrukcje metalowe - obiekty/Kubaturowe konstrukcje stalowe | D74: 3
... C76: Procedury projektowania i realizacji obiektów budowlanych | D76: 1
B77: 6 Suma | D77: 30
B78: 7 | C78: Podstawy przedsiębiorczości | D78: 1
C79: Prawo w budownictwie | D79: 2
C80: Inżynieria ruchu drogowego II | D80: 2
C81: Seminarium dyplomowe | D81: 9
C82: Przygotowanie i złożenie pracy dyplomowej oraz przygotowanie do egzaminu dyplomowego | D82: 15
C83: Psychospołeczne aspekty sukcesu zawodowego | D83: 1
B84: 7 Suma | D84: 30
B85: Suma końcowa | D85: 210
